Workbook

Sheet 일위대가총괄표
B1: 일위대가총괄표
B3: 호 표 | C3: 품 명 | D3: 규 격 | E3: 단위 | F3: 합 계 | G3: 재료비 | H3: 노무비 | I3: 경 비 | J3: 비 고
B4: 제1호표 | C4: =일위대가!C5 -> 토류판설치 및 철거 | D4: =일위대가!D5 -> 100*150*2000 3개월미만 1회 | E4: ㎡ | F4: =G4+H4+I4 -> 73172 | G4: =일위대가!J5 -> 25094 | H4: =일위대가!L5 -> 43945 | I4: =일위대가!N5 -> 4133
B5: 제2호표 | C5: =일위대가!C16 -> 토류판설치 및 철거 | D5: =일위대가!D16 -> 90*150*2000 3개월미만 1회 | E5: ㎡ | F5: =G5+H5+I5 -> 70971 | G5: =일위대가!J16 -> 22893 | H5: =일위대가!L16 -> 43945 | I5: =일위대가!N16 -> 4133
B6: 제3호표 | C6: =일위대가!C27 -> 토류판설치 및 철거 | D6: =일위대가!D27 -> 70*150*2000 3개월미만 1회 | E6: ㎡ | F6: =G6+H6+I6 -> 66570 | G6: =일위대가!J27 -> 18492 | H6: =일위대가!L27 -> 43945 | I6: =일위대가!N27 -> 4133
B7: 제4호표 | C7: =일위대가!C38 -> 토류판설치 및 철거 | D7: =일위대가!D38 -> 100*150*2000 3개월미만 2회 | E7: ㎡ | F7: =G7+H7+I7 -> 84175 | G7: =일위대가!J38 -> 36097 | H7: =일위대가!L38 -> 43945 | I7: =일위대가!N38 -> 4133
B8: 제5호표 | C8: =일위대가!C49 -> 토류판설치 및 철거 | D8: =일위대가!D49 -> 90*150*2000 3개월미만 2회 | E8: ㎡ | F8: =G8+H8+I8 -> 80874 | G8: =일위대가!J49 -> 32796 | H8: =일위대가!L49 -> 43945 | I8: =일위대가!N49 -> 4133
B9: 제6호표 | C9: =일위대가!C60 -> 토류판설치 및 철거 | D9: =일위대가!D60 -> 70*150*2000 3개월미만 2회 | E9: ㎡ | F9: =G9+H9+I9 -> 74272 | G9: =일위대가!J60 -> 26194 | H9: =일위대가!L60 -> 43945 | I9: =일위대가!N60 -> 4133
B10: 제7호표 | C10: =일위대가!C71 -> 토류판설치 및 철거 | D10: =일위대가!D71 -> 100*150*2000 3개월이상 ~ 6개월미만 | E10: ㎡ | F10: =G10+H10+I10 -> 84175 | G10: =일위대가!J71 -> 36097 | H10: =일위대가!L71 -> 43945 | I10: =일위대가!N71 -> 4133
B11: 제8호표 | C11: =일위대가!C82 -> 토류판설치 및 철거 | D11: =일위대가!D82 -> 90*150*2000 3개월이상 ~ 6개월미만 | E11: ㎡ | F11: =G11+H11+I11 -> 80874 | G11: =일위대가!J82 -> 32796 | H11: =일위대가!L82 -> 43945 | I11: =일위대가!N82 -> 4133
B12: 제9호표 | C12: =일위대가!C93 -> 토류판설치 및 철거 | D12: =일위대가!D93 -> 90*150*2000 3개월이상 ~ 6개월미만 | E12: ㎡ | F12: =G12+H12+I12 -> 74272 | G12: =일위대가!J93 -> 26194 | H12: =일위대가!L93 -> 43945 | I12: =일위대가!N93 -> 4133

Sheet 일위대가
B1: 일위대가
B3: 호 표 | C3: 품 명 | D3: 규 격 | E3: 수 량 | F3: 단위 | G3: 합 계 | I3: 재료비 | K3: 노무비 | M3: 경 비 | O3: 비 고
G4: 단 가 | H4: 금 액 | I4: 단 가 | J4: 금 액 | K4: 단 가 | L4: 금 액 | M4: 단 가 | N4: 금 액
B5: 제1호표 | C5: 토류판설치 및 철거 | D5: 100*150*2000 3개월미만 1회 | F5: ㎡ | H5: =J5+L5+N5 -> 73172 | J5: =TRUNC(J6+J7+J8+J9+J10+J11+J12+J13+J14) -> 25094 | L5: =TRUNC(L6+L7+L8+L9+L10+L11+L12+L13+L14) -> 43945 | N5: =TRUNC(N6+N7+N8+N9+N10+N11+N12+N13+N14) -> 4133
C6: 외송각재 | D6: 30×30×3600mm | E6: 1 | F6: ㎡ | G6: =I6+K6+M6 -> 22005.9 | H6: =J6+L6+N6 -> 22005.9 | I6: =단가산출!BZ10 -> 22,005.9 | J6: =TRUNC(E6*I6,1) -> 22005.9 | K6: 0 | L6: =TRUNC(E6*K6,1) -> 0 | M6: 0 | N6: =TRUNC(E6*M6,1) -> 0
C7: 보통철선 | D7: #8,4.0mm | E7: 1 | F7: ㎡ | G7: =I7+K7+M7 -> 128.7 | H7: =J7+L7+N7 -> 128.7 | I7: =단가산출!BK12 -> 128.7 | J7: =TRUNC(E7*I7,1) -> 128.7 | K7: 0 | L7: =TRUNC(E7*K7,1) -> 0 | M7: 0 | N7: =TRUNC(E7*M7,1) -> 0
C8: 형틀목공 | D8: 설치 | E8: 0.073 | F8: 인 | G8: =I8+K8+M8 -> 189303 | H8: =J8+L8+N8 -> 13819.1 | I8: 0 | J8: =TRUNC(E8*I8,1) -> 0 | K8: =노임단가!L6 -> 189303 | L8: =TRUNC(E8*K8,1) -> 13819.1 | M8: 0 | N8: =TRUNC(E8*M8,1) -> 0
C9: 보통인부 | D9: 설치 | E9: 0.038 | F9: 인 | G9: =I9+K9+M9 -> 109819 | H9: =J9+L9+N9 -> 4173.1 | I9: 0 | J9: =TRUNC(E9*I9,1) -> 0 | K9: =노임단가!L5 -> 109819 | L9: =TRUNC(E9*K9,1) -> 4173.1 | M9: 0 | N9: =TRUNC(E9*M9,1) -> 0
C10: 공구손료 빛 경장비(엔진톱등) | D10: 노무비의 1.5% | E10: 1.5 | F10: % | G10: =I10+K10+M10 -> 17992.2 | H10: =J10+L10+N10 -> 269.8 | I10: =H8+H9 -> 17992.2 | J10: =TRUNC(E10*I10/100,1) -> 269.8 | K10: 0 | L10: =TRUNC(E10*K10,1) -> 0 | N10: =TRUNC(E10/100*M10,1) -> 0
C11: 굴삭기 | D11: 0.2㎥ 설치 | E11: 0.192 | F11: hr | G11: =I11+K11+M11 -> 53476 | H11: =J11+L11+N11 -> 10267.3 | I11: =기계경비총괄표!G4 -> 7774 | J11: =TRUNC(E11*I11,1) -> 1492.6 | K11: =기계경비총괄표!H4 -> 33754 | L11: =TRUNC(E11*K11,1) -> 6480.7 | M11: =기계경비총괄표!I4 -> 11948 | N11: =TRUNC(E11*M11,1) -> 2294
C12: 형틀목공 | D12: 철거 | E12: 0.058 | F12: 인 | G12: =I12+K12+M12 -> 189303 | H12: =J12+L12+N12 -> 10979.5 | I12: 0 | J12: =TRUNC(E12*I12,1) -> 0 | K12: =노임단가!L6 -> 189303 | L12: =TRUNC(E12*K12,1) -> 10979.5 | M12: 0 | N12: =TRUNC(E12*M12,1) -> 0
C13: 보통인부 | D13: 철거 | E13: 0.03 | F13: 인 | G13: =I13+K13+M13 -> 109819 | H13: =J13+L13+N13 -> 3294.5 | I13: 0 | J13: =TRUNC(E13*I13,1) -> 0 | K13: =노임단가!L5 -> 109819 | L13: =TRUNC(E13*K13,1) -> 3294.5 | M13: 0 | N13: =TRUNC(E13*M13,1) -> 0
C14: 굴삭기 | D14: 0.2㎥ 철거 | E14: 0.154 | F14: hr | G14: =I14+K14+M14 -> 53476 | H14: =J14+L14+N14 -> 8235.1 | I14: =기계경비총괄표!G4 -> 7774 | J14: =TRUNC(E14*I14,1) -> 1197.1 | K14: =기계경비총괄표!H4 -> 33754 | L14: =TRUNC(E14*K14,1) -> 5198.1 | M14: =기계경비총괄표!I4 -> 11948 | N14: =TRUNC(E14*M14,1) -> 1839.9
B16: 제2호표 | C16: 토류판설치 및 철거 | D16: 90*150*2000 3개월미만 1회 | F16: ㎡ | H16: =J16+L16+N16 -> 70971 | J16: =TRUNC(J17+J18+J19+J20+J21+J22+J23+J24+J25) -> 22893 | L16: =TRUNC(L17+L18+L19+L20+L21+L22+L23+L24+L25) -> 43945 | N16: =TRUNC(N17+N18+N19+N20+N21+N22+N23+N24+N25) -> 4133
C17: 외송각재 | D17: 30×30×3600mm | E17: 1 | F17: ㎡ | G17: =I17+K17+M17 -> 19805.3 | H17: =J17+L17+N17 -> 19805.3 | I17: =단가산출!CI84 -> 19,805.3 | J17: =TRUNC(E17*I17,1) -> 19805.3 | K17: 0 | L17: =TRUNC(E17*K17,1) -> 0 | M17: 0 | N17: =TRUNC(E17*M17,1) -> 0
C18: 보통철선 | D18: #8,4.0mm | E18: 1 | F18: ㎡ | G18: =I18+K18+M18 -> 128.7 | H18: =J18+L18+N18 -> 128.7 | I18: =단가산출!BK86 -> 128.7 | J18: =TRUNC(E18*I18,1) -> 128.7 | K18: 0 | L18: =TRUNC(E18*K18,1) -> 0 | M18: 0 | N18: =TRUNC(E18*M18,1) -> 0
C19: 형틀목공 | D19: 설치 | E19: 0.073 | F19: 인 | G19: =I19+K19+M19 -> 189303 | H19: =J19+L19+N19 -> 13819.1 | I19: 0 | J19: =TRUNC(E19*I19,1) -> 0 | K19: =노임단가!L6 -> 189303 | L19: =TRUNC(E19*K19,1) -> 13819.1 | M19: 0 | N19: =TRUNC(E19*M19,1) -> 0
C20: 보통인부 | D20: 설치 | E20: 0.038 | F20: 인 | G20: =I20+K20+M20 -> 109819 | H20: =J20+L20+N20 -> 4173.1 | I20: 0 | J20: =TRUNC(E20*I20,1) -> 0 | K20: =노임단가!L5 -> 109819 | L20: =TRUNC(E20*K20,1) -> 4173.1 | M20: 0 | N20: =TRUNC(E20*M20,1) -> 0
C21: 공구손료 빛 경장비(엔진톱등) | D21: 노무비의 1.5% | E21: 1.5 | F21: % | G21: =I21+K21+M21 -> 17992.2 | H21: =J21+L21+N21 -> 269.8 | I21: =H19+H20 -> 17992.2 | J21: =TRUNC(E21*I21/100,1) -> 269.8 | K21: 0 | L21: =TRUNC(E21*K21,1) -> 0 | N21: =TRUNC(E21/100*M21,1) -> 0
C22: 굴삭기 | D22: 0.2㎥ 설치 | E22: 0.192 | F22: hr | G22: =I22+K22+M22 -> 53476 | H22: =J22+L22+N22 -> 10267.3 | I22: =기계경비총괄표!G4 -> 7774 | J22: =TRUNC(E22*I22,1) -> 1492.6 | K22: =기계경비총괄표!H4 -> 33754 | L22: =TRUNC(E22*K22,1) -> 6480.7 | M22: =기계경비총괄표!I4 -> 11948 | N22: =TRUNC(E22*M22,1) -> 2294
C23: 형틀목공 | D23: 철거 | E23: 0.058 | F23: 인 | G23: =I23+K23+M23 -> 189303 | H23: =J23+L23+N23 -> 10979.5 | I23: 0 | J23: =TRUNC(E23*I23,1) -> 0 | K23: =노임단가!L6 -> 189303 | L23: =TRUNC(E23*K23,1) -> 10979.5 | M23: 0 | N23: =TRUNC(E23*M23,1) -> 0
C24: 보통인부 | D24: 철거 | E24: 0.03 | F24: 인 | G24: =I24+K24+M24 -> 109819 | H24: =J24+L24+N24 -> 3294.5 | I24: 0 | J24: =TRUNC(E24*I24,1) -> 0 | K24: =노임단가!L5 -> 109819 | L24: =TRUNC(E24*K24,1) -> 3294.5 | M24: 0 | N24: =TRUNC(E24*M24,1) -> 0
C25: 굴삭기 | D25: 0.2㎥ 철거 | E25: 0.154 | F25: hr | G25: =I25+K25+M25 -> 53476 | H25: =J25+L25+N25 -> 8235.1 | I25: =기계경비총괄표!G4 -> 7774 | J25: =TRUNC(E25*I25,1) -> 1197.1 | K25: =기계경비총괄표!H4 -> 33754 | L25: =TRUNC(E25*K25,1) -> 5198.1 | M25: =기계경비총괄표!I4 -> 11948 | N25: =TRUNC(E25*M25,1) -> 1839.9
B27: 제3호표 | C27: 토류판설치 및 철거 | D27: 70*150*2000 3개월미만 1회 | F27: ㎡ | H27: =J27+L27+N27 -> 66570 | J27: =TRUNC(J28+J29+J30+J31+J32+J33+J34+J35+J36) -> 18492 | L27: =TRUNC(L28+L29+L30+L31+L32+L33+L34+L35+L36) -> 43945 | N27: =TRUNC(N28+N29+N30+N31+N32+N33+N34+N35+N36) -> 4133
C28: 외송각재 | D28: 30×30×3600mm | E28: 1 | F28: ㎡ | G28: =I28+K28+M28 -> 15404.1 | H28: =J28+L28+N28 -> 15404.1 | I28: =단가산출!CI158 -> 15,404.1 | J28: =TRUNC(E28*I28,1) -> 15404.1 | K28: 0 | L28: =TRUNC(E28*K28,1) -> 0 | M28: 0 | N28: =TRUNC(E28*M28,1) -> 0
C29: 보통철선 | D29: #8,4.0mm | E29: 1 | F29: ㎡ | G29: =I29+K29+M29 -> 128.7 | H29: =J29+L29+N29 -> 128.7 | I29: =단가산출!BK160 -> 128.7 | J29: =TRUNC(E29*I29,1) -> 128.7 | K29: 0 | L29: =TRUNC(E29*K29,1) -> 0 | M29: 0 | N29: =TRUNC(E29*M29,1) -> 0
C30: 형틀목공 | D30: 설치 | E30: 0.073 | F30: 인 | G30: =I30+K30+M30 -> 189303 | H30: =J30+L30+N30 -> 13819.1 | I30: 0 | J30: =TRUNC(E30*I30,1) -> 0 | K30: =노임단가!L6 -> 189303 | L30: =TRUNC(E30*K30,1) -> 13819.1 | M30: 0 | N30: =TRUNC(E30*M30,1) -> 0
C31: 보통인부 | D31: 설치 | E31: 0.038 | F31: 인 | G31: =I31+K31+M31 -> 109819 | H31: =J31+L31+N31 -> 4173.1 | I31: 0 | J31: =TRUNC(E31*I31,1) -> 0 | K31: =노임단가!L5 -> 109819 | L31: =TRUNC(E31*K31,1) -> 4173.1 | M31: 0 | N31: =TRUNC(E31*M31,1) -> 0
C32: 공구손료 빛 경장비(엔진톱등) | D32: 노무비의 1.5% | E32: 1.5 | F32: % | G32: =I32+K32+M32 -> 17992.2 | H32: =J32+L32+N32 -> 269.8 | I32: =H30+H31 -> 17992.2 | J32: =TRUNC(E32*I32/100,1) -> 269.8 | K32: 0 | L32: =TRUNC(E32*K32,1) -> 0 | N32: =TRUNC(E32/100*M32,1) -> 0
C33: 굴삭기 | D33: 0.2㎥ 설치 | E33: 0.192 | F33: hr | G33: =I33+K33+M33 -> 53476 | H33: =J33+L33+N33 -> 10267.3 | I33: =기계경비총괄표!G4 -> 7774 | J33: =TRUNC(E33*I33,1) -> 1492.6 | K33: =기계경비총괄표!H4 -> 33754 | L33: =TRUNC(E33*K33,1) -> 6480.7 | M33: =기계경비총괄표!I4 -> 11948 | N33: =TRUNC(E33*M33,1) -> 2294
C34: 형틀목공 | D34: 철거 | E34: 0.058 | F34: 인 | G34: =I34+K34+M34 -> 189303 | H34: =J34+L34+N34 -> 10979.5 | I34: 0 | J34: =TRUNC(E34*I34,1) -> 0 | K34: =노임단가!L6 -> 189303 | L34: =TRUNC(E34*K34,1) -> 10979.5 | M34: 0 | N34: =TRUNC(E34*M34,1) -> 0
C35: 보통인부 | D35: 철거 | E35: 0.03 | F35: 인 | G35: =I35+K35+M35 -> 109819 | H35: =J35+L35+N35 -> 3294.5 | I35: 0 | J35: =TRUNC(E35*I35,1) -> 0 | K35: =노임단가!L5 -> 109819 | L35: =TRUNC(E35*K35,1) -> 3294.5 | M35: 0 | N35: =TRUNC(E35*M35,1) -> 0
C36: 굴삭기 | D36: 0.2㎥ 철거 | E36: 0.154 | F36: hr | G36: =I36+K36+M36 -> 53476 | H36: =J36+L36+N36 -> 8235.1 | I36: =기계경비총괄표!G4 -> 7774 | J36: =TRUNC(E36*I36,1) -> 1197.1 | K36: =기계경비총괄표!H4 -> 33754 | L36: =TRUNC(E36*K36,1) -> 5198.1 | M36: =기계경비총괄표!I4 -> 11948 | N36: =TRUNC(E36*M36,1) -> 1839.9
B38: 제4호표 | C38: 토류판설치 및 철거 | D38: 100*150*2000 3개월미만 2회 | F38: ㎡ | H38: =J38+L38+N38 -> 84175 | J38: =TRUNC(J39+J40+J41+J42+J43+J44+J45+J46+J47) -> 36097 | L38: =TRUNC(L39+L40+L41+L42+L43+L44+L45+L46+L47) -> 43945 | N38: =TRUNC(N39+N40+N41+N42+N43+N44+N45+N46+N47) -> 4133
C39: 외송각재 | D39: 30×30×3600mm | E39: 1 | F39: ㎡ | G39: =I39+K39+M39 -> 33008.8 | H39: =J39+L39+N39 -> 33008.8 | I39: =단가산출!BZ232 -> 33,008.8 | J39: =TRUNC(E39*I39,1) -> 33008.8 | K39: 0 | L39: =TRUNC(E39*K39,1) -> 0 | M39: 0 | N39: =TRUNC(E39*M39,1) -> 0
C40: 보통철선 | D40: #8,4.0mm | E40: 1 | F40: ㎡ | G40: =I40+K40+M40 -> 128.7 | H40: =J40+L40+N40 -> 128.7 | I40: =단가산출!BK234 -> 128.7 | J40: =TRUNC(E40*I40,1) -> 128.7 | K40: 0 | L40: =TRUNC(E40*K40,1) -> 0 | M40: 0 | N40: =TRUNC(E40*M40,1) -> 0
C41: 형틀목공 | D41: 설치 | E41: 0.073 | F41: 인 | G41: =I41+K41+M41 -> 189303 | H41: =J41+L41+N41 -> 13819.1 | I41: 0 | J41: =TRUNC(E41*I41,1) -> 0 | K41: =노임단가!L6 -> 189303 | L41: =TRUNC(E41*K41,1) -> 13819.1 | M41: 0 | N41: =TRUNC(E41*M41,1) -> 0
C42: 보통인부 | D42: 설치 | E42: 0.038 | F42: 인 | G42: =I42+K42+M42 -> 109819 | H42: =J42+L42+N42 -> 4173.1 | I42: 0 | J42: =TRUNC(E42*I42,1) -> 0 | K42: =노임단가!L5 -> 109819 | L42: =TRUNC(E42*K42,1) -> 4173.1 | M42: 0 | N42: =TRUNC(E42*M42,1) -> 0
C43: 공구손료 빛 경장비(엔진톱등) | D43: 노무비의 1.5% | E43: 1.5 | F43: % | G43: =I43+K43+M43 -> 17992.2 | H43: =J43+L43+N43 -> 269.8 | I43: =H41+H42 -> 17992.2 | J43: =TRUNC(E43*I43/100,1) -> 269.8 | K43: 0 | L43: =TRUNC(E43*K43,1) -> 0 | N43: =TRUNC(E43/100*M43,1) -> 0
C44: 굴삭기 | D44: 0.2㎥ 설치 | E44: 0.192 | F44: hr | G44: =I44+K44+M44 -> 53476 | H44: =J44+L44+N44 -> 10267.3 | I44: =기계경비총괄표!G4 -> 7774 | J44: =TRUNC(E44*I44,1) -> 1492.6 | K44: =기계경비총괄표!H4 -> 33754 | L44: =TRUNC(E44*K44,1) -> 6480.7 | M44: =기계경비총괄표!I4 -> 11948 | N44: =TRUNC(E44*M44,1) -> 2294
...

Sheet 단가산출총괄표
B1: 단가산출총괄표
B3: No | C3: 품 명 | D3: 규 격 | E3: 단위 | F3: 합 계 | G3: 재료비 | H3: 노무비 | I3: 경 비 | J3: 비 고
B4: 1 | C4: 토류판 설치 및 철거 | D4: 100*150*2000 | E4: ㎡ | F4: =G4+H4+I4 -> 73172 | G4: =단가산출!CP76 -> 25,094 | H4: =단가산출!CQ76 -> 43,945 | I4: =단가산출!CR76 -> 4,133 | J4: 3개월미만 1회
B5: =B4+1 -> 2 | C5: 토류판 설치 및 철거 | D5: 90*150*2000 | E5: ㎡ | F5: =G5+H5+I5 -> 70971 | G5: =단가산출!CP78 -> 22,893 | H5: =단가산출!CQ78 -> 43,945 | I5: =단가산출!CR78 -> 4,133 | J5: 3개월미만 1회
B6: =B5+1 -> 3 | C6: 토류판 설치 및 철거 | D6: 70*150*2000 | E6: ㎡ | F6: =G6+H6+I6 -> 66570 | G6: =단가산출!CP152 -> 18,492 | H6: =단가산출!CQ152 -> 43,945 | I6: =단가산출!CR152 -> 4,133 | J6: 3개월미만 1회
B7: =B6+1 -> 4 | C7: 토류판 설치 및 철거 | D7: 100*150*2000 | E7: ㎡ | F7: =G7+H7+I7 -> 86559 | G7: =단가산출!CP226 -> 36,097 | H7: =단가산출!CQ226 -> 46,329 | I7: =단가산출!CR226 -> 4,133 | J7: 3개월미만 2회
B8: =B7+1 -> 5 | C8: 토류판 설치 및 철거 | D8: 90*150*2000 | E8: ㎡ | F8: =G8+H8+I8 -> 80874 | G8: =단가산출!CP300 -> 32,796 | H8: =단가산출!CQ300 -> 43,945 | I8: =단가산출!CR300 -> 4,133 | J8: 3개월미만 2회
B9: =B8+1 -> 6 | C9: 토류판 설치 및 철거 | D9: 70*150*2000 | E9: ㎡ | F9: =G9+H9+I9 -> 74272 | G9: =단가산출!CP374 -> 26,194 | H9: =단가산출!CQ374 -> 43,945 | I9: =단가산출!CR374 -> 4,133 | J9: 3개월미만 2회
B10: =B9+1 -> 7 | C10: 토류판 설치 및 철거 | D10: 100*150*2000 | E10: ㎡ | F10: =G10+H10+I10 -> 84175 | G10: =단가산출!CP448 -> 36,097 | H10: =단가산출!CQ448 -> 43,945 | I10: =단가산출!CR448 -> 4,133 | J10: 3개월이상 ~ 6개월미만
B11: =B10+1 -> 8 | C11: 토류판 설치 및 철거 | D11: 90*150*2000 | E11: ㎡ | F11: =G11+H11+I11 -> 80874 | G11: =단가산출!CP522 -> 32,796 | H11: =단가산출!CQ522 -> 43,945 | I11: =단가산출!CR522 -> 4,133 | J11: 3개월이상 ~ 6개월미만
B12: =B11+1 -> 9 | C12: 토류판 설치 및 철거 | D12: 70*150*2000 | E12: ㎡ | F12: =G12+H12+I12 -> 74272 | G12: =단가산출!CP596 -> 26,194 | H12: =단가산출!CQ596 -> 43,945 | I12: =단가산출!CR596 -> 4,133 | J12: 3개월이상 ~ 6개월미만

Sheet 단가산출
B1: 단가산출
B3: 산 출 근 거 | C3: 합 계 | D3: 노무비 | E3: 재료비 | F3: 경 비 | CO3: 합 계 | CP3: 재료비 | CQ3: 노무비 | CR3: 경 비
B4: 1.토류판 설치 및 철거(100*150*2000) [㎡] | CO4: =CO76 -> 73172 | CP4: =CP76 -> 25,094 | CQ4: =CQ76 -> 43,945 | CR4: =CR76 -> 4,133 | EC4: =EC76 -> 73172 | ED4: =ED76 -> 25,094 | EE4: =EE76 -> 43,945 | EF4: =EF76 -> 4,133
D6: 1. | G6: 재료비 | N6: <품셈5-2-3>
G8: 3 | H8: 개월 | M8: 미만 | R8: 사용 | W8: 손율 | AB8: 50 | AD8: % | AF8: 적용 | AL8: 1회
G10: 외송각재,서울 | W10: (30×30×3600mm) | AP10: =TEXT(자재단가!R6,"#,##0.#######") -> 419,160. | AZ10: × | BC10: =TEXT(1.05,"#,##0.#######") -> 1.05 | BG10: ㎥ | BJ10: / | BL10: =TEXT(10,"#,##0.#######") -> 10. | BN10: ㎡ | BQ10: × | BT10: =TEXT(AB8,"#,##0.#######") -> 50. | BV10: % | BX10: = | BZ10: =TEXT(TRUNC(AP10*BC10/BL10*(BT10*(1/100)),1),"#,##0.#######") -> 22,005.9
G12: 보통철선,서울 | W12: (#8,4.0mm) | AJ12: =TEXT(자재단가!R5,"#,##0.#######") -> 1,250. | AR12: × | AU12: =TEXT(1.03,"#,##0.#######") -> 1.03 | AY12: kg | BB12: / | BD12: =TEXT(10,"#,##0.#######") -> 10. | BF12: ㎡ | BI12: = | BK12: =TEXT(TRUNC(AJ12*AU12/BD12,1),"#,##0.#######") -> 128.7
G14: 자재소계 | P14: : | S14: =TEXT(TRUNC(BZ10+BK12,1),"#,##0.#######") -> 22,134.6 | CP14: =S14 -> 22,134.6 | ED14: =S14 -> 22,134.6
D16: 2. | G16: 설치비
E18: 가 | G18: . | I18: 인 | L18: 력
G20: 형틀목공 | R20: : | T20: =TEXT(노임단가!L6,"#,##0") -> 189,303 | AD20: × | AG20: =TEXT(0.73,"#,##0.#######") -> 0.73 | AK20: 인 | AN20: / | AP20: =TEXT(10,"#,##0.#######") -> 10. | AR20: ㎡ | AU20: = | AW20: =TEXT(TRUNC(T20*AG20/AP20,1),"#,##0.#######") -> 13,819.1
G22: 보통인부 | R22: : | U22: =TEXT(노임단가!L5,"#,##0") -> 109,819 | AE22: × | AH22: =TEXT(0.38,"#,##0.#######") -> 0.38 | AL22: 인 | AO22: / | AQ22: =TEXT(10,"#,##0.#######") -> 10. | AS22: ㎡ | AV22: = | AX22: =TEXT(TRUNC(U22*AH22/AQ22,1),"#,##0.#######") -> 4,173.1
G24: 인부소계 | P24: : | R24: =TEXT(TRUNC(AW20+AX22,1),"#,##0.#######") -> 17,992.2 | CQ24: =R24 -> 17,992.2 | EE24: =R24 -> 17,992.2
G26: 공구손료 | P26: 및 | S26: 경장비 | Y26: ( | Z26: 엔진톱등 | AH26: ) | AJ26: ( | AK26: 노무비의 | AT26: 1.5 | AW26: % | AX26: )
H27: =R24 -> 17,992.2 | S27: × | V27: =TEXT(1.5,"#,##0.#######") -> 1.5 | Y27: % | AA27: = | AC27: =TEXT(TRUNC(R24*(V27*(1/100)),1),"#,##0.#") -> 269.8 | CO27: =CQ27+CP27+CR27 -> 269.8 | CP27: =AC27 -> 269.8 | EC27: =EE27+ED27+EF27 -> 269.8 | ED27: =AC27 -> 269.8
E29: 나 | G29: . | I29: 기 | L29: 계 | O29: : | Q29: 굴삭기(무한궤도) | AI29: (0.2㎥)
G31: Q | I31: = | K31: =TEXT(1.92,"#,##0.#######") -> 1.92 | O31: hr
G33: 노무비 | N33: : | P33: =TEXT(기계경비총괄표!H4,"#,##0") -> 33,754 | Y33: × | AB33: =TEXT(K31,"#,##0.#######") -> 1.92 | AI33: / | AK33: =TEXT(10,"#,##0.#######") -> 10. | AM33: ㎡ | AP33: = | AR33: =TEXT(TRUNC(P33*K31/AK33,1),"#,##0.#") -> 6,480.7
G34: 재료비 | N34: : | Q34: =TEXT(기계경비총괄표!G4,"#,##0") -> 7,774 | Y34: × | AB34: =TEXT(K31,"#,##0.#######") -> 1.92 | AI34: / | AK34: =TEXT(10,"#,##0.#######") -> 10. | AM34: ㎡ | AP34: = | AR34: =TEXT(TRUNC(Q34*K31/AK34,1),"#,##0.#") -> 1,492.6
G35: 경 | K35: 비 | N35: : | P35: =TEXT(기계경비총괄표!I4,"#,##0") -> 11,948 | Y35: × | AB35: =TEXT(K31,"#,##0.#######") -> 1.92 | AI35: / | AK35: =TEXT(10,"#,##0.#######") -> 10. | AM35: ㎡ | AP35: = | AR35: =TEXT(TRUNC(P35*K31/AK35,1),"#,##0.#") -> 2,294.
G36: 소 | K36: 계 | N36: : | AN36: =TEXT(AR33+AR34+AR35,"#,##0.#######") -> 10,267.3 | CO36: =CQ36+CP36+CR36 -> 10267.3 | CP36: =TEXT(AR34,"#,###.0") -> 1,492.6 | CQ36: =TEXT(AR33,"#,###.0") -> 6,480.7 | CR36: =TEXT(AR35,"#,###.0") -> 2,294.0 | EC36: =EE36+ED36+EF36 -> 10267.3 | ED36: =TEXT(AR34,"#,###.0") -> 1,492.6 | EE36: =TEXT(AR33,"#,###.0") -> 6,480.7 | EF36: =TEXT(AR35,"#,###.0") -> 2,294.0
E38: 다 | G38: . | I38: 소 | M38: 계
H40: 노무비 | O40: : | Q40: =TEXT(EE24,"#,###.##") -> 17,992.2 | Z40: + | AB40: =TEXT(EE36,"#,###.##") -> 6,480.7 | AJ40: = | AM40: =TEXT(TRUNC(EE24+EE36,1),"#,##0.#") -> 24,472.9
H41: 재료비 | O41: : | Q41: =TEXT(ED27,"#,###.##") -> 269.8 | W41: + | Y41: =TEXT(ED36,"#,###.##") -> 1,492.6 | AG41: = | AJ41: =TEXT(TRUNC(ED27+ED36,1),"#,##0.#") -> 1,762.4
H42: 경 | L42: 비 | O42: : | Q42: =EF36 -> 2,294.0
J43: 계 | O43: : | R43: =TEXT(AM40+AJ41+Q42,"#,##0.#######") -> 28,529.3 | CO43: =CQ43+CP43+CR43 -> 28529.3 | CP43: =TEXT(AJ41,"#,###.0") -> 1,762.4 | CQ43: =TEXT(AM40,"#,###.0") -> 24,472.9 | CR43: =TEXT(Q42,"#,###.0") -> 2,294.0 | EC43: =EE43+ED43+EF43 -> 28529.3 | ED43: =TEXT(AJ41,"#,###.0") -> 1,762.4 | EE43: =TEXT(AM40,"#,###.0") -> 24,472.9 | EF43: =TEXT(Q42,"#,###.0") -> 2,294.0
D45: 3. | G45: 철거비
E47: 가 | G47: . | I47: 인 | L47: 력
G49: 형틀목공 | R49: : | T49: =TEXT(노임단가!L6,"#,##0") -> 189,303 | AD49: × | AG49: =TEXT(0.58,"#,##0.#######") -> 0.58 | AK49: 인 | AN49: / | AP49: =TEXT(10,"#,##0.#######") -> 10. | AR49: ㎡ | AU49: = | AW49: =TEXT(TRUNC(T49*AG49/AP49,1),"#,##0.#######") -> 10,979.5
G51: 보통인부 | R51: : | U51: =TEXT(노임단가!L5,"#,##0") -> 109,819 | AE51: × | AH51: =TEXT(0.3,"#,##0.#######") -> 0.3 | AL51: 인 | AO51: / | AQ51: =TEXT(10,"#,##0.#######") -> 10. | AS51: ㎡ | AV51: = | AX51: =TEXT(TRUNC(U51*AH51/AQ51,1),"#,##0.#######") -> 3,294.5
G53: 인부소계 | P53: : | R53: =TEXT(TRUNC(AW49+AX51,1),"#,##0.#######") -> 14,274. | CQ53: =R53 -> 14,274. | EE53: =R53 -> 14,274.
E55: 나 | G55: . | I55: 기 | L55: 계 | O55: : | Q55: 굴삭기(무한궤도) | AI55: (0.2㎥)
G57: Q | I57: = | K57: =TEXT(1.54,"#,##0.#######") -> 1.54 | O57: hr
G59: 노무비 | N59: : | P59: =TEXT(기계경비총괄표!H4,"#,##0") -> 33,754 | Y59: × | AB59: =TEXT(K57,"#,##0.#######") -> 1.54 | AI59: / | AK59: =TEXT(10,"#,##0.#######") -> 10. | AM59: ㎡ | AP59: = | AR59: =TEXT(TRUNC(P59*K57/AK59,1),"#,##0.#") -> 5,198.1
G60: 재료비 | N60: : | Q60: =TEXT(기계경비총괄표!G4,"#,##0") -> 7,774 | Y60: × | AB60: =TEXT(K57,"#,##0.#######") -> 1.54 | AI60: / | AK60: =TEXT(10,"#,##0.#######") -> 10. | AM60: ㎡ | AP60: = | AR60: =TEXT(TRUNC(Q60*K57/AK60,1),"#,##0.#") -> 1,197.1
G61: 경 | K61: 비 | N61: : | P61: =TEXT(기계경비총괄표!I4,"#,##0") -> 11,948 | Y61: × | AB61: =TEXT(K57,"#,##0.#######") -> 1.54 | AI61: / | AK61: =TEXT(10,"#,##0.#######") -> 10. | AM61: ㎡ | AP61: = | AR61: =TEXT(TRUNC(P61*K57/AK61,1),"#,##0.#") -> 1,839.9
G62: 소 | K62: 계 | N62: : | AN62: =TEXT(AR59+AR60+AR61,"#,##0.#######") -> 8,235.1 | CO62: =CQ62+CP62+CR62 -> 8235.1 | CP62: =TEXT(AR60,"#,###.0") -> 1,197.1 | CQ62: =TEXT(AR59,"#,###.0") -> 5,198.1 | CR62: =TEXT(AR61,"#,###.0") -> 1,839.9 | EC62: =EE62+ED62+EF62 -> 8235.1 | ED62: =TEXT(AR60,"#,###.0") -> 1,197.1 | EE62: =TEXT(AR59,"#,###.0") -> 5,198.1 | EF62: =TEXT(AR61,"#,###.0") -> 1,839.9
E64: 다 | G64: . | I64: 소 | M64: 계
H66: 노무비 | O66: : | Q66: =TEXT(EE53,"#,###.##") -> 14,274. | X66: + | Z66: =TEXT(EE62,"#,###.##") -> 5,198.1 | AH66: = | AK66: =TEXT(TRUNC(EE53+EE62,1),"#,##0.#") -> 19,472.1
H67: 재료비 | O67: : | Q67: =ED62 -> 1,197.1
...

Sheet 기계경비총괄표
B1: 기계경비총괄표
B3: No | C3: 품 명 | D3: 규 격 | E3: 단위 | F3: 합 계 | G3: 재료비 | H3: 노무비 | I3: 경 비 | Z3: 당초합계 | AA3: 당초노무비 | AB3: 당초재료비 | AC3: 당초경비
B4: 1 | C4: 굴삭기(무한궤도) | D4: 2.0㎥ | E4: hr | F4: =H4+G4+I4 -> 53476 | G4: =기계경비!AA4 -> 7774 | H4: =기계경비!AB4 -> 33754 | I4: =기계경비!AC4 -> 11948 | Z4: 139263 | AA4: 33754 | AB4: 51420 | AC4: 54089

Sheet 기계경비
B1: 기계경비
B3: 명 칭 | C3: 규 격 | D3: 산 출 근 거 | Z3: 합 계 | AA3: 재료비 | AB3: 노무비 | AC3: 경 비 | AD3: 비 고
B4: 1. 굴삭기(무한궤도) | C4: 0.2㎥ | Z4: =AB4+AA4+AC4 -> 53476 | AA4: =TRUNC(AA5+AA6+AA7+AA8) -> 7774 | AB4: =TRUNC(AB5+AB6+AB7+AB8) -> 33754 | AC4: =TRUNC(AC5+AC6+AC7+AC8) -> 11948
B5: 손 료 | D5: 58627000 | I5: ￦× | K5: 2038 | N5: × | O5: 10(-7) | Z5: =AB5+AA5+AC5 -> 11948.1 | AC5: =TRUNC(D5*K5*0.0000001,1) -> 11948.1 | AD5: '18年 개정
B6: 주연료 | C6: 경유 | D6: 5 | H6: ℓ | I6: × | J6: 1285 | Z6: =AB6+AA6+AC6 -> 6425 | AA6: =TRUNC(D6*J6,1) -> 6425
B7: 잡 품 | C7: 주연료의 | D7: 21 | H7: % | I7: × | J7: =AA6 -> 6425 | Z7: =AB7+AA7+AC7 -> 1349.2 | AA7: =TRUNC(D7/100*J7,1) -> 1349.2
B8: 건설기계운전사 | D8: 1 | G8: 인 | H8: × | I8: =노임단가!L7 -> 162022 | M8: × | N8: 1/8*16/12*25/20 | Z8: =AB8+AA8+AC8 -> 33754.5 | AB8: =TRUNC(D8*I8*[1]기계경비적용기준!E21,1) -> 33754.5

Sheet 기계경비적용기준
B1: 기계경비적용기준
C4: 환 율 (/￦) | G4: 기본재료비
C6: 화 폐 | D6: 환 율 | E6: 비 고 | G6: No | H6: 품 명 | I6: 규 격 | J6: 단위 | K6: 단 가
C7: 달러($) | D7: 1117.9 | E7: 2018.8.1. 매매기준율 | G7: 2 | H7: 경 유 | J7: ℓ | K7: 1285
C8: 엔(100￥) | D8: 1000.22 | E8: 2018.8.1. 매매기준율 | G8: 8 | H8: 치 즐(0.4㎥) | J8: EA | K8: 56000
C9: 유로(E) | D9: 1306.71 | E9: 2018.8.1. 매매기준율 | G9: 10 | H9: 치 즐(0.7㎥) | J9: EA | K9: 223000
C10: 마르크(M) | G10: 1 | H10: 휘 발 유 | J10: ℓ | K10: 1466
C11: 파운드(L) | D11: 1466.46 | E11: 2018.8.1. 매매기준율 | G11: 3 | H11: 중 유 | J11: ℓ | K11: 690
G12: 5 | H12: 전 력 | J12: KWH | K12: 79.6
C18: 노임계수 | G18: 계산결과값 자리수
C20: No | D20: 노임계수 | E20: 계산값
C21: 1 | D21: 1/8*16/12*25/20 | E21: =1/8*16/12*25/20 -> 0.20833333
C22: 2 | D22: 1/8*16/12*25/20*24/15 | E22: =1/8*16/12*25/20*24/15 -> 0.33333333 | G22: 경 비 소수 1 미만 절하
C23: 3 | D23: 1/8*16/12*25/20*12/10 | E23: =1/8*16/12*25/20*12/10 -> 0.25
C24: 4 | D24: 1/8*16/12*25/20*14/12 | E24: =1/8*16/12*25/20*14/12 -> 0.24305556 | G24: 재료비 소수 1 미만 절하
C25: 5 | D25: 1/8*16/12*25/20*24/5 | E25: =1/8*16/12*25/20*24/5 -> 1
G26: 노무비 소수 1 미만 절하

Sheet 노임단가
B1: 노임단가
B3: No | C3: 품 명 | D3: 규 격 | E3: 단위 | F3: 단가1 | G3: 단가2 | H3: 단가3 | I3: 단가4 | J3: 단가5 | K3: 단가6 | L3: 적용단가 | M3: 비 고 | N3: 적용방법 | O3: 적용일자
B4: 1 | C4: 2018_상반기_노임단가 | N4: 최저단가 | O4: 2018-01-01
B5: 2 | C5: 보통인부 | E5: 인 | F5: 109819 | L5: 109819 | M5: 2018년(상) | N5: 최저단가 | O5: 2018-01-01
B6: 3 | C6: 형틀목공 | E6: 인 | F6: 189303 | L6: 189303 | M6: 2018년(상) | N6: 최저단가 | O6: 2018-01-01
B7: 4 | C7: 건설기계운전사 | E7: 인 | F7: 162022 | L7: 162022 | M7: 2018년(상) | N7: 최저단가 | O7: 2018-01-01

Sheet 자재단가
B1: 자재단가
B3: No | C3: 품 명 | D3: 규 격 | E3: 단위 | F3: 가격정보 | H3: 물가자료 | J3: 유통물가 | L3: 물가정보 | N3: 거래가격 | P3: 견적가1 | R3: 적용단가 | S3: 비 고
F4: 단 가 | G4: page | H4: 단 가 | I4: page | J4: 단 가 | K4: page | L4: 단 가 | M4: page | N4: 단 가 | O4: page | P4: 단 가 | Q4: page
B5: 132 | C5: 보통철선,서울 | D5: #8, 4.0mm | E5: kg | H5: 1270 | I5: 66(18.8) | J5: 1270 | K5: 42(18.8) | L5: 1250 | M5: 1권102(18.8) | N5: 1250 | O5: 74(18.8) | R5: =MIN(F5,H5,J5,L5,N5,P5) -> 1250
B6: 333 | C6: 외송각재, 서울 | D6: 30×30×3600mm | E6: ㎥ | H6: 419160 | I6: 139(18.8) | J6: 419160 | K6: 73(18.8) | L6: 464070 | M6: 1권161(18.8) | N6: 458082 | O6: 124(18.8) | R6: =MIN(F6,H6,J6,L6,N6,P6) -> 419160

Sheet Sheet4
