Workbook

Sheet 내역서(태안화력)
A1: 태안화력 #9,10 냉각수 취수펌프구조물 축조공사(CC-03)
A2: 공 종 | B2: 규 격 | C2: 수 량 | D2: 단위 | E2: 재 료 비 | G2: 노 무 비 | I2: 경 비 | K2: 합 계 | M2: 비 고
E3: 단 가 | F3: 금 액 | G3: 단 가 | H3: 금 액 | I3: 단 가 | J3: 금 액 | K3: 단 가 | L3: 금 액
A4: A. 회사취급비
A7: 1. 사급재료비
A8: =#REF! -> #REF! | B8: =#REF! -> #REF! | C8: =#REF! -> #REF! | D8: =#REF! -> #REF! | E8: =#REF! -> #REF! | F8: =INT($C8*E8) -> #REF! | H8: =INT($C8*G8) -> #REF! | J8: =INT($C8*I8) -> #REF! | K8: =E8+G8+I8 -> #REF! | L8: =F8+H8+J8 -> #REF! | M8: =#REF! -> #REF!
A9: =#REF! -> #REF! | B9: =#REF! -> #REF! | C9: =#REF! -> #REF! | D9: =#REF! -> #REF! | E9: =#REF! -> #REF! | F9: =INT($C9*E9) -> #REF! | H9: =INT($C9*G9) -> #REF! | J9: =INT($C9*I9) -> #REF! | K9: =E9+G9+I9 -> #REF! | L9: =F9+H9+J9 -> #REF! | M9: =#REF! -> #REF!
A10: =#REF! -> #REF! | B10: =#REF! -> #REF! | C10: =#REF! -> #REF! | D10: =#REF! -> #REF! | E10: =#REF! -> #REF! | F10: =INT($C10*E10) -> #REF! | H10: =INT($C10*G10) -> #REF! | J10: =INT($C10*I10) -> #REF! | K10: =E10+G10+I10 -> #REF! | L10: =F10+H10+J10 -> #REF! | M10: =#REF! -> #REF!
A11: =#REF! -> #REF! | B11: =#REF! -> #REF! | C11: =#REF! -> #REF! | D11: =#REF! -> #REF! | E11: =#REF! -> #REF! | F11: =INT($C11*E11) -> #REF! | H11: =INT($C11*G11) -> #REF! | J11: =INT($C11*I11) -> #REF! | K11: =E11+G11+I11 -> #REF! | L11: =F11+H11+J11 -> #REF! | M11: =#REF! -> #REF!
A12: =#REF! -> #REF! | B12: =#REF! -> #REF! | C12: =#REF! -> #REF! | D12: =#REF! -> #REF! | E12: =#REF! -> #REF! | F12: =INT($C12*E12) -> #REF! | H12: =INT($C12*G12) -> #REF! | J12: =INT($C12*I12) -> #REF! | K12: =E12+G12+I12 -> #REF! | L12: =F12+H12+J12 -> #REF! | M12: =#REF! -> #REF!
A13: =#REF! -> #REF! | B13: =#REF! -> #REF! | C13: =#REF! -> #REF! | D13: =#REF! -> #REF! | E13: =#REF! -> #REF! | F13: =INT($C13*E13) -> #REF! | H13: =INT($C13*G13) -> #REF! | J13: =INT($C13*I13) -> #REF! | K13: =E13+G13+I13 -> #REF! | L13: =F13+H13+J13 -> #REF! | M13: =#REF! -> #REF!
A14: =#REF! -> #REF! | B14: =#REF! -> #REF! | C14: =#REF! -> #REF! | D14: =#REF! -> #REF! | E14: =#REF! -> #REF! | F14: =INT($C14*E14) -> #REF! | H14: =INT($C14*G14) -> #REF! | J14: =INT($C14*I14) -> #REF! | K14: =E14+G14+I14 -> #REF! | L14: =F14+H14+J14 -> #REF! | M14: =#REF! -> #REF!
A15: =#REF! -> #REF! | B15: =#REF! -> #REF! | C15: =#REF! -> #REF! | D15: =#REF! -> #REF! | E15: =#REF! -> #REF! | F15: =INT($C15*E15) -> #REF! | H15: =INT($C15*G15) -> #REF! | J15: =INT($C15*I15) -> #REF! | K15: =E15+G15+I15 -> #REF! | L15: =F15+H15+J15 -> #REF! | M15: =#REF! -> #REF!
A16: =#REF! -> #REF! | B16: =#REF! -> #REF! | C16: =#REF! -> #REF! | D16: =#REF! -> #REF! | E16: =#REF! -> #REF! | F16: =INT($C16*E16) -> #REF! | H16: =INT($C16*G16) -> #REF! | J16: =INT($C16*I16) -> #REF! | K16: =E16+G16+I16 -> #REF! | L16: =F16+H16+J16 -> #REF! | M16: =#REF! -> #REF!
A17: 소 계 | F17: =SUM(F8:F16) -> #REF! | H17: =SUM(H8:H16) -> #REF! | J17: =SUM(J8:J16) -> #REF! | L17: =F17+H17+J17-M17 -> #REF! | M17: 19
A19: 사급재료비 계 | F19: =L17 -> #REF! | L19: =F19+H19+J19 -> #REF!
A21: 2. 회사분경비
A22: 1)제세공과금 | D22: (사급재료비 + 도급공사비) * 4.0% | J22: =INT((F19+L189)*4%) -> #REF! | L22: =+F22+H22+J22 -> #REF!
A23: 2)조달수수료 | D23: (사급재료비) * 0.5% | J23: =INT(F19*0.5%) -> #REF! | L23: =+F23+H23+J23 -> #REF!
A25: 회사분경비 계 | J25: =SUM(J22:J23) -> #REF! | L25: =+F25+H25+J25 -> #REF!
A26: 회사취급비 계 | F26: =F19 -> #REF! | J26: =J25-M26 -> #REF! | L26: =+F26+H26+J26 -> #REF! | M26: 130
A29: B. 도급공사비
A31: 지입재료비
A32: =#REF! -> #REF! | B32: =#REF! -> #REF! | C32: =#REF! -> #REF! | D32: =#REF! -> #REF! | E32: =#REF! -> #REF! | F32: =INT($C32*E32) -> #REF! | H32: =INT($C32*G32) -> #REF! | J32: =INT($C32*I32) -> #REF! | K32: =E32+G32+I32 -> #REF! | L32: =F32+H32+J32 -> #REF! | M32: =#REF! -> #REF!
A33: =#REF! -> #REF! | B33: =#REF! -> #REF! | C33: =#REF! -> #REF! | D33: =#REF! -> #REF! | E33: =#REF! -> #REF! | F33: =INT($C33*E33) -> #REF! | H33: =INT($C33*G33) -> #REF! | J33: =INT($C33*I33) -> #REF! | K33: =E33+G33+I33 -> #REF! | L33: =F33+H33+J33 -> #REF! | M33: =#REF! -> #REF!
A34: =#REF! -> #REF! | B34: =#REF! -> #REF! | C34: =#REF! -> #REF! | D34: =#REF! -> #REF! | E34: =#REF! -> #REF! | F34: =INT($C34*E34) -> #REF! | H34: =INT($C34*G34) -> #REF! | J34: =INT($C34*I34) -> #REF! | K34: =E34+G34+I34 -> #REF! | L34: =F34+H34+J34 -> #REF! | M34: =#REF! -> #REF!
A35: =#REF! -> #REF! | B35: =#REF! -> #REF! | C35: =#REF! -> #REF! | D35: =#REF! -> #REF! | E35: =#REF! -> #REF! | F35: =INT($C35*E35) -> #REF! | H35: =INT($C35*G35) -> #REF! | J35: =INT($C35*I35) -> #REF! | K35: =E35+G35+I35 -> #REF! | L35: =F35+H35+J35 -> #REF! | M35: =#REF! -> #REF!
A36: =#REF! -> #REF! | B36: =#REF! -> #REF! | C36: =#REF! -> #REF! | D36: =#REF! -> #REF! | E36: =#REF! -> #REF! | F36: =INT($C36*E36) -> #REF! | H36: =INT($C36*G36) -> #REF! | J36: =INT($C36*I36) -> #REF! | K36: =E36+G36+I36 -> #REF! | L36: =F36+H36+J36 -> #REF! | M36: =#REF! -> #REF!
A37: =#REF! -> #REF! | B37: =#REF! -> #REF! | C37: =#REF! -> #REF! | D37: =#REF! -> #REF! | E37: =#REF! -> #REF! | F37: =INT($C37*E37) -> #REF! | H37: =INT($C37*G37) -> #REF! | J37: =INT($C37*I37) -> #REF! | K37: =E37+G37+I37 -> #REF! | L37: =F37+H37+J37 -> #REF! | M37: =#REF! -> #REF!
A38: =#REF! -> #REF! | B38: =#REF! -> #REF! | C38: =#REF! -> #REF! | D38: =#REF! -> #REF! | E38: =#REF! -> #REF! | F38: =INT($C38*E38) -> #REF! | H38: =INT($C38*G38) -> #REF! | J38: =INT($C38*I38) -> #REF! | K38: =E38+G38+I38 -> #REF! | L38: =F38+H38+J38 -> #REF! | M38: =#REF! -> #REF!
A39: =#REF! -> #REF! | B39: =#REF! -> #REF! | C39: =#REF! -> #REF! | D39: =#REF! -> #REF! | E39: =#REF! -> #REF! | F39: =INT($C39*E39) -> #REF! | H39: =INT($C39*G39) -> #REF! | J39: =INT($C39*I39) -> #REF! | K39: =E39+G39+I39 -> #REF! | L39: =F39+H39+J39 -> #REF! | M39: =#REF! -> #REF!
A40: =#REF! -> #REF! | B40: =#REF! -> #REF! | C40: =#REF! -> #REF! | D40: =#REF! -> #REF! | E40: =#REF! -> #REF! | F40: =INT($C40*E40) -> #REF! | H40: =INT($C40*G40) -> #REF! | J40: =INT($C40*I40) -> #REF! | K40: =E40+G40+I40 -> #REF! | L40: =F40+H40+J40 -> #REF! | M40: =#REF! -> #REF!
A41: =#REF! -> #REF! | B41: =#REF! -> #REF! | C41: =#REF! -> #REF! | D41: =#REF! -> #REF! | E41: =#REF! -> #REF! | F41: =INT($C41*E41) -> #REF! | H41: =INT($C41*G41) -> #REF! | J41: =INT($C41*I41) -> #REF! | K41: =E41+G41+I41 -> #REF! | L41: =F41+H41+J41 -> #REF! | M41: =#REF! -> #REF!
A42: =#REF! -> #REF! | B42: =#REF! -> #REF! | C42: =#REF! -> #REF! | D42: =#REF! -> #REF! | E42: =#REF! -> #REF! | F42: =INT($C42*E42) -> #REF! | H42: =INT($C42*G42) -> #REF! | J42: =INT($C42*I42) -> #REF! | K42: =E42+G42+I42 -> #REF! | L42: =F42+H42+J42 -> #REF! | M42: =#REF! -> #REF!
A43: =#REF! -> #REF! | B43: =#REF! -> #REF! | C43: =#REF! -> #REF! | D43: =#REF! -> #REF! | E43: =#REF! -> #REF! | F43: =INT($C43*E43) -> #REF! | H43: =INT($C43*G43) -> #REF! | J43: =INT($C43*I43) -> #REF! | K43: =E43+G43+I43 -> #REF! | L43: =F43+H43+J43 -> #REF! | M43: =#REF! -> #REF!
... A63: =#REF! -> #REF! | B63: =#REF! -> #REF! | C63: =#REF! -> #REF! | D63: =#REF! -> #REF! | E63: =#REF! -> #REF! | F63: =INT($C63*E63) -> #REF! | H63: =INT($C63*G63) -> #REF! | J63: =INT($C63*I63) -> #REF! | K63: =E63+G63+I63 -> #REF! | L63: =F63+H63+J63 -> #REF! | M63: =#REF! -> #REF!
A64: =#REF! -> #REF! | B64: =#REF! -> #REF! | C64: =#REF! -> #REF! | D64: =#REF! -> #REF! | E64: =#REF!*1000 -> #REF! | F64: =INT($C64*E64) -> #REF! | H64: =INT($C64*G64) -> #REF! | J64: =INT($C64*I64) -> #REF! | K64: =E64+G64+I64 -> #REF! | L64: =F64+H64+J64 -> #REF! | M64: =#REF! -> #REF!
A65: =#REF! -> #REF! | B65: =#REF! -> #REF! | C65: =#REF! -> #REF! | D65: =#REF! -> #REF! | E65: =#REF! -> #REF! | F65: =INT($C65*E65) -> #REF! | H65: =INT($C65*G65) -> #REF! | J65: =INT($C65*I65) -> #REF! | K65: =E65+G65+I65 -> #REF! | L65: =F65+H65+J65 -> #REF! | M65: =#REF! -> #REF!
A66: =#REF! -> #REF! | B66: =#REF! -> #REF! | C66: =#REF! -> #REF! | D66: =#REF! -> #REF! | E66: =#REF! -> #REF! | F66: =INT($C66*E66) -> #REF! | H66: =INT($C66*G66) -> #REF! | J66: =INT($C66*I66) -> #REF! | K66: =E66+G66+I66 -> #REF! | L66: =F66+H66+J66 -> #REF! | M66: =#REF! -> #REF!
A67: =#REF! -> #REF! | B67: =#REF! -> #REF! | C67: =#REF! -> #REF! | D67: =#REF! -> #REF! | E67: =#REF! -> #REF! | F67: =INT($C67*E67) -> #REF! | H67: =INT($C67*G67) -> #REF! | J67: =INT($C67*I67) -> #REF! | K67: =E67+G67+I67 -> #REF! | L67: =F67+H67+J67 -> #REF! | M67: =#REF! -> #REF!
A68: =#REF! -> #REF! | B68: =#REF! -> #REF! | C68: =#REF! -> #REF! | D68: =#REF! -> #REF! | E68: =#REF!*1000 -> #REF! | F68: =INT($C68*E68) -> #REF! | H68: =INT($C68*G68) -> #REF! | J68: =INT($C68*I68) -> #REF! | K68: =E68+G68+I68 -> #REF! | L68: =F68+H68+J68 -> #REF! | M68: =#REF! -> #REF!
A69: =#REF! -> #REF! | B69: =#REF! -> #REF! | C69: =#REF! -> #REF! | D69: =#REF! -> #REF! | E69: =#REF!*0.5 -> #REF! | F69: =INT($C69*E69) -> #REF! | H69: =INT($C69*G69) -> #REF! | J69: =INT($C69*I69) -> #REF! | K69: =E69+G69+I69 -> #REF! | L69: =F69+H69+J69 -> #REF! | M69: =#REF! -> #REF!
A70: =#REF! -> #REF! | B70: =#REF! -> #REF! | C70: =#REF! -> #REF! | D70: =#REF! -> #REF! | E70: =#REF! -> #REF! | F70: =INT($C70*E70) -> #REF! | H70: =INT($C70*G70) -> #REF! | J70: =INT($C70*I70) -> #REF! | K70: =E70+G70+I70 -> #REF! | L70: =F70+H70+J70 -> #REF! | M70: =#REF! -> #REF!
A71: =#REF! -> #REF! | B71: =#REF! -> #REF! | C71: =#REF! -> #REF! | D71: =#REF! -> #REF! | E71: =#REF! -> #REF! | F71: =INT($C71*E71) -> #REF! | H71: =INT($C71*G71) -> #REF! | J71: =INT($C71*I71) -> #REF! | K71: =E71+G71+I71 -> #REF! | L71: =F71+H71+J71 -> #REF! | M71: =#REF! -> #REF!
A72: =#REF! -> #REF! | B72: =#REF! -> #REF! | C72: =#REF! -> #REF! | D72: =#REF! -> #REF! | E72: =#REF! -> #REF! | F72: =INT($C72*E72) -> #REF! | H72: =INT($C72*G72) -> #REF! | J72: =INT($C72*I72) -> #REF! | K72: =E72+G72+I72 -> #REF! | L72: =F72+H72+J72 -> #REF! | M72: =#REF! -> #REF!
A73: =#REF! -> #REF! | B73: =#REF! -> #REF! | C73: =#REF! -> #REF! | D73: =#REF! -> #REF! | E73: =#REF! -> #REF! | F73: =INT($C73*E73) -> #REF! | H73: =INT($C73*G73) -> #REF! | J73: =INT($C73*I73) -> #REF! | K73: =E73+G73+I73 -> #REF! | L73: =F73+H73+J73 -> #REF! | M73: =#REF! -> #REF!
A74: 소 계 | F74: =SUM(F32:F73) -> #REF! | H74: =SUM(H32:H73) -> #REF! | J74: =SUM(J32:J73) -> #REF! | L74: =F74+H74+J74 -> #REF!
A76: 지입재료비 계 | F76: =F74-M74 -> #REF!
A78: 직접공사비
A79: =#REF! -> #REF! | B79: =#REF! -> #REF! | C79: =#REF! -> #REF! | D79: =#REF! -> #REF! | E79: =#REF! -> #REF! | F79: =INT($C79*E79) -> #REF! | G79: =#REF! -> #REF! | H79: =INT($C79*G79) -> #REF! | I79: =#REF! -> #REF! | J79: =INT($C79*I79) -> #REF! | K79: =E79+G79+I79 -> #REF! | L79: =F79+H79+J79 -> #REF! | M79: =#REF! -> #REF!
A80: =#REF! -> #REF! | B80: =#REF! -> #REF! | C80: =#REF! -> #REF! | D80: =#REF! -> #REF! | E80: =#REF! -> #REF! | F80: =INT($C80*E80) -> #REF! | G80: =#REF! -> #REF! | H80: =INT($C80*G80) -> #REF! | I80: =#REF! -> #REF! | J80: =INT($C80*I80) -> #REF! | K80: =E80+G80+I80 -> #REF! | L80: =F80+H80+J80 -> #REF! | M80: =#REF! -> #REF!
A81: =#REF! -> #REF! | B81: =#REF! -> #REF! | C81: =#REF! -> #REF! | D81: =#REF! -> #REF! | E81: =#REF! -> #REF! | F81: =INT($C81*E81) -> #REF! | G81: =#REF! -> #REF! | H81: =INT($C81*G81) -> #REF! | I81: =#REF! -> #REF! | J81: =INT($C81*I81) -> #REF! | K81: =E81+G81+I81 -> #REF! | L81: =F81+H81+J81 -> #REF! | M81: =#REF! -> #REF!
A82: =#REF! -> #REF! | B82: =#REF! -> #REF! | C82: =#REF! -> #REF! | D82: =#REF! -> #REF! | E82: =#REF! -> #REF! | F82: =INT($C82*E82) -> #REF! | G82: =#REF! -> #REF! | H82: =INT($C82*G82) -> #REF! | I82: =#REF! -> #REF! | J82: =INT($C82*I82) -> #REF! | K82: =E82+G82+I82 -> #REF! | L82: =F82+H82+J82 -> #REF! | M82: =#REF! -> #REF!
A83: =#REF! -> #REF! | B83: =#REF! -> #REF! | C83: =#REF! -> #REF! | D83: =#REF! -> #REF! | E83: =#REF! -> #REF! | F83: =INT($C83*E83) -> #REF! | G83: =#REF! -> #REF! | H83: =INT($C83*G83) -> #REF! | I83: =#REF! -> #REF! | J83: =INT($C83*I83) -> #REF! | K83: =E83+G83+I83 -> #REF! | L83: =F83+H83+J83 -> #REF! | M83: =#REF! -> #REF!
A84: =#REF! -> #REF! | B84: =#REF! -> #REF! | C84: =#REF! -> #REF! | D84: =#REF! -> #REF! | E84: =#REF! -> #REF! | F84: =INT($C84*E84) -> #REF! | G84: =#REF! -> #REF! | H84: =INT($C84*G84) -> #REF! | I84: =#REF! -> #REF! | J84: =INT($C84*I84) -> #REF! | K84: =E84+G84+I84 -> #REF! | L84: =F84+H84+J84 -> #REF! | M84: =#REF! -> #REF!
A85: =#REF! -> #REF! | B85: =#REF! -> #REF! | C85: =#REF! -> #REF! | D85: =#REF! -> #REF! | E85: =#REF! -> #REF! | F85: =INT($C85*E85) -> #REF! | G85: =#REF! -> #REF! | H85: =INT($C85*G85) -> #REF! | I85: =#REF! -> #REF! | J85: =INT($C85*I85) -> #REF! | K85: =E85+G85+I85 -> #REF! | L85: =F85+H85+J85 -> #REF! | M85: =#REF! -> #REF!
A86: =#REF! -> #REF! | B86: =#REF! -> #REF! | C86: =#REF! -> #REF! | D86: =#REF! -> #REF! | E86: =#REF! -> #REF! | F86: =INT($C86*E86) -> #REF! | G86: =#REF! -> #REF! | H86: =INT($C86*G86) -> #REF! | I86: =#REF! -> #REF! | J86: =INT($C86*I86) -> #REF! | K86: =E86+G86+I86 -> #REF! | L86: =F86+H86+J86 -> #REF! | M86: =#REF! -> #REF!
A87: =#REF! -> #REF! | B87: =#REF! -> #REF! | C87: =#REF! -> #REF! | D87: =#REF! -> #REF! | E87: =#REF! -> #REF! | F87: =INT($C87*E87) -> #REF! | G87: =#REF! -> #REF! | H87: =INT($C87*G87) -> #REF! | I87: =#REF! -> #REF! | J87: =INT($C87*I87) -> #REF! | K87: =E87+G87+I87 -> #REF! | L87: =F87+H87+J87 -> #REF! | M87: =#REF! -> #REF!
A88: =#REF! -> #REF! | B88: =#REF! -> #REF! | C88: =#REF! -> #REF! | D88: =#REF! -> #REF! | E88: =#REF! -> #REF! | F88: =INT($C88*E88) -> #REF! | G88: =#REF! -> #REF! | H88: =INT($C88*G88) -> #REF! | I88: =#REF! -> #REF! | J88: =INT($C88*I88) -> #REF! | K88: =E88+G88+I88 -> #REF! | L88: =F88+H88+J88 -> #REF! | M88: =#REF! -> #REF!
A89: =#REF! -> #REF! | B89: =#REF! -> #REF! | C89: =#REF! -> #REF! | D89: =#REF! -> #REF! | E89: =#REF! -> #REF! | F89: =INT($C89*E89) -> #REF! | G89: =#REF! -> #REF! | H89: =INT($C89*G89) -> #REF! | I89: =#REF! -> #REF! | J89: =INT($C89*I89) -> #REF! | K89: =E89+G89+I89 -> #REF! | L89: =F89+H89+J89 -> #REF! | M89: =#REF! -> #REF!
A90: =#REF! -> #REF! | B90: =#REF! -> #REF! | C90: =#REF! -> #REF! | D90: =#REF! -> #REF! | E90: =#REF! -> #REF! | F90: =INT($C90*E90) -> #REF! | G90: =#REF! -> #REF! | H90: =INT($C90*G90) -> #REF! | I90: =#REF! -> #REF! | J90: =INT($C90*I90) -> #REF! | K90: =E90+G90+I90 -> #REF! | L90: =F90+H90+J90 -> #REF! | M90: =#REF! -> #REF!
... A140: =#REF! -> #REF! | B140: =#REF! -> #REF! | C140: =#REF! -> #REF! | D140: =#REF! -> #REF! | E140: =#REF! -> #REF! | F140: =INT($C140*E140) -> #REF! | G140: =#REF! -> #REF! | H140: =INT($C140*G140) -> #REF! | I140: =#REF! -> #REF! | J140: =INT($C140*I140) -> #REF! | K140: =E140+G140+I140 -> #REF! | L140: =F140+H140+J140 -> #REF! | M140: =#REF! -> #REF!
A141: 소 계 | F141: =SUM(F79:F140) -> #REF! | H141: =SUM(H79:H140) -> #REF! | J141: =SUM(J79:J140) -> #REF! | L141: =F141+H141+J141 -> #REF!
A143: 직접공사비 계 | F143: =F141 -> #REF! | H143: =H141 -> #REF! | J143: =J141 -> #REF! | L143: =F143+H143+J143 -> #REF!
A145: 가. 재 료 비
A146: 6) 잡재료비 | C146: 1 | D146: 식 | F146: =F141 -> #REF! | L146: =F146+H146+J146 -> #REF!
A147: 7) 작업부산물 | C147: =#REF! -> #REF! | D147: TON | E147: =#REF! -> #REF! | F147: =INT(C147*E147) -> #REF! | L147: =F147+H147+J147 -> #REF! | M147: =#REF! -> #REF!
A149: 도급재료비 계 | F149: =+F146+F147+F76 -> #REF! | L149: =F149+H149+J149 -> #REF!
A151: 재 료 비 계 | B151: (사급+도급재료비) | F151: =F19+F149 -> #REF! | L151: =F151+H151+J151 -> #REF!
A153: 나. 노 무 비
A154: 1) 직접노무비 | C154: 1 | D154: 식 | H154: =+H141 -> #REF! | L154: =F154+H154+J154 -> #REF!
A155: 2) 간접노무비 | C155: 1 | D155: 식 | E155: (직접노무비) * 9.9% = | H155: =TRUNC(H154*9.9%,0) -> #REF! | L155: =F155+H155+J155 -> #REF!
A157: 노 무 비 계 | H157: =SUM(H154:H155) -> #REF! | L157: =SUM(L154:L155) -> #REF!
A159: 다. 경 비
A160: 1) 기계 경비 | J160: =+J141 -> #REF! | L160: =F160+H160+J160 -> #REF!
A161: 2) 전 력 비
A162: 3) 운 반 비 | D162: 식 | J162: =SUM(J163:J165) -> #REF! | L162: =F162+H162+J162 -> #REF!
A163: =#REF! -> #REF! | C163: =#REF! -> #REF! | E163: =#REF! -> #REF! | G163: =#REF! -> #REF! | I163: =#REF! -> #REF! | J163: =INT($C163*I163) -> #REF! | L163: =F163+H163+J163 -> #REF! | M163: =#REF! -> #REF!
A164: =#REF! -> #REF! | C164: =#REF! -> #REF! | D164: TON | E164: =#REF! -> #REF! | G164: =#REF! -> #REF! | I164: =#REF! -> #REF! | J164: =INT($C164*I164) -> #REF! | L164: =F164+H164+J164 -> #REF! | M164: =#REF! -> #REF!
A165: =#REF! -> #REF! | C165: =#REF! -> #REF! | D165: TON | E165: =#REF! -> #REF! | G165: =#REF! -> #REF! | I165: =#REF! -> #REF! | J165: =INT($C165*I165) -> #REF! | L165: =F165+H165+J165 -> #REF! | M165: =#REF! -> #REF!
A166: 4) 품질관리비 | J166: =#REF! -> #REF! | L166: =F166+H166+J166 -> #REF!
A167: 5) 가 설 비
A168: 6) 폐기물처리비 | J168: 0 | L168: =F168+H168+J168 -> 0
A169: 7) 환경보전비 (실적정산) | B169: (도급재료비+직접노무비+산출경비) *0.4% = | F169: =TRUNC(E169*$D169,0) -> 0 | H169: =TRUNC(G169*$D169,0) -> 0 | J169: =TRUNC((L149+L154+J160)*0.4%,0) -> #REF! | L169: =F169+H169+J169 -> #REF!
A170: 8) 산재보험료 | B170: (직접노무비+간접노무비) *3.6% = | J170: =TRUNC(H157*3.6%,0) -> #REF! | L170: =F170+H170+J170 -> #REF!
A171: 9) 고용보험료 | B171: (직접노무비+간접노무비) *0.92% = | J171: =TRUNC(H157*0.92%,0) -> #REF! | L171: =F171+H171+J171 -> #REF!
A172: 10) 건강보험료 | B172: (직접노무비) *1.70% = | J172: =TRUNC(L154*1.7%,0) -> #REF! | L172: =F172+H172+J172 -> #REF!
A173: 11) 연금보험료 | B173: (직접노무비) *2.49% = | J173: =TRUNC(L154*2.49%,0) -> #REF! | L173: =F173+H173+J173 -> #REF!
A174: 12) 노인장기요양보험료 | B174: (건강보험료) * 6.55% = | J174: =TRUNC(L172*6.55%,0) -> #REF! | L174: =F174+H174+J174 -> #REF!
A175: 13) 퇴직공제부금비 | B175: (직접노무비) *2.3% = | J175: =TRUNC(L154*2.3%,0) -> #REF! | L175: =F175+H175+J175 -> #REF!
A176: 14) 산업안전보건관리비 | B176: (재료비+직접노무비) *1.88% = | J176: =TRUNC((L151+L154)*1.88%,0) -> #REF! | L176: =F176+H176+J176 -> #REF!
B177: (도급재료비 + 직접노무비) * 1.88% * 120% | J177: =TRUNC((L149+L154)*1.88%*1.2,0) -> #REF! | L177: =J177 -> #REF! | M177: 적용
A178: 15) 수도광열비
A179: 16) 기타경비 | B179: (도급재료비+노무비)*5.69% = | J179: =TRUNC((L149+L157)*5.69%,0) -> #REF! | L179: =F179+H179+J179 -> #REF!
A180: 17) 공사이행보증수수료 | B180: [(도급재료비+직접노무비+산출경비) *0.016%+4.3백만원] *공기(3년) = | J180: =TRUNC(((L149+L154+J160)*0.016%+4300000)*3,0) -> #REF! | L180: =F180+H180+J180 -> #REF!
A181: 18) 하도급대금지급보증서발행수수료 | B181: (도급재료비+직접노무비+산출경비) *0.037% = | J181: =TRUNC((L149+L154+J160)*0.037%,0) -> #REF! | L181: =F181+H181+J181 -> #REF!
A183: 경 비 계 | F183: =+SUM(F162:F162)+SUM(F160:F181) -> 0 | H183: =+SUM(H162:H162)+SUM(H160:H181) -> 0 | J183: =J160+J162+J166+J169+J170+J171+J172+J173+J174+J175+J177+J179+J180+J181 -> #REF! | L183: =F183+H183+J183 -> #REF!
A185: 라. 일반관리비 | B185: (도급재료비+노무비+경비)*4.5% = | J185: =TRUNC((L149+L157+L183)*4.5%,0) -> #REF! | L185: =F185+H185+J185 -> #REF!
A187: 마. 이 윤 | B187: (노무비+경비+일반관리비)*10.0% = | J187: =TRUNC((L183+L157+L185)*10%,0)-M188 -> #REF! | L187: =F187+H187+J187 -> #REF! | O187: =INT((L157+L183+L185)*9%+L157+L183+L185+L149) -> #REF!
M188: 3 | O188: =TRUNC(O187,-4) -> #REF! | P188: =TRUNC(O187-O188,0) -> #REF!
...

Sheet 토공수량총괄표
A1: 신평택 취수펌프구조물 토공 수량총괄표
A3: 구분 | B3: 공종 | C3: 규격 | D3: 단위 | E3: 수량 | F3: 비고
B4: 절취총량 | D4: m³ | E4: =C24 -> 19222
A5: 1 | B5: 토사터파기 | D5: m³ | E5: =C25 -> 1922 | F5: 0.1
A6: 2 | B6: 풍화암굴착 | D6: m³ | E6: =C26 -> 1922 | F6: 0.1
A7: 3 | B7: 연암깨기 | D7: m³ | E7: =C27 -> 2307 | F7: 0.3
A8: 4 | B8: 연암발파 | C8: 미진동공법 | D8: m³ | E8: =C28 -> 577
A9: 5 | B9: 연암발파 | C9: 정밀진동제어 | D9: m³ | E9: =C29 -> 577
A10: 6 | B10: 연암발파 | C10: 진동제어소규모 | D10: m³ | E10: =C30 -> 865
A11: 7 | B11: 연암발파 | C11: 진동제어중규모 | D11: m³ | E11: =C31 -> 865
A12: 8 | B12: 연암발파 | C12: 일반발파 | D12: m³ | E12: =C32 -> 577
A13: 9 | B13: 경암깨기 | D13: m³ | E13: =C33 -> 3844 | F13: 0.5
A14: 10 | B14: 경암발파 | C14: 미진동공법 | D14: m³ | E14: =C34 -> 961
A15: 11 | B15: 경암발파 | C15: 정밀진동제어 | D15: m³ | E15: =C35 -> 961
A16: 12 | B16: 경암발파 | C16: 진동제어소규모 | D16: m³ | E16: =C36 -> 1442
A17: 13 | B17: 경암발파 | C17: 진동제어중규모 | D17: m³ | E17: =C37 -> 1442
A18: 14 | B18: 경암발파 | C18: 일반발파 | D18: m³ | E18: =C38 -> 961
B19: 면고르기총량 | D19: m² | E19: =INT(E4*H19) -> 1011 | H19: 0.052621775
A20: 15 | B20: 면고르기 | C20: 풍화암 | D20: m² | E20: =ROUND($E$19*F20,0) -> 202 | F20: =F5+F6 -> 0.2
A21: 16 | B21: 면고르기 | C21: 연암 | D21: m² | E21: =ROUND($E$19*F21,0) -> 303 | F21: 0.3
A22: 17 | B22: 면고르기 | C22: 경암 | D22: m² | E22: =INT($E$19*F22) -> 505 | F22: 0.5
A24: * 터파기 총량 : | C24: 19222 | D24: ( M³)
A25: 토사 | C25: =ROUND($C$24*E25,0) -> 1922 | D25: ( M³) | E25: 0.1
A26: 풍화암 | C26: =ROUND($C$24*E26,0) -> 1922 | D26: ( M³) | E26: 0.1
A27: 연암 | B27: 깨기 | C27: =ROUND($C$24*$E$27*F27,0) -> 2307 | D27: ( M³) | E27: 0.3 | F27: 0.4
A28: 연암 | B28: 미진동공법 | C28: =ROUND($C$24*$E$27*F28,0) -> 577 | D28: ( M³) | F28: 0.1
A29: 연암 | B29: 정밀진동제어 | C29: =ROUND($C$24*$E$27*F29,0) -> 577 | D29: ( M³) | F29: 0.1
A30: 연암 | B30: 진동제어소규모 | C30: =ROUND($C$24*$E$27*F30,0) -> 865 | D30: ( M³) | F30: 0.15
A31: 연암 | B31: 진동제어중규모 | C31: =ROUND($C$24*$E$27*F31,0) -> 865 | D31: ( M³) | F31: 0.15
A32: 연암 | B32: 일반발파 | C32: =ROUND($C$24*$E$27*F32,0) -> 577 | D32: ( M³) | F32: 0.1
A33: 경암 | B33: 깨기 | C33: =ROUND($C$24*$E$33*F33,0) -> 3844 | D33: ( M³) | E33: 0.5 | F33: 0.4
A34: 경암 | B34: 미진동공법 | C34: =ROUND($C$24*$E$33*F34,0) -> 961 | D34: ( M³) | F34: 0.1
A35: 경암 | B35: 정밀진동제어 | C35: =ROUND($C$24*$E$33*F35,0) -> 961 | D35: ( M³) | F35: 0.1
A36: 경암 | B36: 진동제어소규모 | C36: =ROUND($C$24*$E$33*F36,0) -> 1442 | D36: ( M³) | F36: 0.15
A37: 경암 | B37: 진동제어중규모 | C37: =ROUND($C$24*$E$33*F37,0) -> 1442 | D37: ( M³) | F37: 0.15
A38: 경암 | B38: 일반발파 | C38: =ROUND($C$24*$E$33*F38,0) -> 961 | D38: ( M³) | F38: 0.1

Sheet 품셈
A1: 공 종 | D1: 규 격 | E1: 단위 | F1: 수 량 | G1: 재 료 비 | I1: 노 무 비 | K1: 경 비 | M1: 합 계 | N1: 비 고
G2: 단 가 | H2: 금 액 | I2: 단 가 | J2: 금 액 | K2: 단 가 | L2: 금 액
A4: 품셈- | B4: 1 | C4: 파일 직항타(L=15m이하) | D4: D400, 단일본 | E4: 본 | N4: 12
C5: 비계공 | E5: 인 | F5: 0.1553 | H5: 0 | I5: 123972 | J5: 19252.8 | L5: 0 | M5: 19252.8
C6: 보통인부 | E6: 인 | F6: 0.17732 | H6: 0 | I6: 74008 | J6: 13123 | L6: 0 | M6: 13123
C7: 무한궤도 크레인 | D7: 35TON | E7: HR | F7: 0.8 | G7: 19971 | H7: 15976.8 | I7: 18876 | J7: 15100.8 | K7: 45823 | L7: 36658.4 | M7: 67736
C8: 유압파일해머 | D8: 5TON | E8: HR | F8: 0.8 | G8: 33841 | H8: 27072.8 | J8: 0 | K8: 33792 | L8: 27033.6 | M8: 54106.4
C9: LEADER | D9: 고정형, 24M | E9: HR | F9: 0.8 | H9: 0 | J9: 0 | K9: 3496 | L9: 2796.8 | M9: 2796.8
C10: 지게차 | D10: 5TON | E10: HR | F10: 0.24 | G10: 11603 | H10: 2784.7 | I10: 18876 | J10: 4530.2 | K10: 6262 | L10: 1502.8 | M10: 8817.7
C11: 잡재료비 | D11: 직접노무비의 17% | E11: 식 | F11: 1 | G11: 8841 | H11: 8841 | J11: 0 | L11: 0 | M11: 8841
D12: <소 계> | H12: 54675 | J12: 52006 | L12: 67991 | M12: 174672
A14: 품셈- | B14: =B4+1 -> 2 | C14: PHC PILE 두부정리 | D14: D400 | E14: 본 | N14: 13
C15: 그라인더날 | D15: 4" | E15: EA | F15: 0.004 | G15: 12000 | H15: 48 | J15: 0 | L15: 0 | M15: 48 | N15: 물자 P1309
C16: 파일캡 | D16: P.V.C | E16: EA | F16: 1 | G16: 1000 | H16: 1000 | J16: 0 | L16: 0 | M16: 1000 | N16: 견적가격
C17: 철선 | D17: #8 | E17: KG | F17: 0.007 | G17: 1270 | H17: 8.8 | J17: 0 | L17: 0 | M17: 8.8 | N17: 물정(I) P95
C18: 할석공 | E18: 인 | F18: 0.02402 | H18: 0 | I18: 95502 | J18: 2293.9 | L18: 0 | M18: 2293.9
C19: 보통인부 | E19: 인 | F19: 0.01773 | H19: 0 | I19: 74008 | J19: 1312.1 | L19: 0 | M19: 1312.1
C20: 유압식 백호우 | D20: 0.2M3 | E20: HR | F20: 0.01 | G20: 8990 | H20: 89.9 | I20: 18876 | J20: 188.7 | K20: 10597 | L20: 105.9 | M20: 384.5
D21: <소 계> | H21: 1146 | J21: 3794 | L21: 105 | M21: 5045
A23: 품셈- | B23: =B14+1 -> 3 | C23: PHC 파일 하차비 | D23: 현장내 | E23: TON | N23: 14
C24: 하차비 | D24: 현장내 | E24: TON | F24: 1 | H24: 0 | J24: 0 | K24: 4470 | L24: 4470 | M24: 4470
D25: <소 계> | H25: 0 | J25: 0 | L25: 4470 | M25: 4470
A27: 품셈- | B27: =B23+1 -> 4 | C27: 말뚝 재하시험 | D27: 동적(D400) | E27: 회 | N27: 15
C28: 중급기술자 | E28: 인 | F28: 0.46 | H28: 0 | I28: 174250 | J28: 80155 | L28: 0 | M28: 80155
C29: 초급기술자 | E29: 인 | F29: 0.46 | H29: 0 | I29: 131853 | J29: 60652.3 | L29: 0 | M29: 60652.3
C30: 보통인부 | E30: 인 | F30: 0.40783 | H30: 0 | I30: 74008 | J30: 30182.6 | L30: 0 | M30: 30182.6
C31: 무한궤도 크레인 | D31: 35TON | E31: HR | F31: 1 | G31: 19971 | H31: 19971 | I31: 18876 | J31: 18876 | K31: 45823 | L31: 45823 | M31: 84670
C32: 유압파일해머 | D32: 5TON | E32: HR | F32: 1 | G32: 33841 | H32: 33841 | J32: 0 | K32: 33792 | L32: 33792 | M32: 67633
C33: LEADER | D33: 고정형, 24M | E33: HR | F33: 1 | H33: 0 | J33: 0 | K33: 3496 | L33: 3496 | M33: 3496
C34: 잡재료비 | D34: 직접노무비의 2% | E34: 식 | F34: 1 | G34: 3797 | H34: 3797 | J34: 0 | L34: 0 | M34: 3797
D35: <소 계> | H35: 57609 | J35: 189865 | L35: 83111 | M35: 330585
A37: 품셈- | B37: =B27+1 -> 5 | C37: 자분탐상시험 | D37: D400 | E37: EA | N37: 16
C38: 습식자분 | E38: L | F38: 0.13125 | G38: 7777.7778 | H38: 1020.8 | J38: 0 | L38: 0 | M38: 1020.8 | N38: 물자 P1288
C39: 세척제 | E39: g | F39: 166.23411 | G39: 50 | H39: 8311.7 | J39: 0 | L39: 0 | M39: 8311.7 | N39: 물자 P1288
C40: 청테이프 | D40: 2" | E40: R/L | F40: 0.18375 | G40: 1000 | H40: 183.7 | J40: 0 | L40: 0 | M40: 183.7 | N40: 물자 P1370
C41: 소창직 | E41: M | F41: 0.9533 | G41: 1580 | H41: 1506.2 | J41: 0 | L41: 0 | M41: 1506.2 | N41: 물자 P1362
C42: 건전지 | D42: CM | E42: EA | F42: 0.21967 | G42: 280 | H42: 61.5 | J42: 0 | L42: 0 | M42: 61.5 | N42: 물자 P1192
C43: 마킹펜 | D43: 메탈용 | E43: EA | F43: 0.15888 | G43: 15000 | H43: 2383.2 | J43: 0 | L43: 0 | M43: 2383.2 | N43: 물자 P1288
C44: 기사 | D44: 중급기술자 | E44: 인 | F44: 0.13263 | H44: 0 | I44: 174250 | J44: 23110.7 | L44: 0 | M44: 23110.7
C45: 비파괴시험공 | E45: 인 | F45: 0.54361 | H45: 0 | I45: 165624 | J45: 90034.8 | L45: 0 | M45: 90034.8
C46: 플랜트전공 | E46: 인 | F46: 0.12382 | H46: 0 | I46: 136915 | J46: 16952.8 | L46: 0 | M46: 16952.8
C47: 특별인부 | E47: 인 | F47: 0.32665 | H47: 0 | I47: 95366 | J47: 31151.3 | L47: 0 | M47: 31151.3
D48: <소 계> | H48: 13467 | J48: 161249 | L48: 0 | M48: 174716

Sheet 부표
A1: 공 종 | D1: 규 격 | E1: 단위 | F1: 수 량 | G1: 재 료 비 | I1: 노 무 비 | K1: 경 비 | M1: 합 계 | N1: 비 고
G2: 단 가 | H2: 금 액 | I2: 단 가 | J2: 금 액 | K2: 단 가 | L2: 금 액
A3: 부표- | B3: 1 | C3: PILE DRIVER | D3: DH-558,180PS | E3: HR
C4: 경유(저유황) | E4: L | F4: 22.67 | G4: 1641.8 | H4: 37219.6 | J4: 0 | L4: 0 | M4: 37219.6
C5: 잡 유 | D5: (주연료의 20%) | E5: 식 | F5: 1 | G5: 7443.92 | H5: 7443.9 | J5: 0 | L5: 0 | M5: 7443.9
C6: 중기운전기사 | E6: 인 | F6: 0.179 | H6: 0 | I6: 105406 | J6: 18867.6 | L6: 0 | M6: 18867.6
C7: 중기운전조수 | E7: 인 | F7: 0.1742 | H7: 0 | I7: 55784 | J7: 9717.5 | L7: 0 | M7: 9717.5
C8: 중 기 조 장 | E8: 인 | F8: 0.032 | H8: 0 | I8: 95501 | J8: 3056 | L8: 0 | M8: 3056
C9: 기계경비 | E9: 식 | F9: 1 | H9: 0 | J9: 0 | K9: 252425 | L9: 252425 | M9: 252425
C10: 계 | H10: 44663 | J10: 31641 | L10: 252425 | M10: 328729

Sheet 별표총괄표
A1: 공 종 명 | C1: 규 격 | D1: 단위 | E1: 수 량 | F1: 비 고
A3: ='별표-1'!A3 -> 12 | B3: 파일 직항타(L=15M이하) | C3: D 400, 단일본 | D3: 본
B4: 비계공 | D4: 인 | E4: ='별표-1'!AA21 -> 0.1553
B5: 보통인부 | D5: 인 | E5: ='별표-1'!AA22 -> 0.17732
B6: 무한궤도 크레인 | C6: 35 TON | D6: HR | E6: ='별표-1'!AA18 -> 0.8
B7: 유압파일해머 | C7: 5 TON | D7: HR | E7: =E6 -> 0.8
B8: LEADER | C8: 고정형, 24M | D8: HR | E8: =E7 -> 0.8
B9: 지게차 | C9: 5 TON | D9: HR | E9: =INT(E8*0.3*1000)/1000 -> 0.24
B10: 잡 재료비 | C10: 직접노무비의 17% | D10: 식 | E10: 1
A12: ='별표-1'!A28 -> 13 | B12: PHC PILE 두부정리 | C12: D 400 | D12: 본
B13: 그라인더날 | C13: 4" | D13: EA | E13: ='별표-1'!AA31 -> 0.004
B14: 파일캡 | C14: P.V.C | D14: EA | E14: ='별표-1'!AA32 -> 1
B15: 철선 | C15: # 8 | D15: KG | E15: ='별표-1'!AA33 -> 0.007
B16: 할석공 | D16: 인 | E16: ='별표-1'!AA36 -> 0.02402
B17: 보통인부 | D17: 인 | E17: ='별표-1'!AA37 -> 0.01773
B18: 유압식 백호우 | C18: 0.2 M3 | D18: HR | E18: ='별표-1'!AA40 -> 0.01
A20: ='별표-1'!A43 -> 14 | B20: 파일 하차비 | C20: 현장내 | D20: TON
B21: 하차비 | C21: 현장내 | D21: 원 | E21: ='별표-1'!AA46+'별표-1'!AA47 -> 4470
A23: ='별표-1'!A50 -> 15 | B23: 말뚝 재하시험 | C23: 동적 D400 | D23: 회
B24: 중급기술자 | D24: 인 | E24: ='별표-1'!AA65 -> 0.46
B25: 초급기술자 | D25: 인 | E25: ='별표-1'!AA66 -> 0.46
B26: 보통인부 | D26: 인 | E26: ='별표-1'!AA67 -> 0.40783
B27: 무한궤도 크레인 | C27: 35 TON | D27: HR | E27: ='별표-1'!AA62 -> 1
B28: 유압파일해머 | C28: 5 TON | D28: HR | E28: =E27 -> 1
B29: LEADER | C29: 고정형, 24M | D29: HR | E29: =E28 -> 1
B30: 잡재료비 | C30: 직접노무비의 2% | D30: 식 | E30: 1
A32: ='별표-1'!A73 -> 16 | B32: 자분탐상시험 | C32: D 400 | D32: EA
B33: 습식자분 | D33: L | E33: ='별표-1'!AA80 -> 0.13125
B34: 세 척 제 | D34: G | E34: ='별표-1'!AA81 -> 166.23411
B35: 청테이프 | C35: 2" | D35: R/L | E35: ='별표-1'!AA82 -> 0.18375
B36: 소 창 직 | D36: M | E36: ='별표-1'!AA83 -> 0.9533
B37: 건 전 지 | C37: CM | D37: EA | E37: ='별표-1'!AA84 -> 0.21967
B38: 마 킹 펜 | C38: 메탈용 | D38: EA | E38: ='별표-1'!AA85 -> 0.15888
B39: 기 사 | C39: 중급기술자 | D39: 인 | E39: ='별표-1'!AA88 -> 0.13263
B40: 비파괴시험공 | D40: 인 | E40: ='별표-1'!AA89 -> 0.54361
B41: 플랜트전공 | D41: 인 | E41: ='별표-1'!AA90 -> 0.12382
B42: 특별인부 | D42: 인 | E42: ='별표-1'!AA91 -> 0.32665
A44: ='별표-1'!A94 -> 17 | B44: 자분탐상시험 | C44: D 500 | D44: EA
B45: 습식자분 | D45: L | E45: ='별표-1'!AA101 -> 0.16406
B46: 세 척 제 | D46: g | E46: ='별표-1'!AA102 -> 207.79264
B47: 청테이프 | C47: 2" | D47: R/L | E47: ='별표-1'!AA103 -> 0.22969
B48: 소 창 직 | D48: M | E48: ='별표-1'!AA104 -> 1.19163
B49: 건 전 지 | C49: CM | D49: EA | E49: ='별표-1'!AA105 -> 0.27459
B50: 마 킹 펜 | C50: 메탈용 | D50: EA | E50: ='별표-1'!AA106 -> 0.1986
B51: 기 사 | C51: 중급기술자 | D51: 인 | E51: ='별표-1'!AA109 -> 0.16579
B52: 비파괴시험공 | D52: 인 | E52: ='별표-1'!AA110 -> 0.67952
B53: 플랜트전공 | D53: 인 | E53: ='별표-1'!AA111 -> 0.15478
B54: 특별인부 | D54: 인 | E54: ='별표-1'!AA112 -> 0.40831

Sheet 별표-1
A3: 12 | F3: 파일 직항타(단일본,15m이하) - D400
B5: 가. 항타장비조합 | M5: - 건설표준품셈 2011' P461
C6: 1. 무한궤도크레인 35TON : 1대 | K6: (Tc )
C7: 2. 유압파일해머 5TON : 1대 | K7: (Tc )
C8: 3. LEADER (L=24M, 고정형) : 1대 | K8: (Tc )
C9: 4. 지게차 (5TON) : 1대 | K9: (0.3 Tc )
B11: 나. 1본 항타작업능력
C12: Tc | D12: = | E12: α × Ta
D13: Tc = PILE 1본당 시공시간 (MIN)
D14: Ta = PILE 규격에 따른 시공시간(MIN/본)
D15: = | E15: =FIXED(AA15,1) -> 48.0 | G15: MIN/본 | M15: - 건설표준품셈 2011' P460 | AA15: 48
D16: = | E16: =AA16 -> 0.8 | G16: HR/본 | AA16: =TRUNC(AA15/60,3) -> 0.8
D17: ="α(토질계수) = "&AA17&"" -> α(토질계수) = 1 | M17: - 건설표준품셈 2011' P459 | AA17: 1
C18: Tc | D18: = | E18: =AB18&" × "&FIXED(AC18,1)&" / "&AD18&" = "&AA18&" HR/본" -> 1 × 48.0 / 60 = 0.8 HR/본 | AA18: =TRUNC(AB18*AC18/AD18,5) -> 0.8 | AB18: =AA17 -> 1 | AC18: =AA15 -> 48 | AD18: 60
B20: 다. 구성인원 | M20: - 건설표준품셈 2011' P462
C21: 비 계 공 | E21: : | F21: =AB21&" 인 / "&AC21&" HR/일 × "&AD21&" × "&AE21&" = "&FIXED(AA21,5)&" 인/본" -> 2 인 / 8 HR/일 × 0.8 × 0.7765 = 0.15530 인/본 | AA21: =TRUNC(AB21/AC21*AD21*AE21,5) -> 0.1553 | AB21: 2 | AC21: 8 | AD21: =AA18 -> 0.8 | AE21: 0.7765
C22: 보통 인부 | E22: : | F22: =AB22&" 인 / "&AC22&" HR/일 × "&AD22&" × "&AE22&" = "&AA22&" 인/본" -> 2 인 / 8 HR/일 × 0.8 × 0.8866 = 0.17732 인/본 | AA22: =TRUNC(AB22/AC22*AD22*AE22,5) -> 0.17732 | AB22: 2 | AC22: 8 | AD22: =AD21 -> 0.8 | AE22: 0.8866
B24: 라. 잡 재료비 | M24: - 건설표준품셈 2011' P462
C25: ="직접노무비의 "&AA25&" %" -> 직접노무비의 17 % | AA25: 17
A28: 13 | F28: PHC PILE 두부정리 - D400
B30: 가. 재 료 비
C31: ="그라인더날 = "&AA31&" EA/본" -> 그라인더날 = 0.004 EA/본 | AA31: 0.004
C32: ="파 일 캡 = "&FIXED(AA32,3)&" EA/본" -> 파 일 캡 = 1.000 EA/본 | AA32: 1
C33: ="철 선 = "&AA33&" KG/본" -> 철 선 = 0.007 KG/본 | AA33: 0.007
B35: 나. 노 무 비
C36: 할 석 공 | E36: : | F36: =AB36&" 인/본 × "&AC36&" = "&FIXED(AA36,5)&" 인/본" -> 0.032 인/본 × 0.7507 = 0.02402 인/본 | AA36: =TRUNC(AB36*AC36,5) -> 0.02402 | AB36: 0.032 | AC36: 0.7507
C37: 보통 인부 | E37: : | F37: =FIXED(AB37,3)&" 인/본 × "&AC37&" = "&FIXED(AA37,5)&" 인/본" -> 0.020 인/본 × 0.8866 = 0.01773 인/본 | AA37: =TRUNC(AB37*AC37,5) -> 0.01773 | AB37: 0.02 | AC37: 0.8866
B39: 다. 경 비
C40: ="굴 삭 기 (0.2M2) = "&AA40&" HR/본" -> 굴 삭 기 (0.2M2) = 0.01 HR/본 | AA40: 0.01
A43: 14 | F43: 파일 하차비 | M43: (수송 및 부대작업요율 적용, '07.08.01 한국전력공사)
B45: 가. 파일 하차비
C46: - 하 차 비 : | L46: =+AA46 -> 3439 | O46: 원/TON | AA46: 3439
C47: - 하차비 할증(30%, 장척물 6.0M이상) : | L47: =+AA47 -> 1031 | O47: 원/TON | AA47: =TRUNC(AA46*30%,0) -> 1031
A50: =A43+1 -> 15 | F50: 말뚝 재하시험(동적 D400)
B52: 가. 항타장비조합 | M52: - 건설표준품셈 2011' P795
C53: 1. 무한궤도크레인 35TON : 1대 | K53: (Tc )
C54: 2. 유압파일해머 5TON : 1대 | K54: (Tc )
C55: 3. LEADER (L=24M, 고정형) : 1대 | K55: (Tc )
B57: 나. 1본 항타작업능력
C58: Tt | D58: = | E58: Tm + Ts + Ta
D59: Tm(장비이동 및 거치시간) = | J59: =AA59 -> 10 | L59: MIN | AA59: 10
D60: Ts(1회당 준비시간) = | J60: =AA60 -> 30 | L60: MIN | AA60: 30
D61: Ta(1회당 시험시간) = | J61: =AA61 -> 20 | L61: MIN | AA61: 20
C62: Tt | D62: = | E62: ="("&FIXED(AB62,1)&" MIN + "&FIXED(AC62,1)&" MIN + "&FIXED(AD62,1)&" MIN) / "&FIXED(AE62,1)&" MIN/회 = "&FIXED(AA62,1)&" HR/회" -> (10.0 MIN + 30.0 MIN + 20.0 MIN) / 60.0 MIN/회 = 1.0 HR/회 | AA62: =TRUNC((AB62+AC62+AD62)/AE62,5) -> 1 | AB62: =AA59 -> 10 | AC62: =AA60 -> 30 | AD62: =AA61 -> 20 | AE62: 60
B64: 다. 구성인원
C65: 중급 기술자 | F65: : | G65: =AB65&" 인/회 × "&FIXED(AC65,4)&" = "&FIXED(AA65,5)&" 인/회" -> 0.46 인/회 × 1.0000 = 0.46000 인/회 | AA65: =TRUNC(AB65*AC65,5) -> 0.46 | AB65: 0.46 | AC65: 1
C66: 초급 기술자 | F66: : | G66: =AB66&" 인/회 × "&FIXED(AC66,4)&" = "&FIXED(AA66,5)&" 인/회" -> 0.46 인/회 × 1.0000 = 0.46000 인/회 | AA66: =TRUNC(AB66*AC66,5) -> 0.46 | AB66: 0.46 | AC66: 1
C67: 보 통 인 부 | F67: : | G67: =AB67&" 인/회 × "&FIXED(AC67,4)&" = "&FIXED(AA67,5)&" 인/회" -> 0.46 인/회 × 0.8866 = 0.40783 인/회 | AA67: =TRUNC(AB67*AC67,5) -> 0.40783 | AB67: 0.46 | AC67: 0.8866
B69: 라. 잡 재료비
C70: ="직접노무비의 "&AA70&" %" -> 직접노무비의 2 % | AA70: 2
A73: 16 | F73: 자분탐상시험(MT시험)-D400 | M73: - 건설표준품셈 2011' P1478
B75: 가. 적용기준
C76: - 기술관리, 표면처리, 본작업, 전선가설, 보고서작성 및 작업정리비 포함
C77: - 배관인 경우 3.14 × 검사부 길이(직경) × (1 + 검사물량에 따른 보정률)
B79: 나. 재 료 비
C80: 형광 습식자분 | F80: : | G80: =AB80&" L/EA × "&AC80&" × "&AD80&" × "&AE80&" = "&FIXED(AA80,5)&" L/EA" -> 0.095 L/EA × 3.14 × 0.4 × 1.1 = 0.13125 L/EA | AA80: =TRUNC(AB80*AC80*AD80*AE80,5) -> 0.13125 | AB80: 0.095 | AC80: 3.14 | AD80: 0.4 | AE80: 1.1
C81: 세 척 제 | F81: : | G81: =AB81&" g/EA × "&AC81&" × "&AD81&" × "&AE81&" = "&FIXED(AA81,5)&" L/EA" -> 120.32 g/EA × 3.14 × 0.4 × 1.1 = 166.23411 L/EA | AA81: =TRUNC(AB81*AC81*AD81*AE81,5) -> 166.23411 | AB81: 120.32 | AC81: 3.14 | AD81: 0.4 | AE81: 1.1
C82: 청 테 이 프 | F82: : | G82: =AB82&" RL/EA × "&AC82&" × "&AD82&" × "&AE82&" = "&FIXED(AA82,5)&" L/EA" -> 0.133 RL/EA × 3.14 × 0.4 × 1.1 = 0.18375 L/EA | AA82: =TRUNC(AB82*AC82*AD82*AE82,5) -> 0.18375 | AB82: 0.133 | AC82: 3.14 | AD82: 0.4 | AE82: 1.1
C83: 소 창 직 | F83: : | G83: =FIXED(AB83,3)&" M/EA × "&AC83&" × "&AD83&" × "&AE83&" = "&FIXED(AA83,5)&" L/EA" -> 0.690 M/EA × 3.14 × 0.4 × 1.1 = 0.95330 L/EA | AA83: =TRUNC(AB83*AC83*AD83*AE83,5) -> 0.9533 | AB83: 0.69 | AC83: 3.14 | AD83: 0.4 | AE83: 1.1
C84: 건 전 지 | F84: : | G84: =AB84&" EA/EA × "&AC84&" × "&AD84&" × "&AE84&" = "&FIXED(AA84,5)&" L/EA" -> 0.159 EA/EA × 3.14 × 0.4 × 1.1 = 0.21967 L/EA | AA84: =TRUNC(AB84*AC84*AD84*AE84,5) -> 0.21967 | AB84: 0.159 | AC84: 3.14 | AD84: 0.4 | AE84: 1.1
C85: 마 킹 펜 | F85: : | G85: =AB85&" EA/EA × "&AC85&" × "&AD85&" × "&AE85&" = "&FIXED(AA85,5)&" L/EA" -> 0.115 EA/EA × 3.14 × 0.4 × 1.1 = 0.15888 L/EA | AA85: =TRUNC(AB85*AC85*AD85*AE85,5) -> 0.15888 | AB85: 0.115 | AC85: 3.14 | AD85: 0.4 | AE85: 1.1
B87: 다. 노 무 비
C88: 중급 기술자 | F88: : | G88: =AB88&" 인/EA × "&AC88&" × "&AD88&" × "&FIXED(AE88,4)&" × "&FIXED(AF88,4)&" = "&FIXED(AA88,5)&" 인/EA" -> 0.096 인/EA × 3.14 × 0.4 × 1.0000 × 1.1000 = 0.13263 인/EA | AA88: =TRUNC(AB88*AC88*AD88*AE88*AF88,5) -> 0.13263 | AB88: 0.096 | AC88: 3.14 | AD88: 0.4 | AE88: 1 | AF88: 1.1
C89: 비파괴 시험공 | F89: : | G89: =FIXED(AB89,3)&" 인/EA × "&AC89&" × "&AD89&" × "&FIXED(AE89,4)&" × "&FIXED(AF89,4)&" = "&FIXED(AA89,5)&" 인/EA" -> 0.550 인/EA × 3.14 × 0.4 × 0.7154 × 1.1000 = 0.54361 인/EA | AA89: =TRUNC(AB89*AC89*AD89*AE89*AF89,5) -> 0.54361 | AB89: 0.55 | AC89: 3.14 | AD89: 0.4 | AE89: 0.7154 | AF89: 1.1
C90: 플랜트 전공 | F90: : | G90: =AB90&" 인/EA × "&AC90&" × "&AD90&" × "&FIXED(AE90,4)&" × "&FIXED(AF90,4)&" = "&FIXED(AA90,5)&" 인/EA" -> 0.096 인/EA × 3.14 × 0.4 × 0.9336 × 1.1000 = 0.12382 인/EA | AA90: =TRUNC(AB90*AC90*AD90*AE90*AF90,5) -> 0.12382 | AB90: 0.096 | AC90: 3.14 | AD90: 0.4 | AE90: 0.9336 | AF90: 1.1
C91: 특 별 인 부 | F91: : | G91: =FIXED(AB91,3)&" 인/EA × "&AC91&" × "&AD91&" × "&FIXED(AE91,4)&" × "&FIXED(AF91,4)&" = "&FIXED(AA91,5)&" 인/EA" -> 0.300 인/EA × 3.14 × 0.4 × 0.7881 × 1.1000 = 0.32665 인/EA | AA91: =TRUNC(AB91*AC91*AD91*AE91*AF91,5) -> 0.32665 | AB91: 0.3 | AC91: 3.14 | AD91: 0.4 | AE91: 0.7881 | AF91: 1.1
A94: =A73+1 -> 17 | F94: 자분탐상시험(MT시험)-D500 | M94: - 건설표준품셈 2011' P1478
B96: 가. 적용기준
C97: - 기술관리, 표면처리, 본작업, 전선가설, 보고서작성 및 작업정리비 포함
C98: - 배관인 경우 3.14 × 검사부 길이(직경) × (1 + 검사물량에 따른 보정률)
B100: 나. 재 료 비
C101: 형광 습식자분 | F101: : | G101: =AB101&" L/EA × "&AC101&" × "&AD101&" × "&AE101&" = "&FIXED(AA101,5)&" L/EA" -> 0.095 L/EA × 3.14 × 0.5 × 1.1 = 0.16406 L/EA | AA101: =TRUNC(AB101*AC101*AD101*AE101,5) -> 0.16406 | AB101: 0.095 | AC101: 3.14 | AD101: 0.5 | AE101: 1.1
C102: 세 척 제 | F102: : | G102: =AB102&" g/EA × "&AC102&" × "&AD102&" × "&AE102&" = "&FIXED(AA102,5)&" L/EA" -> 120.32 g/EA × 3.14 × 0.5 × 1.1 = 207.79264 L/EA | AA102: =TRUNC(AB102*AC102*AD102*AE102,5) -> 207.79264 | AB102: 120.32 | AC102: 3.14 | AD102: 0.5 | AE102: 1.1
C103: 청 테 이 프 | F103: : | G103: =AB103&" RL/EA × "&AC103&" × "&AD103&" × "&AE103&" = "&FIXED(AA103,5)&" L/EA" -> 0.133 RL/EA × 3.14 × 0.5 × 1.1 = 0.22969 L/EA | AA103: =TRUNC(AB103*AC103*AD103*AE103,5) -> 0.22969 | AB103: 0.133 | AC103: 3.14 | AD103: 0.5 | AE103: 1.1
C104: 소 창 직 | F104: : | G104: =FIXED(AB104,3)&" M/EA × "&AC104&" × "&AD104&" × "&AE104&" = "&FIXED(AA104,5)&" L/EA" -> 0.690 M/EA × 3.14 × 0.5 × 1.1 = 1.19163 L/EA | AA104: =TRUNC(AB104*AC104*AD104*AE104,5) -> 1.19163 | AB104: 0.69 | AC104: 3.14 | AD104: 0.5 | AE104: 1.1
C105: 건 전 지 | F105: : | G105: =AB105&" EA/EA × "&AC105&" × "&AD105&" × "&AE105&" = "&FIXED(AA105,5)&" L/EA" -> 0.159 EA/EA × 3.14 × 0.5 × 1.1 = 0.27459 L/EA | AA105: =TRUNC(AB105*AC105*AD105*AE105,5) -> 0.27459 | AB105: 0.159 | AC105: 3.14 | AD105: 0.5 | AE105: 1.1
C106: 마 킹 펜 | F106: : | G106: =AB106&" EA/EA × "&AC106&" × "&AD106&" × "&AE106&" = "&FIXED(AA106,5)&" L/EA" -> 0.115 EA/EA × 3.14 × 0.5 × 1.1 = 0.19860 L/EA | AA106: =TRUNC(AB106*AC106*AD106*AE106,5) -> 0.1986 | AB106: 0.115 | AC106: 3.14 | AD106: 0.5 | AE106: 1.1
B108: 다. 노 무 비
C109: 중급 기술자 | F109: : | G109: =AB109&" 인/EA × "&AC109&" × "&AD109&" × "&FIXED(AE109,4)&" × "&FIXED(AF109,4)&" = "&FIXED(AA109,5)&" 인/EA" -> 0.096 인/EA × 3.14 × 0.5 × 1.0000 × 1.1000 = 0.16579 인/EA | AA109: =TRUNC(AB109*AC109*AD109*AF109*AG109,5) -> 0.16579 | AB109: 0.096 | AC109: 3.14 | AD109: 0.5 | AE109: 1 | AF109: 1.1 | AG109: 1
C110: 비파괴 시험공 | F110: : | G110: =FIXED(AB110,3)&" 인/EA × "&AC110&" × "&AD110&" × "&FIXED(AE110,4)&" × "&FIXED(AF110,4)&" = "&FIXED(AA110,5)&" 인/EA" -> 0.550 인/EA × 3.14 × 0.5 × 0.7154 × 1.1000 = 0.67952 인/EA | AA110: =TRUNC(AB110*AC110*AD110*AF110*AG110,5) -> 0.67952 | AB110: 0.55 | AC110: 3.14 | AD110: 0.5 | AE110: 0.7154 | AF110: 1.1 | AG110: 0.7154
C111: 플랜트 전공 | F111: : | G111: =AB111&" 인/EA × "&AC111&" × "&AD111&" × "&FIXED(AE111,4)&" × "&FIXED(AF111,4)&" = "&FIXED(AA111,5)&" 인/EA" -> 0.096 인/EA × 3.14 × 0.5 × 0.9336 × 1.1000 = 0.15478 인/EA | AA111: =TRUNC(AB111*AC111*AD111*AF111*AG111,5) -> 0.15478 | AB111: 0.096 | AC111: 3.14 | AD111: 0.5 | AE111: 0.9336 | AF111: 1.1 | AG111: 0.9336
C112: 특 별 인 부 | F112: : | G112: =FIXED(AB112,3)&" 인/EA × "&AC112&" × "&AD112&" × "&FIXED(AE112,4)&" × "&FIXED(AF112,4)&" = "&FIXED(AA112,5)&" 인/EA" -> 0.300 인/EA × 3.14 × 0.5 × 0.7881 × 1.1000 = 0.40831 인/EA | AA112: =TRUNC(AB112*AC112*AD112*AF112*AG112,5) -> 0.40831 | AB112: 0.3 | AC112: 3.14 | AD112: 0.5 | AE112: 0.7881 | AF112: 1.1 | AG112: 0.7881

Sheet 별표-7
A1: 산 출 근 거 | B1: 재 료 비 | C1: 노 무 비 | D1: 경 비 | E1: 합 계 | F1: 비 고
A3: 별표 - 32 암깨기 | 연암|M3 | B3: 6261 | C3: 7813 | D3: 7761 | E3: 21835
A6: 1. 장비조합 : 대형브레이커0.7㎥ + 백호0.7㎥적용
A8: 2. 작업능력
A10: Q = (2.6+4.6)/2=3.60 ㎥/hr 적용
A12: 가) 대형브레이커
A14: 재료비= 0/3.6=0.0 원/m³ | F14: MA("E012")
A16: 노무비= 0/3.6=0.0 원/m³ | F16: LA("E012")
A18: 경 비= 8,982/3.6=2,495.0 원/m³ | D18: 2495 | E18: 2495 | F18: EQ("E012")
A20: 나) 백호 | D20: 2495 | E20: 2495
A21: 재료비= 21,029/3.6=5,841.3 원/m³
A23: 노무비= 18,876/3.6=5,243.3 원/m³ | B23: 5841.3 | E23: 5841.3 | F23: MA("E007")
A25: 경 비= 18,961/3.6=5,266.9 원/m³ | C25: 5243.3 | E25: 5243.3 | F25: LA("E007")
A27: 다) 치즐 | D27: 5266.9 | E27: 5266.9 | F27: EQ("E007")
A28: 치즐 소모량 : 연암기준
A29: P=0.006 본/hr | B29: 5841.3 | C29: 5243.3 | D29: 5266.9 | E29: 16351.5
A31: 치 즐 =252,000*0.006/3.6=420.0 원/m³
A33: 라) 치즐
A34: 보통인부 =1 인 *74,008/8/3.6*0.8866=2,278.3 원/m³
B35: 420 | E35: 420 | F35: TOT("M003")
B37: 420 | E37: 420
C40: 2569.7 | E40: 2569.7 | F40: TOT("L084")
C42: 2569.7 | E42: 2569.7
B44: 6261.3 | C44: 7813 | D44: 7761.9 | E44: 21836.2
B46: 6261 | C46: 7813 | D46: 7761 | E46: 21835
A48: 별표 - 33 암깨기 | 경암|M3 | B48: 7941 | C48: 7813 | D48: 7761 | E48: 23515
A51: 1. 장비조합 : 대형브레이커0.7㎥ + 백호0.7㎥적용
A53: 2. 작업능력
A55: Q = (2.6+4.6)/2=3.60 ㎥/hr 적용
A57: 가) 대형브레이커
A59: 재료비= 0/3.6=0.0 원/m³ | F59: MA("E012")
A61: 노무비= 0/3.6=0.0 원/m³ | F61: LA("E012")
A63: 경 비= 8,982/3.6=2,495.0 원/m³ | D63: 2495 | E63: 2495 | F63: EQ("E012")
A65: 나) 백호 | D65: 2495 | E65: 2495
A66: 재료비= 21,029/3.6=5,841.3 원/m³
A68: 노무비= 18,876/3.6=5,243.3 원/m³ | B68: 5841.3 | E68: 5841.3 | F68: MA("E007")
A70: 경 비= 18,961/3.6=5,266.9 원/m³ | C70: 5243.3 | E70: 5243.3 | F70: LA("E007")
A72: 다) 치즐 | D72: 5266.9 | E72: 5266.9 | F72: EQ("E007")
A73: 치즐 소모량 : 경암암기준
A74: P=0.03 본/hr | B74: 5841.3 | C74: 5243.3 | D74: 5266.9 | E74: 16351.5
A76: 치 즐 =252,000*0.03/3.6=2,100.0 원/m³
A78: 라) 치즐
A79: 보통인부 =1 인 *74,008/8/3.6*0.8866=2,278.3 원/m³
A93: 별표 - 34 기계터파기 | 풍화암|M3 | B93: 3788 | C93: 3172 | D93: 4696 | E93: 11656
A96: 1. 장비조합 : 대형브레이커0.7㎥ + 백호0.7㎥적용
A98: 2. 작업능력 : 연암기준 3.5㎥/hr로서 일축압축강도 기준으로
A99: 연암 : 850kg/㎠
A100: 풍화암 : 500kg/㎠
A102: Q = 5.95 ㎥/hr 적용
A104: 3. 치즐 소모량 : 연암기준
A105: P=0.006 본/hr
A107: 가) 백호
A108: 재료비= 21,029/5.95=3,534.2 원/m³ | B108: 3534.2 | E108: 3534.2 | F108: MA("E007")
A110: 노무비= 18,876/5.95=3,172.4 원/m³ | C110: 3172.4 | E110: 3172.4 | F110: LA("E007")
A112: 경 비= 18,961/5.95=3,186.7 원/m³ | D112: 3186.7 | E112: 3186.7 | F112: EQ("E007")
A114: 나) 브레이커 | B114: 3534.2 | C114: 3172.4 | D114: 3186.7 | E114: 9893.3
A116: 재료비= 0/5.95=0.0 원/m³
A118: 노무비= 0/5.95=0.0 원/m³ | F118: MA("E012")
A120: 경 비= 8,982/5.95=1,509.5 원/m³ | F120: LA("E012")
A122: 다) 치즐 | D122: 1509.5 | E122: 1509.5 | F122: EQ("E012")
A123: 치 즐 =252,000*0.006/5.95=254.1 원/m³
A135: 별표 - 35 기계터파기 | 연암|M3 | B135: 6440 | C135: 5393 | D135: 7983 | E135: 19816
A138: 1. 장비조합 : 대형브레이커0.7㎥ + 백호0.7㎥적용
A140: 2. 작업능력
A142: Q = 3.5 ㎥/hr 적용
A144: 3. 치즐 소모량 : 연암기준
A145: P=0.006 본/hr
A147: 가) 백호
A148: 재료비= 21,029/3.5=6,008.2 원/m³ | B148: 6008.2 | E148: 6008.2 | F148: MA("E007")
A150: 노무비= 18,876/3.5=5,393.1 원/m³ | C150: 5393.1 | E150: 5393.1 | F150: LA("E007")
A152: 경 비= 18,961/3.5=5,417.4 원/m³ | D152: 5417.4 | E152: 5417.4 | F152: EQ("E007")
A154: 나) 브레이커 | B154: 6008.2 | C154: 5393.1 | D154: 5417.4 | E154: 16818.7
A156: 재료비= 0/3.5=0.0 원/m³
A158: 노무비= 0/3.5=0.0 원/m³ | F158: MA("E012")
A160: 경 비= 8,982/3.5=2,566.2 원/m³ | F160: LA("E012")
A162: 다) 치즐 | D162: 2566.2 | E162: 2566.2 | F162: EQ("E012")
A163: 치 즐 =252,000*0.006/3.5=432.0 원/m³
A175: 별표 - 36 기계터파기 | 경암|M3 | B175: 15882 | C175: 10486 | D175: 15523 | E175: 41891
A178: 1. 장비조합 : 대형브레이커0.7㎥ + 백호0.7㎥적용
A180: 2. 작업능력
A182: Q = 1.80 ㎥/hr 적용
A184: 3. 치즐 소모량 : 연암기준
A185: P=0.03 본/hr
A187: 가) 백호
A188: 재료비= 21,029/1.8=11,682.7 원/m³ | B188: 11682.7 | E188: 11682.7 | F188: MA("E007")
A190: 노무비= 18,876/1.8=10,486.6 원/m³ | C190: 10486.6 | E190: 10486.6 | F190: LA("E007")
A192: 경 비= 18,961/1.8=10,533.8 원/m³ | D192: 10533.8 | E192: 10533.8 | F192: EQ("E007")
A194: 나) 브레이커 | B194: 11682.7 | C194: 10486.6 | D194: 10533.8 | E194: 32703.1
A196: 재료비= 0/1.8=0.0 원/m³
A198: 노무비= 0/1.8=0.0 원/m³ | F198: MA("E012")
A200: 경 비= 8,982/1.8=4,990.0 원/m³ | F200: LA("E012")
A202: 다) 치즐 | D202: 4990 | E202: 4990 | F202: EQ("E012")
A203: 치 즐 =252,000*0.03/1.8=4,200.0 원/m³
A215: 별표 - 37 암깨기 | 보통암|M3 | B215: 7241 | C215: 7813 | D215: 7761 | E215: 22815
A218: 1. 장비조합 : 대형브레이커0.7㎥ + 백호0.7㎥적용
A220: 2. 작업능력
A222: Q = (2.6+4.6)/2=3.60 ㎥/hr 적용
A224: 가) 대형브레이커
A226: 재료비= 0/3.6=0.0 원/m³ | F226: MA("E012")
A228: 노무비= 0/3.6=0.0 원/m³ | F228: LA("E012")
...

Sheet 별표-9
A2: 별표 - 41 철근콘크리트깨기 30CM 이상
A5: 가. 조합 기계
A7: 1) 대형브레이커 : 1대
A9: 2) 유압식 백호(0.7m3) : 1대
A12: 나. 작업 능력 (철근구조물, 평균두께 30cm이상)
A14: Q = (1.4 + 2.7) / 2 = 2.0500 M3/HR
A16: 1 / Q = 1 / 2.05 = 0.4878 HR/M3
A19: 다. 작업인원
A21: 1) 용 접 공 = 0.02 인 * 0.8206 = 0.0164 인/M3
A23: 2) 보통인부 = 0.08 인 * 0.8866 = 0.0709 인/M3
A26: 별표 - 42 철근콘크리트깨기 30CM 미만
A29: 가. 조합 기계
... A275: 1 / Q = 0.0051 HR/M3

Sheet 현가화단가산출내역
A1: =#REF! -> #REF! | E1: : 현가화 단가산출 내역
A2: 공 종 명 | B2: 규 격 | C2: 단위 | D2: 선행호기 | G2: 단 가 | J2: 비 고
D3: 재 료 비 | E3: 노 무 비 | F3: 경 비 | G3: 재 료 비 | H3: 노 무 비 | I3: 경 비
A4: 태안화력 #9,10 냉각수 취수펌프구조물 축조공사 | G4: 0.9992 | H4: 1 | I4: 1 | J4: 11년10월기준
A6: ='내역서(태안화력)'!A7 -> 1. 사급재료비
A7: ='내역서(태안화력)'!A8 -> #REF! | B7: ='내역서(태안화력)'!B8 -> #REF! | C7: ='내역서(태안화력)'!D8 -> #REF! | D7: ='내역서(태안화력)'!E8 -> #REF! | G7: =INT(D7*G$4) -> #REF!
A8: ='내역서(태안화력)'!A9 -> #REF! | B8: ='내역서(태안화력)'!B9 -> #REF! | C8: ='내역서(태안화력)'!D9 -> #REF! | D8: ='내역서(태안화력)'!E9 -> #REF! | G8: =INT(D8*G$4) -> #REF!
A9: ='내역서(태안화력)'!A10 -> #REF! | B9: ='내역서(태안화력)'!B10 -> #REF! | C9: ='내역서(태안화력)'!D10 -> #REF! | D9: ='내역서(태안화력)'!E10 -> #REF! | G9: =INT(D9*G$4) -> #REF!
A10: ='내역서(태안화력)'!A11 -> #REF! | B10: ='내역서(태안화력)'!B11 -> #REF! | C10: ='내역서(태안화력)'!D11 -> #REF! | D10: ='내역서(태안화력)'!E11 -> #REF! | G10: =INT(D10*G$4) -> #REF!
A11: ='내역서(태안화력)'!A12 -> #REF! | B11: ='내역서(태안화력)'!B12 -> #REF! | C11: ='내역서(태안화력)'!D12 -> #REF! | D11: ='내역서(태안화력)'!E12 -> #REF! | G11: =INT(D11*G$4) -> #REF!
A12: ='내역서(태안화력)'!A13 -> #REF! | B12: ='내역서(태안화력)'!B13 -> #REF! | C12: ='내역서(태안화력)'!D13 -> #REF! | D12: ='내역서(태안화력)'!E13 -> #REF! | G12: =INT(D12*G$4) -> #REF!
A13: ='내역서(태안화력)'!A14 -> #REF! | B13: ='내역서(태안화력)'!B14 -> #REF! | C13: ='내역서(태안화력)'!D14 -> #REF! | D13: ='내역서(태안화력)'!E14 -> #REF! | G13: =INT(D13*G$4) -> #REF!
A14: ='내역서(태안화력)'!A15 -> #REF! | B14: ='내역서(태안화력)'!B15 -> #REF! | C14: ='내역서(태안화력)'!D15 -> #REF! | D14: ='내역서(태안화력)'!E15 -> #REF! | G14: =INT(D14*G$4) -> #REF!
A15: ='내역서(태안화력)'!A16 -> #REF! | B15: ='내역서(태안화력)'!B16 -> #REF! | C15: ='내역서(태안화력)'!D16 -> #REF! | D15: ='내역서(태안화력)'!E16 -> #REF! | G15: =INT(D15*G$4) -> #REF!
A16: ='내역서(태안화력)'!A17 -> 소 계 | B16: ='내역서(태안화력)'!B17 -> 0 | C16: ='내역서(태안화력)'!D17 -> 0 | D16: ='내역서(태안화력)'!E17 -> 0 | E16: ='내역서(태안화력)'!G17 -> 0 | F16: ='내역서(태안화력)'!I17 -> 0 | G16: =INT(D16*G$4) -> 0 | H16: =INT(E16*H$4) -> 0 | I16: =INT(F16*I$4) -> 0
A17: ='내역서(태안화력)'!A18 -> 0 | B17: ='내역서(태안화력)'!B18 -> 0 | C17: ='내역서(태안화력)'!D18 -> 0 | D17: ='내역서(태안화력)'!E18 -> 0 | E17: ='내역서(태안화력)'!G18 -> 0 | F17: ='내역서(태안화력)'!I18 -> 0 | G17: =INT(D17*G$4) -> 0 | H17: =INT(E17*H$4) -> 0 | I17: =INT(F17*I$4) -> 0
A18: ='내역서(태안화력)'!A19 -> 사급재료비 계 | B18: ='내역서(태안화력)'!B19 -> 0 | C18: ='내역서(태안화력)'!D19 -> 0 | D18: ='내역서(태안화력)'!E19 -> 0 | E18: ='내역서(태안화력)'!G19 -> 0 | F18: ='내역서(태안화력)'!I19 -> 0 | G18: =INT(D18*G$4) -> 0 | H18: =INT(E18*H$4) -> 0 | I18: =INT(F18*I$4) -> 0
A19: ='내역서(태안화력)'!A20 -> 0 | B19: ='내역서(태안화력)'!B20 -> 0 | C19: ='내역서(태안화력)'!D20 -> 0 | D19: ='내역서(태안화력)'!E20 -> 0 | E19: ='내역서(태안화력)'!G20 -> 0 | F19: ='내역서(태안화력)'!I20 -> 0 | G19: =INT(D19*G$4) -> 0 | H19: =INT(E19*H$4) -> 0 | I19: =INT(F19*I$4) -> 0
A20: ='내역서(태안화력)'!A21 -> 2. 회사분경비 | B20: ='내역서(태안화력)'!B21 -> 0 | C20: ='내역서(태안화력)'!D21 -> 0 | D20: ='내역서(태안화력)'!E21 -> 0 | E20: ='내역서(태안화력)'!G21 -> 0 | F20: ='내역서(태안화력)'!I21 -> 0 | G20: =INT(D20*G$4) -> 0 | H20: =INT(E20*H$4) -> 0 | I20: =INT(F20*I$4) -> 0
A21: ='내역서(태안화력)'!A22 -> 1)제세공과금 | B21: ='내역서(태안화력)'!B22 -> 0 | C21: ='내역서(태안화력)'!D22 -> (사급재료비 + 도급공사비) * 4.0% | D21: ='내역서(태안화력)'!E22 -> 0 | E21: ='내역서(태안화력)'!G22 -> 0 | F21: ='내역서(태안화력)'!I22 -> 0 | G21: =INT(D21*G$4) -> 0 | H21: =INT(E21*H$4) -> 0 | I21: =INT(F21*I$4) -> 0
A22: ='내역서(태안화력)'!A23 -> 2)조달수수료 | B22: ='내역서(태안화력)'!B23 -> 0 | C22: ='내역서(태안화력)'!D23 -> (사급재료비) * 0.5% | D22: ='내역서(태안화력)'!E23 -> 0 | E22: ='내역서(태안화력)'!G23 -> 0 | F22: ='내역서(태안화력)'!I23 -> 0 | G22: =INT(D22*G$4) -> 0 | H22: =INT(E22*H$4) -> 0 | I22: =INT(F22*I$4) -> 0
A23: ='내역서(태안화력)'!A24 -> 0 | B23: ='내역서(태안화력)'!B24 -> 0 | C23: ='내역서(태안화력)'!D24 -> 0 | D23: ='내역서(태안화력)'!E24 -> 0 | E23: ='내역서(태안화력)'!G24 -> 0 | F23: ='내역서(태안화력)'!I24 -> 0 | G23: =INT(D23*G$4) -> 0 | H23: =INT(E23*H$4) -> 0 | I23: =INT(F23*I$4) -> 0
A24: ='내역서(태안화력)'!A25 -> 회사분경비 계 | B24: ='내역서(태안화력)'!B25 -> 0 | C24: ='내역서(태안화력)'!D25 -> 0 | D24: ='내역서(태안화력)'!E25 -> 0 | E24: ='내역서(태안화력)'!G25 -> 0 | F24: ='내역서(태안화력)'!I25 -> 0 | G24: =INT(D24*G$4) -> 0 | H24: =INT(E24*H$4) -> 0 | I24: =INT(F24*I$4) -> 0
A25: ='내역서(태안화력)'!A26 -> 회사취급비 계 | B25: ='내역서(태안화력)'!B26 -> 0 | C25: ='내역서(태안화력)'!D26 -> 0 | D25: ='내역서(태안화력)'!E26 -> 0 | E25: ='내역서(태안화력)'!G26 -> 0 | F25: ='내역서(태안화력)'!I26 -> 0 | G25: =INT(D25*G$4) -> 0 | H25: =INT(E25*H$4) -> 0 | I25: =INT(F25*I$4) -> 0
A26: ='내역서(태안화력)'!A27 -> 0 | B26: ='내역서(태안화력)'!B27 -> 0 | C26: ='내역서(태안화력)'!D27 -> 0 | D26: ='내역서(태안화력)'!E27 -> 0 | E26: ='내역서(태안화력)'!G27 -> 0 | F26: ='내역서(태안화력)'!I27 -> 0 | G26: =INT(D26*G$4) -> 0 | H26: =INT(E26*H$4) -> 0 | I26: =INT(F26*I$4) -> 0
A27: ='내역서(태안화력)'!A28 -> 0 | B27: ='내역서(태안화력)'!B28 -> 0 | C27: ='내역서(태안화력)'!D28 -> 0 | D27: ='내역서(태안화력)'!E28 -> 0 | E27: ='내역서(태안화력)'!G28 -> 0 | F27: ='내역서(태안화력)'!I28 -> 0 | G27: =INT(D27*G$4) -> 0 | H27: =INT(E27*H$4) -> 0 | I27: =INT(F27*I$4) -> 0
A28: ='내역서(태안화력)'!A29 -> B. 도급공사비 | B28: ='내역서(태안화력)'!B29 -> 0 | C28: ='내역서(태안화력)'!D29 -> 0 | D28: ='내역서(태안화력)'!E29 -> 0 | E28: ='내역서(태안화력)'!G29 -> 0 | F28: ='내역서(태안화력)'!I29 -> 0 | G28: =INT(D28*G$4) -> 0 | H28: =INT(E28*H$4) -> 0 | I28: =INT(F28*I$4) -> 0
A30: ='내역서(태안화력)'!A31 -> 지입재료비
A31: ='내역서(태안화력)'!A32 -> #REF! | B31: ='내역서(태안화력)'!B32 -> #REF! | C31: ='내역서(태안화력)'!D32 -> #REF! | D31: ='내역서(태안화력)'!E32 -> #REF! | G31: =INT(D31*G$4) -> #REF!
A32: ='내역서(태안화력)'!A33 -> #REF! | B32: ='내역서(태안화력)'!B33 -> #REF! | C32: ='내역서(태안화력)'!D33 -> #REF! | D32: ='내역서(태안화력)'!E33 -> #REF! | G32: =INT(D32*G$4) -> #REF!
A33: ='내역서(태안화력)'!A34 -> #REF! | B33: ='내역서(태안화력)'!B34 -> #REF! | C33: ='내역서(태안화력)'!D34 -> #REF! | D33: ='내역서(태안화력)'!E34 -> #REF! | G33: =INT(D33*G$4) -> #REF!
A34: ='내역서(태안화력)'!A35 -> #REF! | B34: ='내역서(태안화력)'!B35 -> #REF! | C34: ='내역서(태안화력)'!D35 -> #REF! | D34: ='내역서(태안화력)'!E35 -> #REF! | G34: =INT(D34*G$4) -> #REF!
A35: ='내역서(태안화력)'!A36 -> #REF! | B35: ='내역서(태안화력)'!B36 -> #REF! | C35: ='내역서(태안화력)'!D36 -> #REF! | D35: ='내역서(태안화력)'!E36 -> #REF! | G35: =INT(D35*G$4) -> #REF!
A36: ='내역서(태안화력)'!A37 -> #REF! | B36: ='내역서(태안화력)'!B37 -> #REF! | C36: ='내역서(태안화력)'!D37 -> #REF! | D36: ='내역서(태안화력)'!E37 -> #REF! | G36: =INT(D36*G$4) -> #REF!
A37: ='내역서(태안화력)'!A38 -> #REF! | B37: ='내역서(태안화력)'!B38 -> #REF! | C37: ='내역서(태안화력)'!D38 -> #REF! | D37: ='내역서(태안화력)'!E38 -> #REF! | G37: =INT(D37*G$4) -> #REF!
A38: ='내역서(태안화력)'!A39 -> #REF! | B38: ='내역서(태안화력)'!B39 -> #REF! | C38: ='내역서(태안화력)'!D39 -> #REF! | D38: ='내역서(태안화력)'!E39 -> #REF! | G38: =INT(D38*G$4) -> #REF!
A39: ='내역서(태안화력)'!A40 -> #REF! | B39: ='내역서(태안화력)'!B40 -> #REF! | C39: ='내역서(태안화력)'!D40 -> #REF! | D39: ='내역서(태안화력)'!E40 -> #REF! | G39: =INT(D39*G$4) -> #REF!
A40: ='내역서(태안화력)'!A41 -> #REF! | B40: ='내역서(태안화력)'!B41 -> #REF! | C40: ='내역서(태안화력)'!D41 -> #REF! | D40: ='내역서(태안화력)'!E41 -> #REF! | G40: =INT(D40*G$4) -> #REF!
A41: ='내역서(태안화력)'!A42 -> #REF! | B41: ='내역서(태안화력)'!B42 -> #REF! | C41: ='내역서(태안화력)'!D42 -> #REF! | D41: ='내역서(태안화력)'!E42 -> #REF! | G41: =INT(D41*G$4) -> #REF!
A42: ='내역서(태안화력)'!A43 -> #REF! | B42: ='내역서(태안화력)'!B43 -> #REF! | C42: ='내역서(태안화력)'!D43 -> #REF! | D42: ='내역서(태안화력)'!E43 -> #REF! | G42: =INT(D42*G$4) -> #REF!
... A72: ='내역서(태안화력)'!A73 -> #REF! | B72: ='내역서(태안화력)'!B73 -> #REF! | C72: ='내역서(태안화력)'!D73 -> #REF! | D72: ='내역서(태안화력)'!E73 -> #REF! | G72: =INT(D72*G$4) -> #REF!
A73: ='내역서(태안화력)'!A74 -> 소 계 | B73: ='내역서(태안화력)'!B74 | C73: ='내역서(태안화력)'!D74 | D73: ='내역서(태안화력)'!E74 -> 0 | E73: ='내역서(태안화력)'!G74 -> 0 | F73: ='내역서(태안화력)'!I74 -> 0 | G73: =INT(D73*G$4) -> 0 | H73: =INT(E73*H$4) -> 0 | I73: =INT(F73*I$4) -> 0
A74: ='내역서(태안화력)'!A75 -> 0 | B74: ='내역서(태안화력)'!B75 -> 0 | C74: ='내역서(태안화력)'!D75 -> 0 | D74: ='내역서(태안화력)'!E75 -> 0 | E74: ='내역서(태안화력)'!G75 -> 0 | F74: ='내역서(태안화력)'!I75 -> 0 | G74: =INT(D74*G$4) -> 0 | H74: =INT(E74*H$4) -> 0 | I74: =INT(F74*I$4) -> 0
A75: ='내역서(태안화력)'!A76 -> 지입재료비 계 | B75: ='내역서(태안화력)'!B76 -> 0 | C75: ='내역서(태안화력)'!D76 -> 0 | D75: ='내역서(태안화력)'!E76 -> 0 | E75: ='내역서(태안화력)'!G76 -> 0 | F75: ='내역서(태안화력)'!I76 -> 0 | G75: =INT(D75*G$4) -> 0 | H75: =INT(E75*H$4) -> 0 | I75: =INT(F75*I$4) -> 0
A77: ='내역서(태안화력)'!A78 -> 직접공사비
A78: ='내역서(태안화력)'!A79 -> #REF! | B78: ='내역서(태안화력)'!B79 -> #REF! | C78: ='내역서(태안화력)'!D79 -> #REF! | D78: ='내역서(태안화력)'!E79 -> #REF! | E78: ='내역서(태안화력)'!G79 -> #REF! | F78: ='내역서(태안화력)'!I79 -> #REF! | G78: =INT(D78*G$4) -> #REF! | H78: =INT(E78*H$4) -> #REF! | I78: =INT(F78*I$4) -> #REF!
A79: ='내역서(태안화력)'!A80 -> #REF! | B79: ='내역서(태안화력)'!B80 -> #REF! | C79: ='내역서(태안화력)'!D80 -> #REF! | D79: ='내역서(태안화력)'!E80 -> #REF! | E79: ='내역서(태안화력)'!G80 -> #REF! | F79: ='내역서(태안화력)'!I80 -> #REF! | G79: =INT(D79*G$4) -> #REF! | H79: =INT(E79*H$4) -> #REF! | I79: =INT(F79*I$4) -> #REF!
A80: ='내역서(태안화력)'!A81 -> #REF! | C80: ='내역서(태안화력)'!D81 -> #REF! | D80: ='내역서(태안화력)'!E81 -> #REF! | E80: ='내역서(태안화력)'!G81 -> #REF! | F80: ='내역서(태안화력)'!I81 -> #REF! | G80: =INT(D80*G$4) -> #REF! | H80: =INT(E80*H$4) -> #REF! | I80: =INT(F80*I$4) -> #REF!
A81: ='내역서(태안화력)'!A82 -> #REF! | C81: ='내역서(태안화력)'!D82 -> #REF! | D81: ='내역서(태안화력)'!E82 -> #REF! | E81: ='내역서(태안화력)'!G82 -> #REF! | F81: ='내역서(태안화력)'!I82 -> #REF! | G81: =INT(D81*G$4) -> #REF! | H81: =INT(E81*H$4) -> #REF! | I81: =INT(F81*I$4) -> #REF!
A82: ='내역서(태안화력)'!A83 -> #REF! | B82: ='내역서(태안화력)'!B83 -> #REF! | C82: ='내역서(태안화력)'!D83 -> #REF! | D82: ='내역서(태안화력)'!E83 -> #REF! | E82: ='내역서(태안화력)'!G83 -> #REF! | F82: ='내역서(태안화력)'!I83 -> #REF! | G82: =INT(D82*G$4) -> #REF! | H82: =INT(E82*H$4) -> #REF! | I82: =INT(F82*I$4) -> #REF!
A83: ='내역서(태안화력)'!A84 -> #REF! | B83: ='내역서(태안화력)'!B84 -> #REF! | C83: ='내역서(태안화력)'!D84 -> #REF! | D83: ='내역서(태안화력)'!E84 -> #REF! | E83: ='내역서(태안화력)'!G84 -> #REF! | F83: ='내역서(태안화력)'!I84 -> #REF! | G83: =INT(D83*G$4) -> #REF! | H83: =INT(E83*H$4) -> #REF! | I83: =INT(F83*I$4) -> #REF! | J83: 태안
A84: ='내역서(태안화력)'!A85 -> #REF! | B84: ='내역서(태안화력)'!B85 -> #REF! | C84: ='내역서(태안화력)'!D85 -> #REF! | D84: ='내역서(태안화력)'!E85 -> #REF! | E84: ='내역서(태안화력)'!G85 -> #REF! | F84: ='내역서(태안화력)'!I85 -> #REF! | G84: =INT(D84*G$4) -> #REF! | H84: =INT(E84*H$4) -> #REF! | I84: =INT(F84*I$4) -> #REF!
A85: ='내역서(태안화력)'!A86 -> #REF! | B85: ='내역서(태안화력)'!B86 -> #REF! | C85: ='내역서(태안화력)'!D86 -> #REF! | D85: ='내역서(태안화력)'!E86 -> #REF! | E85: ='내역서(태안화력)'!G86 -> #REF! | F85: ='내역서(태안화력)'!I86 -> #REF! | G85: =INT(D85*G$4) -> #REF! | H85: =INT(E85*H$4) -> #REF! | I85: =INT(F85*I$4) -> #REF!
A86: ='내역서(태안화력)'!A87 -> #REF! | B86: ='내역서(태안화력)'!B87 -> #REF! | C86: ='내역서(태안화력)'!D87 -> #REF! | D86: ='내역서(태안화력)'!E87 -> #REF! | E86: ='내역서(태안화력)'!G87 -> #REF! | F86: ='내역서(태안화력)'!I87 -> #REF! | G86: =INT(D86*G$4) -> #REF! | H86: =INT(E86*H$4) -> #REF! | I86: =INT(F86*I$4) -> #REF!
A87: ='내역서(태안화력)'!A88 -> #REF! | B87: ='내역서(태안화력)'!B88 -> #REF! | C87: ='내역서(태안화력)'!D88 -> #REF! | D87: ='내역서(태안화력)'!E88 -> #REF! | E87: ='내역서(태안화력)'!G88 -> #REF! | F87: ='내역서(태안화력)'!I88 -> #REF! | G87: =INT(D87*G$4) -> #REF! | H87: =INT(E87*H$4) -> #REF! | I87: =INT(F87*I$4) -> #REF!
A88: ='내역서(태안화력)'!A89 -> #REF! | C88: ='내역서(태안화력)'!D89 -> #REF! | D88: ='내역서(태안화력)'!E89 -> #REF! | E88: ='내역서(태안화력)'!G89 -> #REF! | F88: ='내역서(태안화력)'!I89 -> #REF! | G88: =INT(D88*G$4) -> #REF! | H88: =INT(E88*H$4) -> #REF! | I88: =INT(F88*I$4) -> #REF!
A89: ='내역서(태안화력)'!A90 -> #REF! | B89: ='내역서(태안화력)'!B90 -> #REF! | C89: ='내역서(태안화력)'!D90 -> #REF! | D89: ='내역서(태안화력)'!E90 -> #REF! | E89: ='내역서(태안화력)'!G90 -> #REF! | F89: ='내역서(태안화력)'!I90 -> #REF! | G89: =INT(D89*G$4) -> #REF! | H89: =INT(E89*H$4) -> #REF! | I89: =INT(F89*I$4) -> #REF!
A90: ='내역서(태안화력)'!A91 -> #REF! | B90: ='내역서(태안화력)'!B91 -> #REF! | C90: ='내역서(태안화력)'!D91 -> #REF! | D90: ='내역서(태안화력)'!E91 -> #REF! | E90: ='내역서(태안화력)'!G91 -> #REF! | F90: ='내역서(태안화력)'!I91 -> #REF! | G90: =INT(D90*G$4) -> #REF! | H90: =INT(E90*H$4) -> #REF! | I90: =INT(F90*I$4) -> #REF!
A91: ='내역서(태안화력)'!A92 -> #REF! | B91: ='내역서(태안화력)'!B92 -> #REF! | C91: ='내역서(태안화력)'!D92 -> #REF! | D91: ='내역서(태안화력)'!E92 -> #REF! | E91: ='내역서(태안화력)'!G92 -> #REF! | F91: ='내역서(태안화력)'!I92 -> #REF! | G91: =INT(D91*G$4) -> #REF! | H91: =INT(E91*H$4) -> #REF! | I91: =INT(F91*I$4) -> #REF!
A92: ='내역서(태안화력)'!A93 -> #REF! | B92: ='내역서(태안화력)'!B93 -> #REF! | C92: ='내역서(태안화력)'!D93 -> #REF! | D92: ='내역서(태안화력)'!E93 -> #REF! | E92: ='내역서(태안화력)'!G93 -> #REF! | F92: ='내역서(태안화력)'!I93 -> #REF! | G92: =INT(D92*G$4) -> #REF! | H92: =INT(E92*H$4) -> #REF! | I92: =INT(F92*I$4) -> #REF!
A93: ='내역서(태안화력)'!A94 -> #REF! | B93: ='내역서(태안화력)'!B94 -> #REF! | C93: ='내역서(태안화력)'!D94 -> #REF! | D93: ='내역서(태안화력)'!E94 -> #REF! | E93: ='내역서(태안화력)'!G94 -> #REF! | F93: ='내역서(태안화력)'!I94 -> #REF! | G93: =INT(D93*G$4) -> #REF! | H93: =INT(E93*H$4) -> #REF! | I93: =INT(F93*I$4) -> #REF!
A94: ='내역서(태안화력)'!A95 -> #REF! | B94: ='내역서(태안화력)'!B95 -> #REF! | C94: ='내역서(태안화력)'!D95 -> #REF! | D94: ='내역서(태안화력)'!E95 -> #REF! | E94: ='내역서(태안화력)'!G95 -> #REF! | F94: ='내역서(태안화력)'!I95 -> #REF! | G94: =INT(D94*G$4) -> #REF! | H94: =INT(E94*H$4) -> #REF! | I94: =INT(F94*I$4) -> #REF!
A95: ='내역서(태안화력)'!A96 -> #REF! | B95: ='내역서(태안화력)'!B96 -> #REF! | C95: ='내역서(태안화력)'!D96 -> #REF! | D95: ='내역서(태안화력)'!E96 -> #REF! | E95: ='내역서(태안화력)'!G96 -> #REF! | F95: ='내역서(태안화력)'!I96 -> #REF! | G95: =INT(D95*G$4) -> #REF! | H95: =INT(E95*H$4) -> #REF! | I95: =INT(F95*I$4) -> #REF!
A96: ='내역서(태안화력)'!A97 -> #REF! | B96: ='내역서(태안화력)'!B97 -> #REF! | C96: ='내역서(태안화력)'!D97 -> #REF! | D96: ='내역서(태안화력)'!E97 -> #REF! | E96: ='내역서(태안화력)'!G97 -> #REF! | F96: ='내역서(태안화력)'!I97 -> #REF! | G96: =INT(D96*G$4) -> #REF! | H96: =INT(E96*H$4) -> #REF! | I96: =INT(F96*I$4) -> #REF!
A97: ='내역서(태안화력)'!A98 -> #REF! | B97: ='내역서(태안화력)'!B98 -> #REF! | C97: ='내역서(태안화력)'!D98 -> #REF! | D97: ='내역서(태안화력)'!E98 -> #REF! | E97: ='내역서(태안화력)'!G98 -> #REF! | F97: ='내역서(태안화력)'!I98 -> #REF! | G97: =INT(D97*G$4) -> #REF! | H97: =INT(E97*H$4) -> #REF! | I97: =INT(F97*I$4) -> #REF!
A98: ='내역서(태안화력)'!A99 -> #REF! | B98: ='내역서(태안화력)'!B99 -> #REF! | C98: ='내역서(태안화력)'!D99 -> #REF! | D98: ='내역서(태안화력)'!E99 -> #REF! | E98: ='내역서(태안화력)'!G99 -> #REF! | F98: ='내역서(태안화력)'!I99 -> #REF! | G98: =INT(D98*G$4) -> #REF! | H98: =INT(E98*H$4) -> #REF! | I98: =INT(F98*I$4) -> #REF!
A99: ='내역서(태안화력)'!A100 -> #REF! | B99: ='내역서(태안화력)'!B100 -> #REF! | C99: ='내역서(태안화력)'!D100 -> #REF! | D99: ='내역서(태안화력)'!E100 -> #REF! | E99: ='내역서(태안화력)'!G100 -> #REF! | F99: ='내역서(태안화력)'!I100 -> #REF! | G99: =INT(D99*G$4) -> #REF! | H99: =INT(E99*H$4) -> #REF! | I99: =INT(F99*I$4) -> #REF!
A100: ='내역서(태안화력)'!A101 -> #REF! | B100: ='내역서(태안화력)'!B101 -> #REF! | C100: ='내역서(태안화력)'!D101 -> #REF! | D100: ='내역서(태안화력)'!E101 -> #REF! | E100: ='내역서(태안화력)'!G101 -> #REF! | F100: ='내역서(태안화력)'!I101 -> #REF! | G100: =INT(D100*G$4) -> #REF! | H100: =INT(E100*H$4) -> #REF! | I100: =INT(F100*I$4) -> #REF!
... A106: ='내역서(태안화력)'!A107 -> #REF! | B106: ='내역서(태안화력)'!B107 -> #REF! | C106: ='내역서(태안화력)'!D107 -> #REF! | D106: ='내역서(태안화력)'!E107 -> #REF! | E106: ='내역서(태안화력)'!G107 -> #REF! | F106: ='내역서(태안화력)'!I107 -> #REF! | G106: =INT(D106*G$4) -> #REF! | H106: =INT(E106*H$4) -> #REF! | I106: =INT(F106*I$4) -> #REF!
A107: ='내역서(태안화력)'!A108 -> #REF! | C107: ='내역서(태안화력)'!D108 -> #REF! | D107: ='내역서(태안화력)'!E108 -> #REF! | E107: ='내역서(태안화력)'!G108 -> #REF! | F107: ='내역서(태안화력)'!I108 -> #REF! | G107: =INT(D107*G$4) -> #REF! | H107: =INT(E107*H$4) -> #REF! | I107: =INT(F107*I$4) -> #REF!
A108: ='내역서(태안화력)'!A109 -> #REF! | B108: ='내역서(태안화력)'!B109 -> #REF! | C108: ='내역서(태안화력)'!D109 -> #REF! | D108: ='내역서(태안화력)'!E109 -> #REF! | E108: ='내역서(태안화력)'!G109 -> #REF! | F108: ='내역서(태안화력)'!I109 -> #REF! | G108: =INT(D108*G$4) -> #REF! | H108: =INT(E108*H$4) -> #REF! | I108: =INT(F108*I$4) -> #REF!
A109: ='내역서(태안화력)'!A110 -> #REF! | B109: ='내역서(태안화력)'!B110 -> #REF! | C109: ='내역서(태안화력)'!D110 -> #REF! | D109: ='내역서(태안화력)'!E110 -> #REF! | E109: ='내역서(태안화력)'!G110 -> #REF! | F109: ='내역서(태안화력)'!I110 -> #REF! | G109: =INT(D109*G$4) -> #REF! | H109: =INT(E109*H$4) -> #REF! | I109: =INT(F109*I$4) -> #REF!
A110: ='내역서(태안화력)'!A111 -> #REF! | C110: ='내역서(태안화력)'!D111 -> #REF! | D110: ='내역서(태안화력)'!E111 -> #REF! | E110: ='내역서(태안화력)'!G111 -> #REF! | F110: ='내역서(태안화력)'!I111 -> #REF! | G110: =INT(D110*G$4) -> #REF! | H110: =INT(E110*H$4) -> #REF! | I110: =INT(F110*I$4) -> #REF!
A111: ='내역서(태안화력)'!A112 -> #REF! | B111: ='내역서(태안화력)'!B112 -> #REF! | C111: ='내역서(태안화력)'!D112 -> #REF! | D111: ='내역서(태안화력)'!E112 -> #REF! | E111: ='내역서(태안화력)'!G112 -> #REF! | F111: ='내역서(태안화력)'!I112 -> #REF! | G111: =INT(D111*G$4) -> #REF! | H111: =INT(E111*H$4) -> #REF! | I111: =INT(F111*I$4) -> #REF!
A112: ='내역서(태안화력)'!A113 -> #REF! | B112: ='내역서(태안화력)'!B113 -> #REF! | C112: ='내역서(태안화력)'!D113 -> #REF! | D112: ='내역서(태안화력)'!E113 -> #REF! | E112: ='내역서(태안화력)'!G113 -> #REF! | F112: ='내역서(태안화력)'!I113 -> #REF! | G112: =INT(D112*G$4) -> #REF! | H112: =INT(E112*H$4) -> #REF! | I112: =INT(F112*I$4) -> #REF!
A113: ='내역서(태안화력)'!A114 -> #REF! | B113: ='내역서(태안화력)'!B114 -> #REF! | C113: ='내역서(태안화력)'!D114 -> #REF! | D113: ='내역서(태안화력)'!E114 -> #REF! | E113: ='내역서(태안화력)'!G114 -> #REF! | F113: ='내역서(태안화력)'!I114 -> #REF! | G113: =INT(D113*G$4) -> #REF! | H113: =INT(E113*H$4) -> #REF! | I113: =INT(F113*I$4) -> #REF!
A114: ='내역서(태안화력)'!A115 -> #REF! | B114: ='내역서(태안화력)'!B115 -> #REF! | C114: ='내역서(태안화력)'!D115 -> #REF! | D114: ='내역서(태안화력)'!E115 -> #REF! | E114: ='내역서(태안화력)'!G115 -> #REF! | F114: ='내역서(태안화력)'!I115 -> #REF! | G114: =INT(D114*G$4) -> #REF! | H114: =INT(E114*H$4) -> #REF! | I114: =INT(F114*I$4) -> #REF!
A115: ='내역서(태안화력)'!A116 -> #REF! | B115: ='내역서(태안화력)'!B116 -> #REF! | C115: ='내역서(태안화력)'!D116 -> #REF! | D115: ='내역서(태안화력)'!E116 -> #REF! | E115: ='내역서(태안화력)'!G116 -> #REF! | F115: ='내역서(태안화력)'!I116 -> #REF! | G115: =INT(D115*G$4) -> #REF! | H115: =INT(E115*H$4) -> #REF! | I115: =INT(F115*I$4) -> #REF!
A116: ='내역서(태안화력)'!A117 -> #REF! | B116: ='내역서(태안화력)'!B117 -> #REF! | C116: ='내역서(태안화력)'!D117 -> #REF! | D116: ='내역서(태안화력)'!E117 -> #REF! | E116: ='내역서(태안화력)'!G117 -> #REF! | F116: ='내역서(태안화력)'!I117 -> #REF! | G116: =INT(D116*G$4) -> #REF! | H116: =INT(E116*H$4) -> #REF! | I116: =INT(F116*I$4) -> #REF!
A117: ='내역서(태안화력)'!A118 -> #REF! | B117: ='내역서(태안화력)'!B118 -> #REF! | C117: ='내역서(태안화력)'!D118 -> #REF! | D117: ='내역서(태안화력)'!E118 -> #REF! | E117: ='내역서(태안화력)'!G118 -> #REF! | F117: ='내역서(태안화력)'!I118 -> #REF! | G117: =INT(D117*G$4) -> #REF! | H117: =INT(E117*H$4) -> #REF! | I117: =INT(F117*I$4) -> #REF!
A118: ='내역서(태안화력)'!A119 -> #REF! | C118: ='내역서(태안화력)'!D119 -> #REF! | D118: ='내역서(태안화력)'!E119 -> #REF! | E118: ='내역서(태안화력)'!G119 -> #REF! | F118: ='내역서(태안화력)'!I119 -> #REF! | G118: =INT(D118*G$4) -> #REF! | H118: =INT(E118*H$4) -> #REF! | I118: =INT(F118*I$4) -> #REF!
A119: ='내역서(태안화력)'!A120 -> #REF! | B119: ='내역서(태안화력)'!B120 -> #REF! | C119: ='내역서(태안화력)'!D120 -> #REF! | D119: ='내역서(태안화력)'!E120 -> #REF! | E119: ='내역서(태안화력)'!G120 -> #REF! | F119: ='내역서(태안화력)'!I120 -> #REF! | G119: =INT(D119*G$4) -> #REF! | H119: =INT(E119*H$4) -> #REF! | I119: =INT(F119*I$4) -> #REF!
A120: ='내역서(태안화력)'!A121 -> #REF! | B120: ='내역서(태안화력)'!B121 -> #REF! | C120: ='내역서(태안화력)'!D121 -> #REF! | D120: ='내역서(태안화력)'!E121 -> #REF! | E120: ='내역서(태안화력)'!G121 -> #REF! | F120: ='내역서(태안화력)'!I121 -> #REF! | G120: =INT(D120*G$4) -> #REF! | H120: =INT(E120*H$4) -> #REF! | I120: =INT(F120*I$4) -> #REF!
A121: ='내역서(태안화력)'!A122 -> #REF! | B121: ='내역서(태안화력)'!B122 -> #REF! | C121: ='내역서(태안화력)'!D122 -> #REF! | D121: ='내역서(태안화력)'!E122 -> #REF! | E121: ='내역서(태안화력)'!G122 -> #REF! | F121: ='내역서(태안화력)'!I122 -> #REF! | G121: =INT(D121*G$4) -> #REF! | H121: =INT(E121*H$4) -> #REF! | I121: =INT(F121*I$4) -> #REF!
A122: ='내역서(태안화력)'!A123 -> #REF! | B122: ='내역서(태안화력)'!B123 -> #REF! | C122: ='내역서(태안화력)'!D123 -> #REF! | D122: ='내역서(태안화력)'!E123 -> #REF! | E122: ='내역서(태안화력)'!G123 -> #REF! | F122: ='내역서(태안화력)'!I123 -> #REF! | G122: =INT(D122*G$4) -> #REF! | H122: =INT(E122*H$4) -> #REF! | I122: =INT(F122*I$4) -> #REF!
A123: ='내역서(태안화력)'!A124 -> #REF! | B123: ='내역서(태안화력)'!B124 -> #REF! | C123: ='내역서(태안화력)'!D124 -> #REF! | D123: ='내역서(태안화력)'!E124 -> #REF! | E123: ='내역서(태안화력)'!G124 -> #REF! | F123: ='내역서(태안화력)'!I124 -> #REF! | G123: =INT(D123*G$4) -> #REF! | H123: =INT(E123*H$4) -> #REF! | I123: =INT(F123*I$4) -> #REF!
A124: ='내역서(태안화력)'!A125 -> #REF! | B124: ='내역서(태안화력)'!B125 -> #REF! | C124: ='내역서(태안화력)'!D125 -> #REF! | D124: ='내역서(태안화력)'!E125 -> #REF! | E124: ='내역서(태안화력)'!G125 -> #REF! | F124: ='내역서(태안화력)'!I125 -> #REF! | G124: =INT(D124*G$4) -> #REF! | H124: =INT(E124*H$4) -> #REF! | I124: =INT(F124*I$4) -> #REF!
A125: ='내역서(태안화력)'!A126 -> #REF! | B125: ='내역서(태안화력)'!B126 -> #REF! | C125: ='내역서(태안화력)'!D126 -> #REF! | D125: ='내역서(태안화력)'!E126 -> #REF! | E125: ='내역서(태안화력)'!G126 -> #REF! | F125: ='내역서(태안화력)'!I126 -> #REF! | G125: =INT(D125*G$4) -> #REF! | H125: =INT(E125*H$4) -> #REF! | I125: =INT(F125*I$4) -> #REF!
A126: ='내역서(태안화력)'!A127 -> #REF! | B126: ='내역서(태안화력)'!B127 -> #REF! | C126: ='내역서(태안화력)'!D127 -> #REF! | D126: ='내역서(태안화력)'!E127 -> #REF! | E126: ='내역서(태안화력)'!G127 -> #REF! | F126: ='내역서(태안화력)'!I127 -> #REF! | G126: =INT(D126*G$4) -> #REF! | H126: =INT(E126*H$4) -> #REF! | I126: =INT(F126*I$4) -> #REF!
A127: ='내역서(태안화력)'!A128 -> #REF! | B127: ='내역서(태안화력)'!B128 -> #REF! | C127: ='내역서(태안화력)'!D128 -> #REF! | D127: ='내역서(태안화력)'!E128 -> #REF! | E127: ='내역서(태안화력)'!G128 -> #REF! | F127: ='내역서(태안화력)'!I128 -> #REF! | G127: =INT(D127*G$4) -> #REF! | H127: =INT(E127*H$4) -> #REF! | I127: =INT(F127*I$4) -> #REF!
A128: ='내역서(태안화력)'!A129 -> #REF! | B128: ='내역서(태안화력)'!B129 -> #REF! | C128: ='내역서(태안화력)'!D129 -> #REF! | D128: ='내역서(태안화력)'!E129 -> #REF! | E128: ='내역서(태안화력)'!G129 -> #REF! | F128: ='내역서(태안화력)'!I129 -> #REF! | G128: =INT(D128*G$4) -> #REF! | H128: =INT(E128*H$4) -> #REF! | I128: =INT(F128*I$4) -> #REF!
A129: ='내역서(태안화력)'!A130 -> #REF! | B129: ='내역서(태안화력)'!B130 -> #REF! | C129: ='내역서(태안화력)'!D130 -> #REF! | D129: ='내역서(태안화력)'!E130 -> #REF! | E129: ='내역서(태안화력)'!G130 -> #REF! | F129: ='내역서(태안화력)'!I130 -> #REF! | G129: =INT(D129*G$4) -> #REF! | H129: =INT(E129*H$4) -> #REF! | I129: =INT(F129*I$4) -> #REF!
A130: ='내역서(태안화력)'!A131 -> #REF! | B130: ='내역서(태안화력)'!B131 -> #REF! | C130: ='내역서(태안화력)'!D131 -> #REF! | D130: ='내역서(태안화력)'!E131 -> #REF! | E130: ='내역서(태안화력)'!G131 -> #REF! | F130: ='내역서(태안화력)'!I131 -> #REF! | G130: =INT(D130*G$4) -> #REF! | H130: =INT(E130*H$4) -> #REF! | I130: =INT(F130*I$4) -> #REF!
A131: ='내역서(태안화력)'!A132 -> #REF! | C131: ='내역서(태안화력)'!D132 -> #REF! | D131: ='내역서(태안화력)'!E132 -> #REF! | E131: ='내역서(태안화력)'!G132 -> #REF! | F131: ='내역서(태안화력)'!I132 -> #REF! | G131: =INT(D131*G$4) -> #REF! | H131: =INT(E131*H$4) -> #REF! | I131: =INT(F131*I$4) -> #REF!
A132: ='내역서(태안화력)'!A133 -> #REF! | B132: ='내역서(태안화력)'!B133 -> #REF! | C132: ='내역서(태안화력)'!D133 -> #REF! | D132: ='내역서(태안화력)'!E133 -> #REF! | E132: ='내역서(태안화력)'!G133 -> #REF! | F132: ='내역서(태안화력)'!I133 -> #REF! | G132: =INT(D132*G$4) -> #REF! | H132: =INT(E132*H$4) -> #REF! | I132: =INT(F132*I$4) -> #REF!
A133: ='내역서(태안화력)'!A134 -> #REF! | B133: ='내역서(태안화력)'!B134 -> #REF! | C133: ='내역서(태안화력)'!D134 -> #REF! | D133: ='내역서(태안화력)'!E134 -> #REF! | E133: ='내역서(태안화력)'!G134 -> #REF! | F133: ='내역서(태안화력)'!I134 -> #REF! | G133: =INT(D133*G$4) -> #REF! | H133: =INT(E133*H$4) -> #REF! | I133: =INT(F133*I$4) -> #REF!
A134: ='내역서(태안화력)'!A135 -> #REF! | C134: ='내역서(태안화력)'!D135 -> #REF! | D134: ='내역서(태안화력)'!E135 -> #REF! | E134: ='내역서(태안화력)'!G135 -> #REF! | F134: ='내역서(태안화력)'!I135 -> #REF! | G134: =INT(D134*G$4) -> #REF! | H134: =INT(E134*H$4) -> #REF! | I134: =INT(F134*I$4) -> #REF!
A135: ='내역서(태안화력)'!A136 -> #REF! | B135: ='내역서(태안화력)'!B136 -> #REF! | C135: ='내역서(태안화력)'!D136 -> #REF! | D135: ='내역서(태안화력)'!E136 -> #REF! | E135: ='내역서(태안화력)'!G136 -> #REF! | F135: ='내역서(태안화력)'!I136 -> #REF! | G135: =INT(D135*G$4) -> #REF! | H135: =INT(E135*H$4) -> #REF! | I135: =INT(F135*I$4) -> #REF!
A136: ='내역서(태안화력)'!A137 -> #REF! | B136: ='내역서(태안화력)'!B137 -> #REF! | C136: ='내역서(태안화력)'!D137 -> #REF! | D136: ='내역서(태안화력)'!E137 -> #REF! | E136: ='내역서(태안화력)'!G137 -> #REF! | F136: ='내역서(태안화력)'!I137 -> #REF! | G136: =INT(D136*G$4) -> #REF! | H136: =INT(E136*H$4) -> #REF! | I136: =INT(F136*I$4) -> #REF!
A137: ='내역서(태안화력)'!A138 -> #REF! | B137: ='내역서(태안화력)'!B138 -> #REF! | C137: ='내역서(태안화력)'!D138 -> #REF! | D137: ='내역서(태안화력)'!E138 -> #REF! | E137: ='내역서(태안화력)'!G138 -> #REF! | F137: ='내역서(태안화력)'!I138 -> #REF! | G137: =INT(D137*G$4) -> #REF! | H137: =INT(E137*H$4) -> #REF! | I137: =INT(F137*I$4) -> #REF!
...

Sheet 자재단가(2)
A1: 사급 자재단가
A2: No | B2: 품 명 | C2: 규 격 | D2: 단위 | E2: 물가자료(11.10) | G2: 물가정보(11.10) | I2: 조달청(11.10) | K2: 기타 | L2: 적용단가 | M2: 비 고 | O2: 물가자료
E3: 단 가 | F3: page | G3: 단 가 | H3: page | I3: 단 가 | J3: page
A4: 1 | B4: 철근 | C4: HD10 | D4: TON | E4: 850000 | F4: 42 | H4: 62 | L4: =MIN(E4,G4,I4) -> 850000 | M4: =IF(L4=E4,"물자 P"&F4,IF(L4=G4,"물정(I) P"&H4,IF(L4=I4,"조달청 P"&J4," "))) -> 물자 P42 | P4: 물자-전국, 현장도착도, 50TON이상, 물정-서울, 현장도착도, 25TON이상
A5: =A4+1 -> 2 | B5: 철근 | C5: HD13 | D5: TON | E5: 840000 | F5: 42 | H5: 62 | L5: =MIN(E5,G5,I5) -> 840000 | M5: =IF(L5=E5,"물자 P"&F5,IF(L5=G5,"물정(I) P"&H5,IF(L5=I5,"조달청 P"&J5," "))) -> 물자 P42 | P5: 물자-전국, 현장도착도, 50TON이상, 물정-서울, 현장도착도, 25TON이상
A6: =A5+1 -> 3 | B6: 철근 | C6: HD16 | D6: TON | E6: 835000 | F6: 42 | H6: 62 | L6: =MIN(E6,G6,I6) -> 835000 | M6: =IF(L6=E6,"물자 P"&F6,IF(L6=G6,"물정(I) P"&H6,IF(L6=I6,"조달청 P"&J6," "))) -> 물자 P42 | O6: 시내도착도 | P6: 물자-전국, 현장도착도, 50TON이상, 물정-서울, 현장도착도, 25TON이상
A7: =A6+1 -> 4 | B7: 철근 | C7: HD19 | D7: TON | E7: =E6 -> 835000 | F7: 42 | H7: 62 | L7: =MIN(E7,G7,I7) -> 835000 | M7: =IF(L7=E7,"물자 P"&F7,IF(L7=G7,"물정(I) P"&H7,IF(L7=I7,"조달청 P"&J7," "))) -> 물자 P42 | P7: 물자-전국, 현장도착도, 50TON이상, 물정-서울, 현장도착도, 25TON이상
A8: =A7+1 -> 5 | B8: 철근 | C8: HD22 | D8: TON | E8: =E7 -> 835000 | F8: 42 | H8: 62 | L8: =MIN(E8,G8,I8) -> 835000 | M8: =IF(L8=E8,"물자 P"&F8,IF(L8=G8,"물정(I) P"&H8,IF(L8=I8,"조달청 P"&J8," "))) -> 물자 P42 | P8: 물자-전국, 현장도착도, 50TON이상, 물정-서울, 현장도착도, 25TON이상
A9: =A8+1 -> 6 | B9: 철근 | C9: HD25 | D9: TON | E9: =E8 -> 835000 | F9: 42 | H9: 62 | L9: =MIN(E9,G9,I9) -> 835000 | M9: =IF(L9=E9,"물자 P"&F9,IF(L9=G9,"물정(I) P"&H9,IF(L9=I9,"조달청 P"&J9," "))) -> 물자 P42 | P9: 물자-전국, 현장도착도, 50TON이상, 물정-서울, 현장도착도, 25TON이상
A10: =A9+1 -> 7 | B10: 철근 | C10: HD29 | D10: TON | E10: =E9 -> 835000 | F10: 42 | H10: 62 | L10: =MIN(E10,G10,I10) -> 835000 | M10: =IF(L10=E10,"물자 P"&F10,IF(L10=G10,"물정(I) P"&H10,IF(L10=I10,"조달청 P"&J10," "))) -> 물자 P42 | P10: 물자-전국, 현장도착도, 50TON이상, 물정-서울, 현장도착도, 25TON이상
A11: =A10+1 -> 8 | B11: 철근 | C11: HD32 | D11: TON | E11: =E10 -> 835000 | F11: 42 | H11: 62 | L11: =MIN(E11,G11,I11) -> 835000 | M11: =IF(L11=E11,"물자 P"&F11,IF(L11=G11,"물정(I) P"&H11,IF(L11=I11,"조달청 P"&J11," "))) -> 물자 P42 | P11: 물자-전국, 현장도착도, 50TON이상, 물정-서울, 현장도착도, 25TON이상
A12: =A11+1 -> 9 | B12: 철근 | C12: HD35 | D12: TON | E12: =E11 -> 835000 | F12: 42 | H12: 63 | L12: =MIN(E12,G12,I12) -> 835000 | M12: =IF(L12=E12,"물자 P"&F12,IF(L12=G12,"물정(I) P"&H12,IF(L12=I12,"조달청 P"&J12," "))) -> 물자 P42 | P12: 물자-전국, 현장도착도, 50TON이상, 물정-서울, 현장도착도, 25TON이상
A13: =A12+1 -> 10 | B13: 레미콘 | C13: 25-15-8 | D13: M3 | I13: =INT(53090/1.1) -> 48263 | L13: =MIN(E13,G13,I13) -> 48263 | M13: =IF(L13=E13,"물자 P"&F13,IF(L13=G13,"물정(I) P"&H13,IF(L13=I13,"조달청"&J13," "))) -> 조달청 | P13: 나라장터 가격정보-대전및충남일부지역-2011년10월16일 나라장터 종합쇼핑몰 시설분류코드 10063085
A14: =A13+1 -> 11 | B14: 레미콘 | C14: 25-18-8 | D14: M3 | I14: =INT(56620/1.1) -> 51472 | L14: =MIN(E14,G14,I14) -> 51472 | M14: =IF(L14=E14,"물자 P"&F14,IF(L14=G14,"물정(I) P"&H14,IF(L14=I14,"조달청"&J14," "))) -> 조달청 | P14: 나라장터 가격정보-충남지역(서부권)-2011년6월13일 나라장터 가격정보 다운로드함
A15: =A14+1 -> 12 | B15: 레미콘 | C15: 25-21-8 | D15: M3 | I15: =INT(58290/1.1) -> 52990 | L15: =MIN(E15,G15,I15) -> 52990 | M15: =IF(L15=E15,"물자 P"&F15,IF(L15=G15,"물정(I) P"&H15,IF(L15=I15,"조달청"&J15," "))) -> 조달청 | P15: 나라장터 가격정보-충남지역(서부권)-2011년6월13일 나라장터 가격정보 다운로드함
A16: =A15+1 -> 13 | B16: 레미콘 | C16: 25-21-12 | D16: M3 | I16: =INT(58900/1.1) -> 53545 | L16: =MIN(E16,G16,I16) -> 53545 | M16: =IF(L16=E16,"물자 P"&F16,IF(L16=G16,"물정(I) P"&H16,IF(L16=I16,"조달청"&J16," "))) -> 조달청 | P16: 나라장터 가격정보-충남지역(서부권)-2011년6월13일 나라장터 가격정보 다운로드함
A17: =A16+1 -> 14 | B17: 레미콘 | C17: 25-24-8 | D17: M3 | I17: =INT(59340/1.1) -> 53945 | L17: =MIN(E17,G17,I17) -> 53945 | M17: =IF(L17=E17,"물자 P"&F17,IF(L17=G17,"물정(I) P"&H17,IF(L17=I17,"조달청"&J17," "))) -> 조달청 | P17: 나라장터 가격정보-대전및충남일부지역-2011년10월16일 나라장터 종합쇼핑몰 시설분류코드 10063099
A18: =A17+1 -> 15 | B18: 레미콘 | C18: 25-30-12 | D18: M3 | I18: =INT(66490/1.1) -> 60445 | L18: =MIN(E18,G18,I18) -> 60445 | M18: =IF(L18=E18,"물자 P"&F18,IF(L18=G18,"물정(I) P"&H18,IF(L18=I18,"조달청"&J18," "))) -> 조달청 | P18: 나라장터 가격정보-대전및충남일부지역-2011년10월16일 나라장터 종합쇼핑몰 시설분류코드 10063109
A19: =A18+1 -> 16 | B19: 레미콘 | C19: 25-35-8 | D19: M3 | I19: =INT(63690/1.1) -> 57900 | L19: =MIN(E19,G19,I19) -> 57900 | M19: =IF(L19=E19,"물자 P"&F19,IF(L19=G19,"물정(I) P"&H19,IF(L19=I19,"조달청"&J19," "))) -> 조달청 | P19: 나라장터 가격정보-경기지역(안성,용인)-2011년6월13일 나라장터 가격정보 다운로드함
A20: =A19+1 -> 17 | B20: 레미콘 | C20: 25-35-15 | D20: M3 | I20: =INT(77010/1.1) -> 70009 | L20: =MIN(E20,G20,I20) -> 70009 | M20: =IF(L20=E20,"물자 P"&F20,IF(L20=G20,"물정(I) P"&H20,IF(L20=I20,"조달청"&J20," "))) -> 조달청 | P20: 나라장터 가격정보-충남지역(서부권)-2011년6월13일 나라장터 가격정보 다운로드함
A21: =A20+1 -> 18 | B21: 아스팔트 | C21: RS(C)-3 : 75 L/a | D21: D/M | E21: 130000 | F21: 154 | G21: 130000 | H21: 245 | L21: =MIN(E21,G21,I21) -> 130000 | M21: =IF(L21=E21,"물자 P"&F21,IF(L21=G21,"물정(I) P"&H21,IF(L21=I21,"조달청"&J21," "))) -> 물자 P154
A22: =A21+1 -> 19 | B22: 아스콘 | C22: #467, T=10CM | D22: TON | I22: =INT(64320/1.1) -> 58472 | L22: =MIN(E22,G22,I22) -> 58472 | M22: =IF(L22=E22,"물자 P"&F22,IF(L22=G22,"물정(I) P"&H22,IF(L22=I22,"조달청"&J22," "))) -> 조달청 | P22: 나라장터 가격정보-대전및충남지역-2011년6월24일 나라장터 가격정보 다운로드함
A23: =A22+1 -> 20 | B23: 아스팔트 | C23: RS(C)-4 : 30 L/a | D23: D/M | E23: 130000 | F23: 154 | G23: 130000 | H23: 245 | L23: =MIN(E23,G23,I23) -> 130000 | M23: =IF(L23=E23,"물자 P"&F23,IF(L23=G23,"물정(I) P"&H23,IF(L23=I23,"조달청"&J23," "))) -> 물자 P154
A24: =A23+1 -> 21 | B24: 아스콘 | C24: #78, T=5CM | D24: TON | I24: =INT(70660/1.1) -> 64236 | L24: =MIN(E24,G24,I24) -> 64236 | M24: =IF(L24=E24,"물자 P"&F24,IF(L24=G24,"물정(I) P"&H24,IF(L24=I24,"조달청"&J24," "))) -> 조달청 | P24: 나라장터 가격정보-대전및충남지역-2011년6월24일 나라장터 가격정보 다운로드함
A25: =A24+1 -> 22 | B25: 도복장강관(아스팔트) | C25: D50 | D25: M | E25: =TRUNC(E26/80*50,0) -> 11739 | F25: 661 | G25: =TRUNC(G26/80*50,0) -> 11739 | H25: 460 | L25: =MIN(E25,G25,K25) -> 11739 | M25: =IF(L25=E25,"물자 P"&F25,IF(L25=G25,"물정(II) P"&H25,IF(L25=K25,"견적가격"))) -> 물자 P661 | P25: 물자-KS D 3565, 물정-KS D 3565
A26: =A25+1 -> 23 | B26: 도복장강관(아스팔트) | C26: D80 | D26: M | E26: =TRUNC(112700/6,0) -> 18783 | F26: 661 | G26: =TRUNC(112700/6,0) -> 18783 | H26: 460 | L26: =MIN(E26,G26,K26) -> 18783 | M26: =IF(L26=E26,"물자 P"&F26,IF(L26=G26,"물정(II) P"&H26,IF(L26=K26,"견적가격"))) -> 물자 P661 | P26: 물자-KS D 3565, 물정-KS D 3565
A27: =A26+1 -> 24 | B27: 도복장강관(아스팔트) | C27: D100 | D27: M | E27: =TRUNC(154800/6,0) -> 25800 | F27: 661 | G27: =TRUNC(154800/6,0) -> 25800 | H27: 460 | L27: =MIN(E27,G27,K27) -> 25800 | M27: =IF(L27=E27,"물자 P"&F27,IF(L27=G27,"물정(II) P"&H27,IF(L27=K27,"견적가격"))) -> 물자 P661 | P27: 물자-KS D 3565, 물정-KS D 3565
A28: =A27+1 -> 25 | B28: 도복장강관(아스팔트) | C28: D150 | D28: M | E28: =TRUNC(236600/6,0) -> 39433 | F28: 661 | G28: =TRUNC(236600/6,0) -> 39433 | H28: 460 | L28: =MIN(E28,G28,K28) -> 39433 | M28: =IF(L28=E28,"물자 P"&F28,IF(L28=G28,"물정(II) P"&H28,IF(L28=K28,"견적가격"))) -> 물자 P661 | P28: 물자-KS D 3565, 물정-KS D 3565
A29: =A28+1 -> 26 | B29: 도복장강관(아스팔트) | C29: D200 | D29: M | E29: =TRUNC(352600/6,0) -> 58766 | F29: 661 | G29: =TRUNC(352600/6,0) -> 58766 | H29: 460 | L29: =MIN(E29,G29,K29) -> 58766 | M29: =IF(L29=E29,"물자 P"&F29,IF(L29=G29,"물정(II) P"&H29,IF(L29=K29,"견적가격"))) -> 물자 P661 | P29: 물자-KS D 3565, 물정-KS D 3565
A30: =A29+1 -> 27 | B30: 도복장강관(아스팔트) | C30: D300 | D30: M | E30: =TRUNC(516300/6,0) -> 86050 | F30: 661 | G30: =TRUNC(516300/6,0) -> 86050 | H30: 460 | L30: =MIN(E30,G30,K30) -> 86050 | M30: =IF(L30=E30,"물자 P"&F30,IF(L30=G30,"물정(II) P"&H30,IF(L30=K30,"견적가격"))) -> 물자 P661 | P30: 물자-KS D 3565, 물정-KS D 3565
A31: =A30+1 -> 28 | B31: 도복장강관(아스팔트) | C31: D350 | D31: M | E31: =TRUNC(577500/6,0) -> 96250 | F31: 661 | G31: =TRUNC(577500/6,0) -> 96250 | H31: 460 | L31: =MIN(E31,G31,K31) -> 96250 | M31: =IF(L31=E31,"물자 P"&F31,IF(L31=G31,"물정(II) P"&H31,IF(L31=K31,"견적가격"))) -> 물자 P661 | P31: 물자-KS D 3565, 물정-KS D 3565
A32: =A31+1 -> 29 | B32: 도복장강관(아스팔트) | C32: D400 | D32: M | E32: =TRUNC(661000/6,0) -> 110166 | F32: 661 | G32: =TRUNC(661000/6,0) -> 110166 | H32: 460 | L32: =MIN(E32,G32,K32) -> 110166 | M32: =IF(L32=E32,"물자 P"&F32,IF(L32=G32,"물정(II) P"&H32,IF(L32=K32,"견적가격"))) -> 물자 P661 | P32: 물자-KS D 3565, 물정-KS D 3565
A33: =A32+1 -> 30 | B33: 도복장강관(아스팔트) | C33: D500 | D33: M | E33: =TRUNC(828200/6,0) -> 138033 | F33: 661 | G33: =TRUNC(828200/6,0) -> 138033 | H33: 460 | L33: =MIN(E33,G33,K33) -> 138033 | M33: =IF(L33=E33,"물자 P"&F33,IF(L33=G33,"물정(II) P"&H33,IF(L33=K33,"견적가격"))) -> 물자 P661 | P33: 물자-KS D 3565, 물정-KS D 3565
A34: =A33+1 -> 31 | B34: 스틸그레이팅 | C34: 32*5*3 | D34: M2 | E34: 54460 | F34: 211 | G34: 39400 | H34: 306 | L34: =MIN(E34,G34,I34) -> 39400 | M34: =IF(L34=E34,"물자 P"&F34,IF(L34=G34,"물정(I) P"&H34,IF(L34=I34,"조달청"&J34," "))) -> 물정(I) P306
A35: =A34+1 -> 32 | B35: 스틸그레이팅 | C35: 50T, B=500 | D35: EA | E35: 42880 | F35: 211 | G35: 29000 | H35: 309 | L35: =MIN(E35,G35,I35) -> 29000 | M35: =IF(L35=E35,"물자 P"&F35,IF(L35=G35,"물정(I) P"&H35,IF(L35=I35,"조달청"&J35," "))) -> 물정(I) P309
A36: =A35+1 -> 33 | B36: 스틸그레이팅 | C36: 75T, B=500 | D36: EA | E36: 73960 | F36: 211 | G36: 47000 | H36: 309 | L36: =MIN(E36,G36,I36) -> 47000 | M36: =IF(L36=E36,"물자 P"&F36,IF(L36=G36,"물정(I) P"&H36,IF(L36=I36,"조달청"&J36," "))) -> 물정(I) P309
A37: =A36+1 -> 34 | B37: 보차도경계블록(화강석) | C37: 180*200*1000 | D37: EA | E37: 33800 | F37: 173 | G37: 19200 | H37: 270 | L37: =MIN(E37,G37,K37) -> 19200 | M37: =IF(L37=E37,"물자 P"&F37,IF(L37=G37,"물정(I) P"&H37,IF(L37=K37,"견적가격"))) -> 물정(I) P270
A38: =A37+1 -> 35 | B38: 보도경계블록(화강석) | C38: 150*150*1000 | D38: EA | E38: 26000 | F38: 173 | G38: 12000 | H38: 270 | L38: =MIN(E38,G38,K38) -> 12000 | M38: =IF(L38=E38,"물자 P"&F38,IF(L38=G38,"물정(I) P"&H38,IF(L38=K38,"견적가격"))) -> 물정(I) P270
A39: =A38+1 -> 36 | B39: 파형강관 | C39: D250 | D39: M | E39: 24700 | F39: 284 | G39: 35840 | H39: 358 | L39: =MIN(E39,G39,I39) -> 24700 | M39: =IF(L39=E39,"물자 P"&F39,IF(L39=G39,"물정(I) P"&H39,IF(L39=I39,"조달청"&J39," "))) -> 물자 P284 | P39: 1.6T
A40: =A39+1 -> 37 | B40: 흄관 | C40: D300 | D40: M | E40: =TRUNC(44400/2.5,0) -> 17760 | F40: 281 | G40: 18500 | H40: 337 | L40: =MIN(E40,G40,I40) -> 17760 | M40: =IF(L40=E40,"물자 P"&F40,IF(L40=G40,"물정(I) P"&H40,IF(L40=I40,"조달청"&J40," "))) -> 물자 P281 | O40: 점포상차도 | P40: 소켁식(B형), 물자-대전, 물정-대전
A41: =A40+1 -> 38 | B41: 흄관 | C41: D400 | D41: M | E41: =TRUNC(50200/2.5,0) -> 20080 | F41: 281 | G41: 20900 | H41: 337 | L41: =MIN(E41,G41,I41) -> 20080 | M41: =IF(L41=E41,"물자 P"&F41,IF(L41=G41,"물정(I) P"&H41,IF(L41=I41,"조달청"&J41," "))) -> 물자 P281 | O41: 점포상차도 | P41: 소켁식(B형), 물자-대전, 물정-대전
A42: =A41+1 -> 39 | B42: 흄관 | C42: D500 | D42: M | E42: =TRUNC(65300/2.5,0) -> 26120 | F42: 281 | G42: 27200 | H42: 337 | L42: =MIN(E42,G42,I42) -> 26120 | M42: =IF(L42=E42,"물자 P"&F42,IF(L42=G42,"물정(I) P"&H42,IF(L42=I42,"조달청"&J42," "))) -> 물자 P281 | O42: 점포상차도 | P42: 소켁식(B형), 물자-대전, 물정-대전
A43: =A42+1 -> 40 | B43: 흄관 | C43: D600 | D43: M | E43: =TRUNC(89600/2.5,0) -> 35840 | F43: 281 | G43: 37400 | H43: 337 | L43: =MIN(E43,G43,I43) -> 35840 | M43: =IF(L43=E43,"물자 P"&F43,IF(L43=G43,"물정(I) P"&H43,IF(L43=I43,"조달청"&J43," "))) -> 물자 P281 | O43: 점포상차도 | P43: 소켁식(B형), 물자-대전, 물정-대전
A44: =A43+1 -> 41 | B44: 흄관 | C44: D700 | D44: M | E44: =TRUNC(121300/2.5,0) -> 48520 | F44: 281 | G44: 50600 | H44: 337 | L44: =MIN(E44,G44,I44) -> 48520 | M44: =IF(L44=E44,"물자 P"&F44,IF(L44=G44,"물정(I) P"&H44,IF(L44=I44,"조달청"&J44," "))) -> 물자 P281 | P44: 소켁식(B형), 물자-대전, 물정-대전
A45: =A44+1 -> 42 | B45: 흄관 | C45: D800 | D45: M | E45: =TRUNC(158100/2.5,0) -> 63240 | F45: 281 | G45: 66000 | H45: 337 | L45: =MIN(E45,G45,I45) -> 63240 | M45: =IF(L45=E45,"물자 P"&F45,IF(L45=G45,"물정(I) P"&H45,IF(L45=I45,"조달청"&J45," "))) -> 물자 P281 | P45: 소켁식(B형), 물자-대전, 물정-대전
A46: =A45+1 -> 43 | B46: 흄관 | C46: D900 | D46: M | E46: =TRUNC(201400/2.5,0) -> 80560 | F46: 281 | G46: 84100 | H46: 337 | L46: =MIN(E46,G46,I46) -> 80560 | M46: =IF(L46=E46,"물자 P"&F46,IF(L46=G46,"물정(I) P"&H46,IF(L46=I46,"조달청"&J46," "))) -> 물자 P281 | P46: 소켁식(B형), 물자-대전, 물정-대전
A47: =A46+1 -> 44 | B47: 흄관 | C47: D1000 | D47: M | E47: =TRUNC(251200/2.5,0) -> 100480 | F47: 281 | G47: 104900 | H47: 337 | L47: =MIN(E47,G47,I47) -> 100480 | M47: =IF(L47=E47,"물자 P"&F47,IF(L47=G47,"물정(I) P"&H47,IF(L47=I47,"조달청"&J47," "))) -> 물자 P281 | P47: 소켁식(B형), 물자-대전, 물정-대전
A48: =A47+1 -> 45 | B48: 흄관 | C48: D1100 | D48: M | E48: =TRUNC(293900/2.5,0) -> 117560 | F48: 281 | G48: 122700 | H48: 337 | L48: =MIN(E48,G48,I48) -> 117560 | M48: =IF(L48=E48,"물자 P"&F48,IF(L48=G48,"물정(I) P"&H48,IF(L48=I48,"조달청"&J48," "))) -> 물자 P281 | P48: 소켁식(B형), 물자-대전, 물정-대전
A49: =A48+1 -> 46 | B49: 흄관 | C49: D1200 | D49: M | E49: =TRUNC(352600/2.5,0) -> 141040 | F49: 281 | G49: 147300 | H49: 337 | L49: =MIN(E49,G49,I49) -> 141040 | M49: =IF(L49=E49,"물자 P"&F49,IF(L49=G49,"물정(I) P"&H49,IF(L49=I49,"조달청"&J49," "))) -> 물자 P281 | P49: 소켁식(B형), 물자-대전, 물정-대전
A50: =A49+1 -> 47 | B50: PHC PILE(L=5M) | C50: D400*65 | D50: 본 | E50: 112790 | F50: 301 | G50: 113300 | H50: 201 | L50: =MIN(E50,G50,I50) -> 112790 | M50: =IF(L50=E50,"물자 P"&F50,IF(L50=G50,"물정(I) P"&H50,IF(L50=I50,"조달청"&J50," "))) -> 물자 P301 | P50: 물자-대전, 물정-대전
A51: =A50+1 -> 48 | B51: PHC PILE(L=6M) | C51: D400*65 | D51: 본 | E51: 135320 | F51: 301 | G51: 136200 | H51: 201 | L51: =MIN(E51,G51,I51) -> 135320 | M51: =IF(L51=E51,"물자 P"&F51,IF(L51=G51,"물정(I) P"&H51,IF(L51=I51,"조달청"&J51," "))) -> 물자 P301 | P51: 물자-대전, 물정-대전
A52: =A51+1 -> 49 | B52: PHC PILE(L=7M) | C52: D400*65 | D52: 본 | E52: 157860 | F52: 301 | G52: 157900 | H52: 201 | L52: =MIN(E52,G52,I52) -> 157860 | M52: =IF(L52=E52,"물자 P"&F52,IF(L52=G52,"물정(I) P"&H52,IF(L52=I52,"조달청"&J52," "))) -> 물자 P301 | P52: 물자-대전, 물정-대전
A53: =A52+1 -> 50 | B53: PHC PILE(L=8M) | C53: D400*65 | D53: 본 | E53: 180400 | F53: 301 | G53: 172200 | H53: 201 | L53: =MIN(E53,G53,I53) -> 172200 | M53: =IF(L53=E53,"물자 P"&F53,IF(L53=G53,"물정(I) P"&H53,IF(L53=I53,"조달청"&J53," "))) -> 물정(I) P201 | P53: 물자-대전, 물정-대전
A54: =A53+1 -> 51 | B54: PHC PILE(L=9M) | C54: D400*65 | D54: 본 | E54: 202940 | F54: 301 | G54: 194000 | H54: 201 | L54: =MIN(E54,G54,I54) -> 194000 | M54: =IF(L54=E54,"물자 P"&F54,IF(L54=G54,"물정(I) P"&H54,IF(L54=I54,"조달청"&J54," "))) -> 물정(I) P201 | P54: 물자-대전, 물정-대전
A55: =A54+1 -> 52 | B55: PHC PILE(L=10M) | C55: D400*65 | D55: 본 | E55: 225480 | F55: 301 | G55: 215900 | H55: 201 | L55: =MIN(E55,G55,I55) -> 215900 | M55: =IF(L55=E55,"물자 P"&F55,IF(L55=G55,"물정(I) P"&H55,IF(L55=I55,"조달청"&J55," "))) -> 물정(I) P201 | P55: 물자-대전, 물정-대전
A56: =A55+1 -> 53 | B56: PHC PILE(L=11M) | C56: D400*65 | D56: 본 | E56: 248110 | F56: 301 | G56: 237700 | H56: 201 | L56: =MIN(E56,G56,I56) -> 237700 | M56: =IF(L56=E56,"물자 P"&F56,IF(L56=G56,"물정(I) P"&H56,IF(L56=I56,"조달청"&J56," "))) -> 물정(I) P201 | P56: 물자-대전, 물정-대전
A57: =A56+1 -> 54 | B57: PHC PILE(L=12M) | C57: D400*65 | D57: 본 | E57: 270640 | F57: 301 | G57: 258300 | H57: 201 | L57: =MIN(E57,G57,I57) -> 258300 | M57: =IF(L57=E57,"물자 P"&F57,IF(L57=G57,"물정(I) P"&H57,IF(L57=I57,"조달청"&J57," "))) -> 물정(I) P201 | P57: 물자-대전, 물정-대전
A58: =A57+1 -> 55 | B58: PHC PILE(L=13M) | C58: D400*65 | D58: 본 | E58: 293190 | F58: 301 | G58: 280200 | H58: 201 | L58: =MIN(E58,G58,I58) -> 280200 | M58: =IF(L58=E58,"물자 P"&F58,IF(L58=G58,"물정(I) P"&H58,IF(L58=I58,"조달청"&J58," "))) -> 물정(I) P201 | P58: 물자-대전, 물정-대전
A59: =A58+1 -> 56 | B59: PHC PILE(L=14M) | C59: D400*65 | D59: 본 | E59: 315720 | F59: 301 | G59: 302100 | H59: 201 | L59: =MIN(E59,G59,I59) -> 302100 | M59: =IF(L59=E59,"물자 P"&F59,IF(L59=G59,"물정(I) P"&H59,IF(L59=I59,"조달청"&J59," "))) -> 물정(I) P201 | P59: 물자-대전, 물정-대전
A60: =A59+1 -> 57 | B60: PHC PILE(L=15M) | C60: D400*65 | D60: 본 | E60: 338270 | F60: 301 | G60: 323900 | H60: 201 | L60: =MIN(E60,G60,I60) -> 323900 | M60: =IF(L60=E60,"물자 P"&F60,IF(L60=G60,"물정(I) P"&H60,IF(L60=I60,"조달청"&J60," "))) -> 물정(I) P201 | P60: 물자-대전, 물정-대전
A61: =A60+1 -> 58 | B61: PHC PILE(L=5M) | C61: D500*80 | D61: 본 | E61: 173590 | F61: 301 | G61: 174400 | H61: 201 | L61: =MIN(E61,G61,I61) -> 173590 | M61: =IF(L61=E61,"물자 P"&F61,IF(L61=G61,"물정(I) P"&H61,IF(L61=I61,"조달청"&J61," "))) -> 물자 P301 | P61: 물자-대전, 물정-대전
... A74: =A73+1 -> 71 | B74: 맨홀 COVER | C74: D1108 | D74: EA | E74: 1020000 | F74: 197 | G74: 1480000 | H74: 290 | L74: =MIN(E74,G74,I74) -> 1020000 | M74: =IF(L74=E74,"물자 P"&F74,IF(L74=G74,"물정(I) P"&H74,IF(L74=I74,"조달청"&J74," "))) -> 물자 P197 | P74: 전기, 통신용
A76: 지입 자재단가
A77: No | B77: 품 명 | C77: 규 격 | D77: 단위 | E77: 물가자료(11.10) | G77: 물가정보(11.10) | I77: 조달청(11.10) | K77: 기타 | L77: 적용단가 | M77: 비 고 | O77: 물가자료
E78: 단 가 | F78: page | G78: 단 가 | H78: page | I78: 단 가 | J78: page
A79: 1 | B79: 시멘트 | C79: 40KG/대 (포장품) | D79: TON | E79: =TRUNC((1000/40)*3800,0) -> 95000 | F79: 103 | G79: =TRUNC((1000/40)*4200,0) -> 105000 | H79: 126 | L79: =MIN(E79,G79,K79) -> 95000 | M79: =IF(L79=E79,"물자 P"&F79,IF(L79=G79,"물정(I) P"&H79,IF(L79=K79,"견적가격"))) -> 물자 P103 | P79: 물자-대전, 물정-대전
A80: =A79+1 -> 2 | B80: 시멘트 | C80: 40KG/포 (포장품) | D80: 포 | E80: 3800 | F80: 103 | G80: 4200 | H80: 126 | L80: =MIN(E80,G80,K80) -> 3800 | M80: =IF(L80=E80,"물자 P"&F80,IF(L80=G80,"물정(I) P"&H80,IF(L80=K80,"견적가격"))) -> 물자 P103 | P80: 물자-대전, 물정-대전
A81: =A80+1 -> 3 | B81: 모래 | C81: 강모래 | D81: M3 | E81: 17000 | F81: 100 | L81: =MIN(E81,G81,K81) -> 17000 | M81: =IF(L81=E81,"물자 P"&F81,IF(L81=G81,"물정(I) P"&H81,IF(L81=K81,"견적가격"))) -> 물자 P100 | P81: 물자-충청 연기 강모래, 현장도착도 물정-해당지역 없음
A82: =A81+1 -> 4 | B82: 혼합석 | D82: M3 | E82: 14000 | F82: 100 | L82: =MIN(E82,G82,K82) -> 14000 | M82: =IF(L82=E82,"물자 P"&F82,IF(L82=G82,"물정(I) P"&H82,IF(L82=K82,"견적가격"))) -> 물자 P100 | P82: 물자-충청 보령, 현장도착도, 물정-해당지역 없음
A83: =A82+1 -> 5 | B83: 쇄석자갈 | C83: 40MM | D83: M3 | E83: 16000 | F83: 100 | L83: =MIN(E83,G83,K83) -> 16000 | M83: =IF(L83=E83,"물자 P"&F83,IF(L83=G83,"물정(I) P"&H83,IF(L83=K83,"견적가격"))) -> 물자 P100 | P83: 물자-충청 보령, 현장도착도, 물정-해당지역 없음
A84: =A83+1 -> 6 | B84: 기층 | C84: 40MM | D84: M3 | E84: 14000 | F84: 100 | L84: =MIN(E84,G84,K84) -> 14000 | M84: =IF(L84=E84,"물자 P"&F84,IF(L84=G84,"물정(I) P"&H84,IF(L84=K84,"견적가격"))) -> 물자 P100 | P84: 물자-충청 보령, 현장도착도, 물정-해당지역 없음
A85: =A84+1 -> 7 | B85: 보조기층 | C85: 50MM | D85: M3 | E85: 14000 | F85: 100 | L85: =MIN(E85,G85,K85) -> 14000 | M85: =IF(L85=E85,"물자 P"&F85,IF(L85=G85,"물정(I) P"&H85,IF(L85=K85,"견적가격"))) -> 물자 P100 | P85: 물자-충청 보령, 현장도착도, 물정-해당지역 없음
A86: =A85+1 -> 8 | B86: 석분 | D86: M3 | E86: 13000 | F86: 100 | L86: =MIN(E86,G86,K86) -> 13000 | M86: =IF(L86=E86,"물자 P"&F86,IF(L86=G86,"물정(I) P"&H86,IF(L86=K86,"견적가격"))) -> 물자 P100 | P86: 물자-충청 보령, 현장도착도, 물정-해당지역 없음
A87: =A86+1 -> 9 | B87: 합판 | C87: 12*1220*2440MM | D87: M2 | E87: =TRUNC(26500/(1.22*2.44),0) -> 8902 | F87: 618 | G87: =TRUNC(34100/(1.22*2.44),0) -> 11455 | H87: 333 | L87: =MIN(E87,G87,K87) -> 8902 | M87: =IF(L87=E87,"물자 P"&F87,IF(L87=G87,"물정(II) P"&H87,IF(L87=K87,"견적가격"))) -> 물자 P618 | O87: 점포상차도 | P87: 물자-대전, 내수합판, 물정-대전, 내수합판
A88: =A87+1 -> 10 | B88: 합판 | C88: 15*1220*2440MM | D88: M2 | E88: =TRUNC(33700/(1.22*2.44),0) -> 11320 | F88: 618 | G88: =TRUNC(40600/(1.22*2.44),0) -> 13638 | H88: 333 | L88: =MIN(E88,G88,K88) -> 11320 | M88: =IF(L88=E88,"물자 P"&F88,IF(L88=G88,"물정(II) P"&H88,IF(L88=K88,"견적가격"))) -> 물자 P618 | P88: 물자-대전, 내수합판, 물정-대전, 내수합판
A89: =A88+1 -> 11 | B89: 합판 | C89: 3*910*1820MM | D89: M2 | E89: =TRUNC(5100/(0.91*1.82),0) -> 3079 | F89: 618 | G89: =TRUNC(5500/(0.91*1.82),0) -> 3320 | H89: 333 | L89: =MIN(E89,G89,K89) -> 3079 | M89: =IF(L89=E89,"물자 P"&F89,IF(L89=G89,"물정(II) P"&H89,IF(L89=K89,"견적가격"))) -> 물자 P618 | O89: 점포상차도 | P89: 물자-대전, 준내수합판, 물정-대전, 준내수합판
A90: =A89+1 -> 12 | B90: 합판 | C90: 4.8*122*244 | D90: 매 | E90: 12000 | F90: 618 | G90: 14000 | H90: 333 | L90: =MIN(E90,G90,K90) -> 12000 | M90: =IF(L90=E90,"물자 P"&F90,IF(L90=G90,"물정(I) P"&H90,IF(L90=K90,"견적가격"))) -> 물자 P618 | P90: 물자-대전, 준내수합판, 물정-대전, 준내수합판
A91: =A90+1 -> 13 | B91: 판재(외송) | C91: 30*30*3600MM | D91: M3 | E91: =TRUNC(1300*(1/0.00334),0) -> 389221 | F91: 135 | G91: =TRUNC(1680*(1/0.00334),0) -> 502994 | H91: 144 | L91: =MIN(E91,G91,I91) -> 389221 | M91: =IF(L91=E91,"물자 P"&F91,IF(L91=G91,"물정(I) P"&H91,IF(L91=I91,"조달청"&J91," "))) -> 물자 P135 | P91: 물자-전국, 공장상차도, 3000재 정도, 물정-대전, 도매상.대리점
A92: =A91+1 -> 14 | B92: 각재(외송) | C92: 30*30*3600MM | D92: M3 | E92: =TRUNC(1300*(1/0.00334),0) -> 389221 | F92: 134 | G92: =TRUNC(1500*(1/0.00334),0) -> 449101 | H92: 144 | L92: =MIN(E92,G92,I92) -> 389221 | M92: =IF(L92=E92,"물자 P"&F92,IF(L92=G92,"물정(I) P"&H92,IF(L92=I92,"조달청"&J92," "))) -> 물자 P134 | O92: 점포상차도 | P92: 물자-전국, 공장상차도, 3000재 정도, 물정-대전, 도매상.대리점
A93: =A92+1 -> 15 | B93: 철선 | C93: #8(4.0MM | D93: KG | E93: 1330 | F93: 64 | G93: 1270 | H93: 95 | L93: =MIN(E93,G93,K93) -> 1270 | M93: =IF(L93=E93,"물자 P"&F93,IF(L93=G93,"물정(I) P"&H93,IF(L93=K93,"견적가격"))) -> 물정(I) P95 | P93: 물자-대전, 물정-대전
A94: =A93+1 -> 16 | B94: 결속선 | C94: #20(3.5MM) | D94: KG | E94: 1620 | F94: 64 | G94: 1810 | H94: 95 | L94: =MIN(E94,G94,K94) -> 1620 | M94: =IF(L94=E94,"물자 P"&F94,IF(L94=G94,"물정(I) P"&H94,IF(L94=K94,"견적가격"))) -> 물자 P64 | O94: 공장상차도 | P94: 물자-대전, 물정-대전
A95: =A94+1 -> 17 | B95: 못 | C95: N75 | D95: KG | E95: =TRUNC(33400/23,0) -> 1452 | F95: 65 | G95: =TRUNC(22400/20,0) -> 1120 | H95: 96 | L95: =MIN(E95,G95,K95) -> 1120 | M95: =IF(L95=E95,"물자 P"&F95,IF(L95=G95,"물정(I) P"&H95,IF(L95=K95,"견적가격"))) -> 물정(I) P96 | P95: 물자-대전, 물정-대전
A96: =A95+1 -> 18 | B96: 못 | C96: N25 | D96: KG | E96: =ROUND(36550/23,0) -> 1589 | F96: 65 | G96: =TRUNC(25700/20,0) -> 1285 | H96: 96 | L96: =MIN(E96,G96,K96) -> 1285 | M96: =IF(L96=E96,"물자 P"&F96,IF(L96=G96,"물정(I) P"&H96,IF(L96=K96,"견적가격"))) -> 물정(I) P96 | P96: 물자-대전, 물정-대전
A97: =A96+1 -> 19 | B97: 콘크리트못 | C97: 25MM | D97: EA | E97: =TRUNC(690/300,1) -> 2.3 | F97: 65 | G97: =TRUNC(550/200,1) -> 2.7 | H97: 96 | L97: =MIN(E97,G97,K97) -> 2.3 | M97: =IF(L97=E97,"물자 P"&F97,IF(L97=G97,"물정(I) P"&H97,IF(L97=K97,"견적가격"))) -> 물자 P65 | P97: 물자-대전, 물정-대전
A98: =A97+1 -> 20 | B98: 박리제 | C98: 목재용 | D98: L | E98: =TRUNC(250000/200,0) -> 1250 | F98: 151 | G98: 2000 | H98: 149 | L98: =MIN(E98,G98,K98) -> 1250 | M98: =IF(L98=E98,"물자 P"&F98,IF(L98=G98,"물정(I) P"&H98,IF(L98=K98,"견적가격"))) -> 물자 P151 | P98: 세라콘501, 목재용(수성1:1) 200L/DM, 물정은 수성박리제(제스폼 G-5) 우드, 유로폼 으로 적용
A99: =A98+1 -> 21 | B99: 박리제 | C99: 철재용 | D99: L | E99: =TRUNC(300000/200,0) -> 1500 | F99: 151 | G99: 1000 | H99: 149 | L99: =MIN(E99,G99,K99) -> 1000 | M99: =IF(L99=E99,"물자 P"&F99,IF(L99=G99,"물정(I) P"&H99,IF(L99=K99,"견적가격"))) -> 물정(I) P149 | P99: 철재 유로폼용(유성) 200L/DM, 물정은 철재 유로폼박리제(유성)
A100: =A99+1 -> 22 | B100: FORM TIE | C100: D1/2*250 | D100: EA | E100: =TRUNC(480/500*250,0) -> 240 | F100: 147 | L100: =MIN(E100,G100,K100) -> 240 | M100: =IF(L100=E100,"물자 P"&F100,IF(L100=G100,"물정(I) P"&H100,IF(L100=K100,"견적가격"))) -> 물자 P147
A101: =A100+1 -> 23 | B101: SEPA BOLT | D101: EA | E101: 90 | F101: 148 | L101: =MIN(E101,G101,K101) -> 90 | M101: =IF(L101=E101,"물자 P"&F101,IF(L101=G101,"물정(I) P"&H101,IF(L101=K101,"견적가격"))) -> 물자 P148
A102: =A101+1 -> 24 | B102: 강관 동바리 | C102: 48.6MM | D102: 본 | E102: 19600 | F102: 145 | G102: 23700 | H102: 147 | L102: =MIN(E102,G102,K102) -> 19600 | M102: =IF(L102=E102,"물자 P"&F102,IF(L102=G102,"물정(I) P"&H102,IF(L102=K102,"견적가격"))) -> 물자 P145 | O102: 점포상차도 | P102: 물자-대전, 물정-대전, 아연도강관써포트(SS41, V-3 2400~3800)
A103: =A102+1 -> 25 | B103: 강관 파이프 | C103: D48.6 | D103: M | E103: =ROUNDDOWN(20000/6,0) -> 3333 | F103: 145 | G103: =ROUNDDOWN(20190/6,0) -> 3365 | H103: 146 | L103: =MIN(E103,G103,K103) -> 3333 | M103: =IF(L103=E103,"물자 P"&F103,IF(L103=G103,"물정(I) P"&H103,IF(L103=K103,"견적가격"))) -> 물자 P145 | O103: 점포상차도 | P103: 물자-대전, 물정-대전, 강관비계, 비계파이프길이6m*외경48.6mm 관두께2.3mm/6
A104: =A103+1 -> 26 | B104: 이음철물 | D104: EA | E104: 1000 | F104: 145 | G104: 1050 | H104: 146 | L104: =MIN(E104,G104,K104) -> 1000 | M104: =IF(L104=E104,"물자 P"&F104,IF(L104=G104,"물정(I) P"&H104,IF(L104=K104,"견적가격"))) -> 물자 P145 | O104: 점포상차도 | P104: 물자-대전, 물정-대전, 연결핀(단관비계 48.6 mm용)
A105: =A104+1 -> 27 | B105: 조임철물 | C105: 직교·자재 | D105: EA | E105: 1550 | F105: 145 | G105: 1570 | H105: 146 | L105: =MIN(E105,G105,K105) -> 1550 | M105: =IF(L105=E105,"물자 P"&F105,IF(L105=G105,"물정(I) P"&H105,IF(L105=K105,"견적가격"))) -> 물자 P145 | P105: 물자-대전, 물정-대전, 직교 크램프 파이프(경) 48*48mm 용
A106: =A105+1 -> 28 | B106: 받침철물 | D106: EA | E106: 3550 | F106: 145 | G106: 3400 | H106: 146 | L106: =MIN(E106,G106,K106) -> 3400 | M106: =IF(L106=E106,"물자 P"&F106,IF(L106=G106,"물정(I) P"&H106,IF(L106=K106,"견적가격"))) -> 물정(I) P146 | O106: 점포상차도 | P106: 물자-대전, 물정-대전, 받침판(BASE PLATE) B.R 48*48mm 용
A107: =A106+1 -> 29 | B107: 철물 | C107: 앵커용 | D107: EA | E107: 1550 | F107: 145 | G107: 1570 | H107: 146 | L107: =MIN(E107,G107,K107) -> 1550 | M107: =IF(L107=E107,"물자 P"&F107,IF(L107=G107,"물정(I) P"&H107,IF(L107=K107,"견적가격"))) -> 물자 P145 | P107: 물자-대전, 물정-대전, 자동크램프 파이프(경) 48*48mm 용
A108: =A107+1 -> 30 | B108: 발판 | C108: 400*3000 | D108: EA | E108: 34100 | F108: 146 | G108: 40000 | H108: 147 | L108: =MIN(E108,G108,K108) -> 34100 | M108: =IF(L108=E108,"물자 P"&F108,IF(L108=G108,"물정(I) P"&H108,IF(L108=K108,"견적가격"))) -> 물자 P146 | O108: 점포상차도
A109: =A108+1 -> 31 | B109: 발판 | C109: 250*914 | D109: EA | E109: 15000 | F109: 146 | G109: 16500 | H109: 147 | L109: =MIN(E109,G109,K109) -> 15000 | M109: =IF(L109=E109,"물자 P"&F109,IF(L109=G109,"물정(I) P"&H109,IF(L109=K109,"견적가격"))) -> 물자 P146
A110: =A109+1 -> 32 | B110: 용접봉 | C110: 3.2MM | D110: KG | E110: 2020 | F110: 1279 | G110: 2100 | H110: 558 | L110: =MIN(E110,G110,K110) -> 2020 | M110: =IF(L110=E110,"물자 P"&F110,IF(L110=G110,"물정(I) P"&H110,IF(L110=K110,"견적가격"))) -> 물자 P1279
A111: =A110+1 -> 33 | B111: 산소 | C111: 0.9999 | D111: L | E111: =TRUNC(11000/6000,1) -> 1.8 | F111: 1352 | L111: =MIN(E111,G111,K111) -> 1.8 | M111: =IF(L111=E111,"물자 P"&F111,IF(L111=G111,"물정(II) P"&H111,IF(L111=K111,"견적가격"))) -> 물자 P1352 | P111: 고압가스 O2 99% 120kg/cm2 이상 6m3 (기체) 40L, 물자-대전, 물정-해당지역없음
A112: =A111+1 -> 34 | B112: 아세칠렌 | C112: 0.98 | D112: KG | E112: 11000 | F112: 1352 | L112: =MIN(E112,G112,K112) -> 11000 | M112: =IF(L112=E112,"물자 P"&F112,IF(L112=G112,"물정(II) P"&H112,IF(L112=K112,"견적가격"))) -> 물자 P1352 | P112: 98%(용접용), 물자-대전, 물정-해당지역없음
A113: =A112+1 -> 35 | B113: 프로판가스 | C113: 일반용 | D113: KG | E113: 1900 | F113: 1351 | G113: 2010.58 | H113: 883 | L113: =MIN(E113,G113,K113) -> 1900 | M113: =IF(L113=E113,"물자 P"&F113,IF(L113=G113,"물정(II) P"&H113,IF(L113=K113,"견적가격"))) -> 물자 P1351 | P113: 주유소 가격
...
