Workbook

Sheet 내역서(태안화력)
A1: 태안화력 #9,10 냉각수 취수펌프구조물 축조공사(CC-03)
A2: 공 종 | B2: 규 격 | C2: 수 량 | D2: 단위 | E2: 재 료 비 | G2: 노 무 비 | I2: 경 비 | K2: 합 계 | M2: 비 고
E3: 단 가 | F3: 금 액 | G3: 단 가 | H3: 금 액 | I3: 단 가 | J3: 금 액 | K3: 단 가 | L3: 금 액
A4: A. 회사취급비
A7: 1. 사급재료비
A8: =#REF! -> #REF! | B8: =#REF! -> #REF! | C8: =#REF! -> #REF! | D8: =#REF! -> #REF! | E8: =#REF! -> #REF! | F8: =INT($C8*E8) -> #REF! | H8: =INT($C8*G8) -> #REF! | J8: =INT($C8*I8) -> #REF! | K8: =E8+G8+I8 -> #REF! | L8: =F8+H8+J8 -> #REF! | M8: =#REF! -> #REF!
A9: =#REF! -> #REF! | B9: =#REF! -> #REF! | C9: =#REF! -> #REF! | D9: =#REF! -> #REF! | E9: =#REF! -> #REF! | F9: =INT($C9*E9) -> #REF! | H9: =INT($C9*G9) -> #REF! | J9: =INT($C9*I9) -> #REF! | K9: =E9+G9+I9 -> #REF! | L9: =F9+H9+J9 -> #REF! | M9: =#REF! -> #REF!
A10: =#REF! -> #REF! | B10: =#REF! -> #REF! | C10: =#REF! -> #REF! | D10: =#REF! -> #REF! | E10: =#REF! -> #REF! | F10: =INT($C10*E10) -> #REF! | H10: =INT($C10*G10) -> #REF! | J10: =INT($C10*I10) -> #REF! | K10: =E10+G10+I10 -> #REF! | L10: =F10+H10+J10 -> #REF! | M10: =#REF! -> #REF!
A11: =#REF! -> #REF! | B11: =#REF! -> #REF! | C11: =#REF! -> #REF! | D11: =#REF! -> #REF! | E11: =#REF! -> #REF! | F11: =INT($C11*E11) -> #REF! | H11: =INT($C11*G11) -> #REF! | J11: =INT($C11*I11) -> #REF! | K11: =E11+G11+I11 -> #REF! | L11: =F11+H11+J11 -> #REF! | M11: =#REF! -> #REF!
A12: =#REF! -> #REF! | B12: =#REF! -> #REF! | C12: =#REF! -> #REF! | D12: =#REF! -> #REF! | E12: =#REF! -> #REF! | F12: =INT($C12*E12) -> #REF! | H12: =INT($C12*G12) -> #REF! | J12: =INT($C12*I12) -> #REF! | K12: =E12+G12+I12 -> #REF! | L12: =F12+H12+J12 -> #REF! | M12: =#REF! -> #REF!
A13: =#REF! -> #REF! | B13: =#REF! -> #REF! | C13: =#REF! -> #REF! | D13: =#REF! -> #REF! | E13: =#REF! -> #REF! | F13: =INT($C13*E13) -> #REF! | H13: =INT($C13*G13) -> #REF! | J13: =INT($C13*I13) -> #REF! | K13: =E13+G13+I13 -> #REF! | L13: =F13+H13+J13 -> #REF! | M13: =#REF! -> #REF!
A14: =#REF! -> #REF! | B14: =#REF! -> #REF! | C14: =#REF! -> #REF! | D14: =#REF! -> #REF! | E14: =#REF! -> #REF! | F14: =INT($C14*E14) -> #REF! | H14: =INT($C14*G14) -> #REF! | J14: =INT($C14*I14) -> #REF! | K14: =E14+G14+I14 -> #REF! | L14: =F14+H14+J14 -> #REF! | M14: =#REF! -> #REF!
A15: =#REF! -> #REF! | B15: =#REF! -> #REF! | C15: =#REF! -> #REF! | D15: =#REF! -> #REF! | E15: =#REF! -> #REF! | F15: =INT($C15*E15) -> #REF! | H15: =INT($C15*G15) -> #REF! | J15: =INT($C15*I15) -> #REF! | K15: =E15+G15+I15 -> #REF! | L15: =F15+H15+J15 -> #REF! | M15: =#REF! -> #REF!
A16: =#REF! -> #REF! | B16: =#REF! -> #REF! | C16: =#REF! -> #REF! | D16: =#REF! -> #REF! | E16: =#REF! -> #REF! | F16: =INT($C16*E16) -> #REF! | H16: =INT($C16*G16) -> #REF! | J16: =INT($C16*I16) -> #REF! | K16: =E16+G16+I16 -> #REF! | L16: =F16+H16+J16 -> #REF! | M16: =#REF! -> #REF!
A17: 소 계 | F17: =SUM(F8:F16) -> #REF! | H17: =SUM(H8:H16) -> #REF! | J17: =SUM(J8:J16) -> #REF! | L17: =F17+H17+J17-M17 -> #REF! | M17: 19
A19: 사급재료비 계 | F19: =L17 -> #REF! | L19: =F19+H19+J19 -> #REF!
A21: 2. 회사분경비
A22: 1)제세공과금 | D22: (사급재료비 + 도급공사비) * 4.0% | J22: =INT((F19+L189)*4%) -> #REF! | L22: =+F22+H22+J22 -> #REF!
A23: 2)조달수수료 | D23: (사급재료비) * 0.5% | J23: =INT(F19*0.5%) -> #REF! | L23: =+F23+H23+J23 -> #REF!
A25: 회사분경비 계 | J25: =SUM(J22:J23) -> #REF! | L25: =+F25+H25+J25 -> #REF!
A26: 회사취급비 계 | F26: =F19 -> #REF! | J26: =J25-M26 -> #REF! | L26: =+F26+H26+J26 -> #REF! | M26: 130
A29: B. 도급공사비
A31: 지입재료비
A32: =#REF! -> #REF! | B32: =#REF! -> #REF! | C32: =#REF! -> #REF! | D32: =#REF! -> #REF! | E32: =#REF! -> #REF! | F32: =INT($C32*E32) -> #REF! | H32: =INT($C32*G32) -> #REF! | J32: =INT($C32*I32) -> #REF! | K32: =E32+G32+I32 -> #REF! | L32: =F32+H32+J32 -> #REF! | M32: =#REF! -> #REF!
A33: =#REF! -> #REF! | B33: =#REF! -> #REF! | C33: =#REF! -> #REF! | D33: =#REF! -> #REF! | E33: =#REF! -> #REF! | F33: =INT($C33*E33) -> #REF! | H33: =INT($C33*G33) -> #REF! | J33: =INT($C33*I33) -> #REF! | K33: =E33+G33+I33 -> #REF! | L33: =F33+H33+J33 -> #REF! | M33: =#REF! -> #REF!
A34: =#REF! -> #REF! | B34: =#REF! -> #REF! | C34: =#REF! -> #REF! | D34: =#REF! -> #REF! | E34: =#REF! -> #REF! | F34: =INT($C34*E34) -> #REF! | H34: =INT($C34*G34) -> #REF! | J34: =INT($C34*I34) -> #REF! | K34: =E34+G34+I34 -> #REF! | L34: =F34+H34+J34 -> #REF! | M34: =#REF! -> #REF!
A35: =#REF! -> #REF! | B35: =#REF! -> #REF! | C35: =#REF! -> #REF! | D35: =#REF! -> #REF! | E35: =#REF! -> #REF! | F35: =INT($C35*E35) -> #REF! | H35: =INT($C35*G35) -> #REF! | J35: =INT($C35*I35) -> #REF! | K35: =E35+G35+I35 -> #REF! | L35: =F35+H35+J35 -> #REF! | M35: =#REF! -> #REF!
A36: =#REF! -> #REF! | B36: =#REF! -> #REF! | C36: =#REF! -> #REF! | D36: =#REF! -> #REF! | E36: =#REF! -> #REF! | F36: =INT($C36*E36) -> #REF! | H36: =INT($C36*G36) -> #REF! | J36: =INT($C36*I36) -> #REF! | K36: =E36+G36+I36 -> #REF! | L36: =F36+H36+J36 -> #REF! | M36: =#REF! -> #REF!
A37: =#REF! -> #REF! | B37: =#REF! -> #REF! | C37: =#REF! -> #REF! | D37: =#REF! -> #REF! | E37: =#REF! -> #REF! | F37: =INT($C37*E37) -> #REF! | H37: =INT($C37*G37) -> #REF! | J37: =INT($C37*I37) -> #REF! | K37: =E37+G37+I37 -> #REF! | L37: =F37+H37+J37 -> #REF! | M37: =#REF! -> #REF!
A38: =#REF! -> #REF! | B38: =#REF! -> #REF! | C38: =#REF! -> #REF! | D38: =#REF! -> #REF! | E38: =#REF! -> #REF! | F38: =INT($C38*E38) -> #REF! | H38: =INT($C38*G38) -> #REF! | J38: =INT($C38*I38) -> #REF! | K38: =E38+G38+I38 -> #REF! | L38: =F38+H38+J38 -> #REF! | M38: =#REF! -> #REF!
A39: =#REF! -> #REF! | B39: =#REF! -> #REF! | C39: =#REF! -> #REF! | D39: =#REF! -> #REF! | E39: =#REF! -> #REF! | F39: =INT($C39*E39) -> #REF! | H39: =INT($C39*G39) -> #REF! | J39: =INT($C39*I39) -> #REF! | K39: =E39+G39+I39 -> #REF! | L39: =F39+H39+J39 -> #REF! | M39: =#REF! -> #REF!
A40: =#REF! -> #REF! | B40: =#REF! -> #REF! | C40: =#REF! -> #REF! | D40: =#REF! -> #REF! | E40: =#REF! -> #REF! | F40: =INT($C40*E40) -> #REF! | H40: =INT($C40*G40) -> #REF! | J40: =INT($C40*I40) -> #REF! | K40: =E40+G40+I40 -> #REF! | L40: =F40+H40+J40 -> #REF! | M40: =#REF! -> #REF!
A41: =#REF! -> #REF! | B41: =#REF! -> #REF! | C41: =#REF! -> #REF! | D41: =#REF! -> #REF! | E41: =#REF! -> #REF! | F41: =INT($C41*E41) -> #REF! | H41: =INT($C41*G41) -> #REF! | J41: =INT($C41*I41) -> #REF! | K41: =E41+G41+I41 -> #REF! | L41: =F41+H41+J41 -> #REF! | M41: =#REF! -> #REF!
A42: =#REF! -> #REF! | B42: =#REF! -> #REF! | C42: =#REF! -> #REF! | D42: =#REF! -> #REF! | E42: =#REF! -> #REF! | F42: =INT($C42*E42) -> #REF! | H42: =INT($C42*G42) -> #REF! | J42: =INT($C42*I42) -> #REF! | K42: =E42+G42+I42 -> #REF! | L42: =F42+H42+J42 -> #REF! | M42: =#REF! -> #REF!
A43: =#REF! -> #REF! | B43: =#REF! -> #REF! | C43: =#REF! -> #REF! | D43: =#REF! -> #REF! | E43: =#REF! -> #REF! | F43: =INT($C43*E43) -> #REF! | H43: =INT($C43*G43) -> #REF! | J43: =INT($C43*I43) -> #REF! | K43: =E43+G43+I43 -> #REF! | L43: =F43+H43+J43 -> #REF! | M43: =#REF! -> #REF!
... A63: =#REF! -> #REF! | B63: =#REF! -> #REF! | C63: =#REF! -> #REF! | D63: =#REF! -> #REF! | E63: =#REF! -> #REF! | F63: =INT($C63*E63) -> #REF! | H63: =INT($C63*G63) -> #REF! | J63: =INT($C63*I63) -> #REF! | K63: =E63+G63+I63 -> #REF! | L63: =F63+H63+J63 -> #REF! | M63: =#REF! -> #REF!
A64: =#REF! -> #REF! | B64: =#REF! -> #REF! | C64: =#REF! -> #REF! | D64: =#REF! -> #REF! | E64: =#REF!*1000 -> #REF! | F64: =INT($C64*E64) -> #REF! | H64: =INT($C64*G64) -> #REF! | J64: =INT($C64*I64) -> #REF! | K64: =E64+G64+I64 -> #REF! | L64: =F64+H64+J64 -> #REF! | M64: =#REF! -> #REF!
A65: =#REF! -> #REF! | B65: =#REF! -> #REF! | C65: =#REF! -> #REF! | D65: =#REF! -> #REF! | E65: =#REF! -> #REF! | F65: =INT($C65*E65) -> #REF! | H65: =INT($C65*G65) -> #REF! | J65: =INT($C65*I65) -> #REF! | K65: =E65+G65+I65 -> #REF! | L65: =F65+H65+J65 -> #REF! | M65: =#REF! -> #REF!
A66: =#REF! -> #REF! | B66: =#REF! -> #REF! | C66: =#REF! -> #REF! | D66: =#REF! -> #REF! | E66: =#REF! -> #REF! | F66: =INT($C66*E66) -> #REF! | H66: =INT($C66*G66) -> #REF! | J66: =INT($C66*I66) -> #REF! | K66: =E66+G66+I66 -> #REF! | L66: =F66+H66+J66 -> #REF! | M66: =#REF! -> #REF!
A67: =#REF! -> #REF! | B67: =#REF! -> #REF! | C67: =#REF! -> #REF! | D67: =#REF! -> #REF! | E67: =#REF! -> #REF! | F67: =INT($C67*E67) -> #REF! | H67: =INT($C67*G67) -> #REF! | J67: =INT($C67*I67) -> #REF! | K67: =E67+G67+I67 -> #REF! | L67: =F67+H67+J67 -> #REF! | M67: =#REF! -> #REF!
...

Sheet 토공수량총괄표
A1: 신평택 취수펌프구조물 토공 수량총괄표
A3: 구분 | B3: 공종 | C3: 규격 | D3: 단위 | E3: 수량 | F3: 비고
B4: 절취총량 | D4: m³ | E4: =C24 -> 19222
A5: 1 | B5: 토사터파기 | D5: m³ | E5: =C25 -> 1922 | F5: 0.1
A6: 2 | B6: 풍화암굴착 | D6: m³ | E6: =C26 -> 1922 | F6: 0.1
A7: 3 | B7: 연암깨기 | D7: m³ | E7: =C27 -> 2307 | F7: 0.3
A8: 4 | B8: 연암발파 | C8: 미진동공법 | D8: m³ | E8: =C28 -> 577
A9: 5 | B9: 연암발파 | C9: 정밀진동제어 | D9: m³ | E9: =C29 -> 577
A10: 6 | B10: 연암발파 | C10: 진동제어소규모 | D10: m³ | E10: =C30 -> 865
A11: 7 | B11: 연암발파 | C11: 진동제어중규모 | D11: m³ | E11: =C31 -> 865
A12: 8 | B12: 연암발파 | C12: 일반발파 | D12: m³ | E12: =C32 -> 577
A13: 9 | B13: 경암깨기 | D13: m³ | E13: =C33 -> 3844 | F13: 0.5
A14: 10 | B14: 경암발파 | C14: 미진동공법 | D14: m³ | E14: =C34 -> 961
A15: 11 | B15: 경암발파 | C15: 정밀진동제어 | D15: m³ | E15: =C35 -> 961
A16: 12 | B16: 경암발파 | C16: 진동제어소규모 | D16: m³ | E16: =C36 -> 1442
A17: 13 | B17: 경암발파 | C17: 진동제어중규모 | D17: m³ | E17: =C37 -> 1442
A18: 14 | B18: 경암발파 | C18: 일반발파 | D18: m³ | E18: =C38 -> 961
B19: 면고르기총량 | D19: m² | E19: =INT(E4*H19) -> 1011 | H19: 0.052621775
A20: 15 | B20: 면고르기 | C20: 풍화암 | D20: m² | E20: =ROUND($E$19*F20,0) -> 202 | F20: =F5+F6 -> 0.2
A21: 16 | B21: 면고르기 | C21: 연암 | D21: m² | E21: =ROUND($E$19*F21,0) -> 303 | F21: 0.3
A22: 17 | B22: 면고르기 | C22: 경암 | D22: m² | E22: =INT($E$19*F22) -> 505 | F22: 0.5
A24: * 터파기 총량 : | C24: 19222 | D24: ( M³)
A25: 토사 | C25: =ROUND($C$24*E25,0) -> 1922 | D25: ( M³) | E25: 0.1
A26: 풍화암 | C26: =ROUND($C$24*E26,0) -> 1922 | D26: ( M³) | E26: 0.1
A27: 연암 | B27: 깨기 | C27: =ROUND($C$24*$E$27*F27,0) -> 2307 | D27: ( M³) | E27: 0.3 | F27: 0.4
A28: 연암 | B28: 미진동공법 | C28: =ROUND($C$24*$E$27*F28,0) -> 577 | D28: ( M³) | F28: 0.1
A29: 연암 | B29: 정밀진동제어 | C29: =ROUND($C$24*$E$27*F29,0) -> 577 | D29: ( M³) | F29: 0.1
A30: 연암 | B30: 진동제어소규모 | C30: =ROUND($C$24*$E$27*F30,0) -> 865 | D30: ( M³) | F30: 0.15
A31: 연암 | B31: 진동제어중규모 | C31: =ROUND($C$24*$E$27*F31,0) -> 865 | D31: ( M³) | F31: 0.15
A32: 연암 | B32: 일반발파 | C32: =ROUND($C$24*$E$27*F32,0) -> 577 | D32: ( M³) | F32: 0.1
A33: 경암 | B33: 깨기 | C33: =ROUND($C$24*$E$33*F33,0) -> 3844 | D33: ( M³) | E33: 0.5 | F33: 0.4
A34: 경암 | B34: 미진동공법 | C34: =ROUND($C$24*$E$33*F34,0) -> 961 | D34: ( M³) | F34: 0.1
A35: 경암 | B35: 정밀진동제어 | C35: =ROUND($C$24*$E$33*F35,0) -> 961 | D35: ( M³) | F35: 0.1
A36: 경암 | B36: 진동제어소규모 | C36: =ROUND($C$24*$E$33*F36,0) -> 1442 | D36: ( M³) | F36: 0.15
A37: 경암 | B37: 진동제어중규모 | C37: =ROUND($C$24*$E$33*F37,0) -> 1442 | D37: ( M³) | F37: 0.15
A38: 경암 | B38: 일반발파 | C38: =ROUND($C$24*$E$33*F38,0) -> 961 | D38: ( M³) | F38: 0.1

Sheet 품셈
A1: 공 종 | D1: 규 격 | E1: 단위 | F1: 수 량 | G1: 재 료 비 | I1: 노 무 비 | K1: 경 비 | M1: 합 계 | N1: 비 고
G2: 단 가 | H2: 금 액 | I2: 단 가 | J2: 금 액 | K2: 단 가 | L2: 금 액
A4: 품셈- | B4: 1 | C4: 파일 직항타(L=15m이하) | D4: D400, 단일본 | E4: 본 | N4: 12
C5: 비계공 | E5: 인 | F5: 0.1553 | H5: 0 | I5: 123972 | J5: 19252.8 | L5: 0 | M5: 19252.8
C6: 보통인부 | E6: 인 | F6: 0.17732 | H6: 0 | I6: 74008 | J6: 13123 | L6: 0 | M6: 13123
C7: 무한궤도 크레인 | D7: 35TON | E7: HR | F7: 0.8 | G7: 19971 | H7: 15976.8 | I7: 18876 | J7: 15100.8 | K7: 45823 | L7: 36658.4 | M7: 67736
C8: 유압파일해머 | D8: 5TON | E8: HR | F8: 0.8 | G8: 33841 | H8: 27072.8 | J8: 0 | K8: 33792 | L8: 27033.6 | M8: 54106.4
C9: LEADER | D9: 고정형, 24M | E9: HR | F9: 0.8 | H9: 0 | J9: 0 | K9: 3496 | L9: 2796.8 | M9: 2796.8
C10: 지게차 | D10: 5TON | E10: HR | F10: 0.24 | G10: 11603 | H10: 2784.7 | I10: 18876 | J10: 4530.2 | K10: 6262 | L10: 1502.8 | M10: 8817.7
C11: 잡재료비 | D11: 직접노무비의 17% | E11: 식 | F11: 1 | G11: 8841 | H11: 8841 | J11: 0 | L11: 0 | M11: 8841
D12: <소 계> | H12: 54675 | J12: 52006 | L12: 67991 | M12: 174672
A14: 품셈- | B14: =B4+1 -> 2 | C14: PHC PILE 두부정리 | D14: D400 | E14: 본 | N14: 13
C15: 그라인더날 | D15: 4" | E15: EA | F15: 0.004 | G15: 12000 | H15: 48 | J15: 0 | L15: 0 | M15: 48 | N15: 물자 P1309
C16: 파일캡 | D16: P.V.C | E16: EA | F16: 1 | G16: 1000 | H16: 1000 | J16: 0 | L16: 0 | M16: 1000 | N16: 견적가격
C17: 철선 | D17: #8 | E17: KG | F17: 0.007 | G17: 1270 | H17: 8.8 | J17: 0 | L17: 0 | M17: 8.8 | N17: 물정(I) P95
C18: 할석공 | E18: 인 | F18: 0.02402 | H18: 0 | I18: 95502 | J18: 2293.9 | L18: 0 | M18: 2293.9
C19: 보통인부 | E19: 인 | F19: 0.01773 | H19: 0 | I19: 74008 | J19: 1312.1 | L19: 0 | M19: 1312.1
C20: 유압식 백호우 | D20: 0.2M3 | E20: HR | F20: 0.01 | G20: 8990 | H20: 89.9 | I20: 18876 | J20: 188.7 | K20: 10597 | L20: 105.9 | M20: 384.5
D21: <소 계> | H21: 1146 | J21: 3794 | L21: 105 | M21: 5045
A23: 품셈- | B23: =B14+1 -> 3 | C23: PHC 파일 하차비 | D23: 현장내 | E23: TON | N23: 14
C24: 하차비 | D24: 현장내 | E24: TON | F24: 1 | H24: 0 | J24: 0 | K24: 4470 | L24: 4470 | M24: 4470
D25: <소 계> | H25: 0 | J25: 0 | L25: 4470 | M25: 4470
A27: 품셈- | B27: =B23+1 -> 4 | C27: 말뚝 재하시험 | D27: 동적(D400) | E27: 회 | N27: 15
C28: 중급기술자 | E28: 인 | F28: 0.46 | H28: 0 | I28: 174250 | J28: 80155 | L28: 0 | M28: 80155
C29: 초급기술자 | E29: 인 | F29: 0.46 | H29: 0 | I29: 131853 | J29: 60652.3 | L29: 0 | M29: 60652.3
C30: 보통인부 | E30: 인 | F30: 0.40783 | H30: 0 | I30: 74008 | J30: 30182.6 | L30: 0 | M30: 30182.6
C31: 무한궤도 크레인 | D31: 35TON | E31: HR | F31: 1 | G31: 19971 | H31: 19971 | I31: 18876 | J31: 18876 | K31: 45823 | L31: 45823 | M31: 84670
C32: 유압파일해머 | D32: 5TON | E32: HR | F32: 1 | G32: 33841 | H32: 33841 | J32: 0 | K32: 33792 | L32: 33792 | M32: 67633
C33: LEADER | D33: 고정형, 24M | E33: HR | F33: 1 | H33: 0 | J33: 0 | K33: 3496 | L33: 3496 | M33: 3496
C34: 잡재료비 | D34: 직접노무비의 2% | E34: 식 | F34: 1 | G34: 3797 | H34: 3797 | J34: 0 | L34: 0 | M34: 3797
D35: <소 계> | H35: 57609 | J35: 189865 | L35: 83111 | M35: 330585
A37: 품셈- | B37: =B27+1 -> 5 | C37: 자분탐상시험 | D37: D400 | E37: EA | N37: 16
C38: 습식자분 | E38: L | F38: 0.13125 | G38: 7777.7778 | H38: 1020.8 | J38: 0 | L38: 0 | M38: 1020.8 | N38: 물자 P1288
C39: 세척제 | E39: g | F39: 166.23411 | G39: 50 | H39: 8311.7 | J39: 0 | L39: 0 | M39: 8311.7 | N39: 물자 P1288
C40: 청테이프 | D40: 2" | E40: R/L | F40: 0.18375 | G40: 1000 | H40: 183.7 | J40: 0 | L40: 0 | M40: 183.7 | N40: 물자 P1370
C41: 소창직 | E41: M | F41: 0.9533 | G41: 1580 | H41: 1506.2 | J41: 0 | L41: 0 | M41: 1506.2 | N41: 물자 P1362
C42: 건전지 | D42: CM | E42: EA | F42: 0.21967 | G42: 280 | H42: 61.5 | J42: 0 | L42: 0 | M42: 61.5 | N42: 물자 P1192
C43: 마킹펜 | D43: 메탈용 | E43: EA | F43: 0.15888 | G43: 15000 | H43: 2383.2 | J43: 0 | L43: 0 | M43: 2383.2 | N43: 물자 P1288
C44: 기사 | D44: 중급기술자 | E44: 인 | F44: 0.13263 | H44: 0 | I44: 174250 | J44: 23110.7 | L44: 0 | M44: 23110.7
C45: 비파괴시험공 | E45: 인 | F45: 0.54361 | H45: 0 | I45: 165624 | J45: 90034.8 | L45: 0 | M45: 90034.8
...

Sheet 부표
A1: 공 종 | D1: 규 격 | E1: 단위 | F1: 수 량 | G1: 재 료 비 | I1: 노 무 비 | K1: 경 비 | M1: 합 계 | N1: 비 고
G2: 단 가 | H2: 금 액 | I2: 단 가 | J2: 금 액 | K2: 단 가 | L2: 금 액
A3: 부표- | B3: 1 | C3: PILE DRIVER | D3: DH-558,180PS | E3: HR
C4: 경유(저유황) | E4: L | F4: 22.67 | G4: 1641.8 | H4: 37219.6 | J4: 0 | L4: 0 | M4: 37219.6
C5: 잡 유 | D5: (주연료의 20%) | E5: 식 | F5: 1 | G5: 7443.92 | H5: 7443.9 | J5: 0 | L5: 0 | M5: 7443.9
C6: 중기운전기사 | E6: 인 | F6: 0.179 | H6: 0 | I6: 105406 | J6: 18867.6 | L6: 0 | M6: 18867.6
C7: 중기운전조수 | E7: 인 | F7: 0.1742 | H7: 0 | I7: 55784 | J7: 9717.5 | L7: 0 | M7: 9717.5
C8: 중 기 조 장 | E8: 인 | F8: 0.032 | H8: 0 | I8: 95501 | J8: 3056 | L8: 0 | M8: 3056
C9: 기계경비 | E9: 식 | F9: 1 | H9: 0 | J9: 0 | K9: 252425 | L9: 252425 | M9: 252425
C10: 계 | H10: 44663 | J10: 31641 | L10: 252425 | M10: 328729

Sheet 별표총괄표
A1: 공 종 명 | C1: 규 격 | D1: 단위 | E1: 수 량 | F1: 비 고
A3: ='별표-1'!A3 -> 12 | B3: 파일 직항타(L=15M이하) | C3: D 400, 단일본 | D3: 본
B4: 비계공 | D4: 인 | E4: ='별표-1'!AA21 -> 0.1553
B5: 보통인부 | D5: 인 | E5: ='별표-1'!AA22 -> 0.17732
B6: 무한궤도 크레인 | C6: 35 TON | D6: HR | E6: ='별표-1'!AA18 -> 0.8
B7: 유압파일해머 | C7: 5 TON | D7: HR | E7: =E6 -> 0.8
B8: LEADER | C8: 고정형, 24M | D8: HR | E8: =E7 -> 0.8
B9: 지게차 | C9: 5 TON | D9: HR | E9: =INT(E8*0.3*1000)/1000 -> 0.24
B10: 잡 재료비 | C10: 직접노무비의 17% | D10: 식 | E10: 1
A12: ='별표-1'!A28 -> 13 | B12: PHC PILE 두부정리 | C12: D 400 | D12: 본
B13: 그라인더날 | C13: 4" | D13: EA | E13: ='별표-1'!AA31 -> 0.004
B14: 파일캡 | C14: P.V.C | D14: EA | E14: ='별표-1'!AA32 -> 1
B15: 철선 | C15: # 8 | D15: KG | E15: ='별표-1'!AA33 -> 0.007
B16: 할석공 | D16: 인 | E16: ='별표-1'!AA36 -> 0.02402
B17: 보통인부 | D17: 인 | E17: ='별표-1'!AA37 -> 0.01773
B18: 유압식 백호우 | C18: 0.2 M3 | D18: HR | E18: ='별표-1'!AA40 -> 0.01
A20: ='별표-1'!A43 -> 14 | B20: 파일 하차비 | C20: 현장내 | D20: TON
B21: 하차비 | C21: 현장내 | D21: 원 | E21: ='별표-1'!AA46+'별표-1'!AA47 -> 4470
A23: ='별표-1'!A50 -> 15 | B23: 말뚝 재하시험 | C23: 동적 D400 | D23: 회
B24: 중급기술자 | D24: 인 | E24: ='별표-1'!AA65 -> 0.46
B25: 초급기술자 | D25: 인 | E25: ='별표-1'!AA66 -> 0.46
B26: 보통인부 | D26: 인 | E26: ='별표-1'!AA67 -> 0.40783
B27: 무한궤도 크레인 | C27: 35 TON | D27: HR | E27: ='별표-1'!AA62 -> 1
B28: 유압파일해머 | C28: 5 TON | D28: HR | E28: =E27 -> 1
B29: LEADER | C29: 고정형, 24M | D29: HR | E29: =E28 -> 1
B30: 잡재료비 | C30: 직접노무비의 2% | D30: 식 | E30: 1
A32: ='별표-1'!A73 -> 16 | B32: 자분탐상시험 | C32: D 400 | D32: EA
B33: 습식자분 | D33: L | E33: ='별표-1'!AA80 -> 0.13125
B34: 세 척 제 | D34: G | E34: ='별표-1'!AA81 -> 166.23411
B35: 청테이프 | C35: 2" | D35: R/L | E35: ='별표-1'!AA82 -> 0.18375
B36: 소 창 직 | D36: M | E36: ='별표-1'!AA83 -> 0.9533
B37: 건 전 지 | C37: CM | D37: EA | E37: ='별표-1'!AA84 -> 0.21967
B38: 마 킹 펜 | C38: 메탈용 | D38: EA | E38: ='별표-1'!AA85 -> 0.15888
B39: 기 사 | C39: 중급기술자 | D39: 인 | E39: ='별표-1'!AA88 -> 0.13263
B40: 비파괴시험공 | D40: 인 | E40: ='별표-1'!AA89 -> 0.54361
B41: 플랜트전공 | D41: 인 | E41: ='별표-1'!AA90 -> 0.12382
B42: 특별인부 | D42: 인 | E42: ='별표-1'!AA91 -> 0.32665
A44: ='별표-1'!A94 -> 17 | B44: 자분탐상시험 | C44: D 500 | D44: EA
B45: 습식자분 | D45: L | E45: ='별표-1'!AA101 -> 0.16406
B46: 세 척 제 | D46: g | E46: ='별표-1'!AA102 -> 207.79264
...

Sheet 별표-1
A3: 12 | F3: 파일 직항타(단일본,15m이하) - D400
B5: 가. 항타장비조합 | M5: - 건설표준품셈 2011' P461
C6: 1. 무한궤도크레인 35TON : 1대 | K6: (Tc )
C7: 2. 유압파일해머 5TON : 1대 | K7: (Tc )
C8: 3. LEADER (L=24M, 고정형) : 1대 | K8: (Tc )
C9: 4. 지게차 (5TON) : 1대 | K9: (0.3 Tc )
B11: 나. 1본 항타작업능력
C12: Tc | D12: = | E12: α × Ta
D13: Tc = PILE 1본당 시공시간 (MIN)
D14: Ta = PILE 규격에 따른 시공시간(MIN/본)
D15: = | E15: =FIXED(AA15,1) -> 48.0 | G15: MIN/본 | M15: - 건설표준품셈 2011' P460 | AA15: 48
D16: = | E16: =AA16 -> 0.8 | G16: HR/본 | AA16: =TRUNC(AA15/60,3) -> 0.8
D17: ="α(토질계수) = "&AA17&"" -> α(토질계수) = 1 | M17: - 건설표준품셈 2011' P459 | AA17: 1
C18: Tc | D18: = | E18: =AB18&" × "&FIXED(AC18,1)&" / "&AD18&" = "&AA18&" HR/본" -> 1 × 48.0 / 60 = 0.8 HR/본 | AA18: =TRUNC(AB18*AC18/AD18,5) -> 0.8 | AB18: =AA17 -> 1 | AC18: =AA15 -> 48 | AD18: 60
B20: 다. 구성인원 | M20: - 건설표준품셈 2011' P462
C21: 비 계 공 | E21: : | F21: =AB21&" 인 / "&AC21&" HR/일 × "&AD21&" × "&AE21&" = "&FIXED(AA21,5)&" 인/본" -> 2 인 / 8 HR/일 × 0.8 × 0.7765 = 0.15530 인/본 | AA21: =TRUNC(AB21/AC21*AD21*AE21,5) -> 0.1553 | AB21: 2 | AC21: 8 | AD21: =AA18 -> 0.8 | AE21: 0.7765
C22: 보통 인부 | E22: : | F22: =AB22&" 인 / "&AC22&" HR/일 × "&AD22&" × "&AE22&" = "&AA22&" 인/본" -> 2 인 / 8 HR/일 × 0.8 × 0.8866 = 0.17732 인/본 | AA22: =TRUNC(AB22/AC22*AD22*AE22,5) -> 0.17732 | AB22: 2 | AC22: 8 | AD22: =AD21 -> 0.8 | AE22: 0.8866
B24: 라. 잡 재료비 | M24: - 건설표준품셈 2011' P462
C25: ="직접노무비의 "&AA25&" %" -> 직접노무비의 17 % | AA25: 17
A28: 13 | F28: PHC PILE 두부정리 - D400
B30: 가. 재 료 비
C31: ="그라인더날 = "&AA31&" EA/본" -> 그라인더날 = 0.004 EA/본 | AA31: 0.004
C32: ="파 일 캡 = "&FIXED(AA32,3)&" EA/본" -> 파 일 캡 = 1.000 EA/본 | AA32: 1
C33: ="철 선 = "&AA33&" KG/본" -> 철 선 = 0.007 KG/본 | AA33: 0.007
B35: 나. 노 무 비
C36: 할 석 공 | E36: : | F36: =AB36&" 인/본 × "&AC36&" = "&FIXED(AA36,5)&" 인/본" -> 0.032 인/본 × 0.7507 = 0.02402 인/본 | AA36: =TRUNC(AB36*AC36,5) -> 0.02402 | AB36: 0.032 | AC36: 0.7507
C37: 보통 인부 | E37: : | F37: =FIXED(AB37,3)&" 인/본 × "&AC37&" = "&FIXED(AA37,5)&" 인/본" -> 0.020 인/본 × 0.8866 = 0.01773 인/본 | AA37: =TRUNC(AB37*AC37,5) -> 0.01773 | AB37: 0.02 | AC37: 0.8866
B39: 다. 경 비
C40: ="굴 삭 기 (0.2M2) = "&AA40&" HR/본" -> 굴 삭 기 (0.2M2) = 0.01 HR/본 | AA40: 0.01
A43: 14 | F43: 파일 하차비 | M43: (수송 및 부대작업요율 적용, '07.08.01 한국전력공사)
B45: 가. 파일 하차비
C46: - 하 차 비 : | L46: =+AA46 -> 3439 | O46: 원/TON | AA46: 3439
C47: - 하차비 할증(30%, 장척물 6.0M이상) : | L47: =+AA47 -> 1031 | O47: 원/TON | AA47: =TRUNC(AA46*30%,0) -> 1031
A50: =A43+1 -> 15 | F50: 말뚝 재하시험(동적 D400)
B52: 가. 항타장비조합 | M52: - 건설표준품셈 2011' P795
C53: 1. 무한궤도크레인 35TON : 1대 | K53: (Tc )
C54: 2. 유압파일해머 5TON : 1대 | K54: (Tc )
C55: 3. LEADER (L=24M, 고정형) : 1대 | K55: (Tc )
B57: 나. 1본 항타작업능력
C58: Tt | D58: = | E58: Tm + Ts + Ta
...

Sheet 별표-7
A1: 산 출 근 거 | B1: 재 료 비 | C1: 노 무 비 | D1: 경 비 | E1: 합 계 | F1: 비 고
A3: 별표 - 32 암깨기 | 연암|M3 | B3: 6261 | C3: 7813 | D3: 7761 | E3: 21835
A6: 1. 장비조합 : 대형브레이커0.7㎥ + 백호0.7㎥적용
A8: 2. 작업능력
A10: Q = (2.6+4.6)/2=3.60 ㎥/hr 적용
A12: 가) 대형브레이커
A14: 재료비= 0/3.6=0.0 원/m³ | F14: MA("E012")
A16: 노무비= 0/3.6=0.0 원/m³ | F16: LA("E012")
A18: 경 비= 8,982/3.6=2,495.0 원/m³ | D18: 2495 | E18: 2495 | F18: EQ("E012")
A20: 나) 백호 | D20: 2495 | E20: 2495
A21: 재료비= 21,029/3.6=5,841.3 원/m³
A23: 노무비= 18,876/3.6=5,243.3 원/m³ | B23: 5841.3 | E23: 5841.3 | F23: MA("E007")
A25: 경 비= 18,961/3.6=5,266.9 원/m³ | C25: 5243.3 | E25: 5243.3 | F25: LA("E007")
A27: 다) 치즐 | D27: 5266.9 | E27: 5266.9 | F27: EQ("E007")
A28: 치즐 소모량 : 연암기준
A29: P=0.006 본/hr | B29: 5841.3 | C29: 5243.3 | D29: 5266.9 | E29: 16351.5
A31: 치 즐 =252,000*0.006/3.6=420.0 원/m³
A33: 라) 치즐
A34: 보통인부 =1 인 *74,008/8/3.6*0.8866=2,278.3 원/m³
B35: 420 | E35: 420 | F35: TOT("M003")
B37: 420 | E37: 420
C40: 2569.7 | E40: 2569.7 | F40: TOT("L084")
C42: 2569.7 | E42: 2569.7
B44: 6261.3 | C44: 7813 | D44: 7761.9 | E44: 21836.2
B46: 6261 | C46: 7813 | D46: 7761 | E46: 21835
A48: 별표 - 33 암깨기 | 경암|M3 | B48: 7941 | C48: 7813 | D48: 7761 | E48: 23515
A51: 1. 장비조합 : 대형브레이커0.7㎥ + 백호0.7㎥적용
A53: 2. 작업능력
A55: Q = (2.6+4.6)/2=3.60 ㎥/hr 적용
A57: 가) 대형브레이커
A59: 재료비= 0/3.6=0.0 원/m³ | F59: MA("E012")
A61: 노무비= 0/3.6=0.0 원/m³ | F61: LA("E012")
A63: 경 비= 8,982/3.6=2,495.0 원/m³ | D63: 2495 | E63: 2495 | F63: EQ("E012")
A65: 나) 백호 | D65: 2495 | E65: 2495
A66: 재료비= 21,029/3.6=5,841.3 원/m³
A68: 노무비= 18,876/3.6=5,243.3 원/m³ | B68: 5841.3 | E68: 5841.3 | F68: MA("E007")
A70: 경 비= 18,961/3.6=5,266.9 원/m³ | C70: 5243.3 | E70: 5243.3 | F70: LA("E007")
A72: 다) 치즐 | D72: 5266.9 | E72: 5266.9 | F72: EQ("E007")
A73: 치즐 소모량 : 경암암기준
A74: P=0.03 본/hr | B74: 5841.3 | C74: 5243.3 | D74: 5266.9 | E74: 16351.5
...

Sheet 별표-9
A2: 별표 - 41 철근콘크리트깨기 30CM 이상
A5: 가. 조합 기계
A7: 1) 대형브레이커 : 1대
A9: 2) 유압식 백호(0.7m3) : 1대
A12: 나. 작업 능력 (철근구조물, 평균두께 30cm이상)
A14: Q = (1.4 + 2.7) / 2 = 2.0500 M3/HR
A16: 1 / Q = 1 / 2.05 = 0.4878 HR/M3
A19: 다. 작업인원
A21: 1) 용 접 공 = 0.02 인 * 0.8206 = 0.0164 인/M3
A23: 2) 보통인부 = 0.08 인 * 0.8866 = 0.0709 인/M3
A26: 별표 - 42 철근콘크리트깨기 30CM 미만
A29: 가. 조합 기계
... A275: 1 / Q = 0.0051 HR/M3

Sheet 현가화단가산출내역
A1: =#REF! -> #REF! | E1: : 현가화 단가산출 내역
A2: 공 종 명 | B2: 규 격 | C2: 단위 | D2: 선행호기 | G2: 단 가 | J2: 비 고
D3: 재 료 비 | E3: 노 무 비 | F3: 경 비 | G3: 재 료 비 | H3: 노 무 비 | I3: 경 비
A4: 태안화력 #9,10 냉각수 취수펌프구조물 축조공사 | G4: 0.9992 | H4: 1 | I4: 1 | J4: 11년10월기준
A6: ='내역서(태안화력)'!A7 -> 1. 사급재료비
A7: ='내역서(태안화력)'!A8 -> #REF! | B7: ='내역서(태안화력)'!B8 -> #REF! | C7: ='내역서(태안화력)'!D8 -> #REF! | D7: ='내역서(태안화력)'!E8 -> #REF! | G7: =INT(D7*G$4) -> #REF!
A8: ='내역서(태안화력)'!A9 -> #REF! | B8: ='내역서(태안화력)'!B9 -> #REF! | C8: ='내역서(태안화력)'!D9 -> #REF! | D8: ='내역서(태안화력)'!E9 -> #REF! | G8: =INT(D8*G$4) -> #REF!
A9: ='내역서(태안화력)'!A10 -> #REF! | B9: ='내역서(태안화력)'!B10 -> #REF! | C9: ='내역서(태안화력)'!D10 -> #REF! | D9: ='내역서(태안화력)'!E10 -> #REF! | G9: =INT(D9*G$4) -> #REF!
A10: ='내역서(태안화력)'!A11 -> #REF! | B10: ='내역서(태안화력)'!B11 -> #REF! | C10: ='내역서(태안화력)'!D11 -> #REF! | D10: ='내역서(태안화력)'!E11 -> #REF! | G10: =INT(D10*G$4) -> #REF!
A11: ='내역서(태안화력)'!A12 -> #REF! | B11: ='내역서(태안화력)'!B12 -> #REF! | C11: ='내역서(태안화력)'!D12 -> #REF! | D11: ='내역서(태안화력)'!E12 -> #REF! | G11: =INT(D11*G$4) -> #REF!
A12: ='내역서(태안화력)'!A13 -> #REF! | B12: ='내역서(태안화력)'!B13 -> #REF! | C12: ='내역서(태안화력)'!D13 -> #REF! | D12: ='내역서(태안화력)'!E13 -> #REF! | G12: =INT(D12*G$4) -> #REF!
A13: ='내역서(태안화력)'!A14 -> #REF! | B13: ='내역서(태안화력)'!B14 -> #REF! | C13: ='내역서(태안화력)'!D14 -> #REF! | D13: ='내역서(태안화력)'!E14 -> #REF! | G13: =INT(D13*G$4) -> #REF!
A14: ='내역서(태안화력)'!A15 -> #REF! | B14: ='내역서(태안화력)'!B15 -> #REF! | C14: ='내역서(태안화력)'!D15 -> #REF! | D14: ='내역서(태안화력)'!E15 -> #REF! | G14: =INT(D14*G$4) -> #REF!
A15: ='내역서(태안화력)'!A16 -> #REF! | B15: ='내역서(태안화력)'!B16 -> #REF! | C15: ='내역서(태안화력)'!D16 -> #REF! | D15: ='내역서(태안화력)'!E16 -> #REF! | G15: =INT(D15*G$4) -> #REF!
A16: ='내역서(태안화력)'!A17 -> 소 계 | B16: ='내역서(태안화력)'!B17 -> 0 | C16: ='내역서(태안화력)'!D17 -> 0 | D16: ='내역서(태안화력)'!E17 -> 0 | E16: ='내역서(태안화력)'!G17 -> 0 | F16: ='내역서(태안화력)'!I17 -> 0 | G16: =INT(D16*G$4) -> 0 | H16: =INT(E16*H$4) -> 0 | I16: =INT(F16*I$4) -> 0
A17: ='내역서(태안화력)'!A18 -> 0 | B17: ='내역서(태안화력)'!B18 -> 0 | C17: ='내역서(태안화력)'!D18 -> 0 | D17: ='내역서(태안화력)'!E18 -> 0 | E17: ='내역서(태안화력)'!G18 -> 0 | F17: ='내역서(태안화력)'!I18 -> 0 | G17: =INT(D17*G$4) -> 0 | H17: =INT(E17*H$4) -> 0 | I17: =INT(F17*I$4) -> 0
A18: ='내역서(태안화력)'!A19 -> 사급재료비 계 | B18: ='내역서(태안화력)'!B19 -> 0 | C18: ='내역서(태안화력)'!D19 -> 0 | D18: ='내역서(태안화력)'!E19 -> 0 | E18: ='내역서(태안화력)'!G19 -> 0 | F18: ='내역서(태안화력)'!I19 -> 0 | G18: =INT(D18*G$4) -> 0 | H18: =INT(E18*H$4) -> 0 | I18: =INT(F18*I$4) -> 0
A19: ='내역서(태안화력)'!A20 -> 0 | B19: ='내역서(태안화력)'!B20 -> 0 | C19: ='내역서(태안화력)'!D20 -> 0 | D19: ='내역서(태안화력)'!E20 -> 0 | E19: ='내역서(태안화력)'!G20 -> 0 | F19: ='내역서(태안화력)'!I20 -> 0 | G19: =INT(D19*G$4) -> 0 | H19: =INT(E19*H$4) -> 0 | I19: =INT(F19*I$4) -> 0
A20: ='내역서(태안화력)'!A21 -> 2. 회사분경비 | B20: ='내역서(태안화력)'!B21 -> 0 | C20: ='내역서(태안화력)'!D21 -> 0 | D20: ='내역서(태안화력)'!E21 -> 0 | E20: ='내역서(태안화력)'!G21 -> 0 | F20: ='내역서(태안화력)'!I21 -> 0 | G20: =INT(D20*G$4) -> 0 | H20: =INT(E20*H$4) -> 0 | I20: =INT(F20*I$4) -> 0
A21: ='내역서(태안화력)'!A22 -> 1)제세공과금 | B21: ='내역서(태안화력)'!B22 -> 0 | C21: ='내역서(태안화력)'!D22 -> (사급재료비 + 도급공사비) * 4.0% | D21: ='내역서(태안화력)'!E22 -> 0 | E21: ='내역서(태안화력)'!G22 -> 0 | F21: ='내역서(태안화력)'!I22 -> 0 | G21: =INT(D21*G$4) -> 0 | H21: =INT(E21*H$4) -> 0 | I21: =INT(F21*I$4) -> 0
A22: ='내역서(태안화력)'!A23 -> 2)조달수수료 | B22: ='내역서(태안화력)'!B23 -> 0 | C22: ='내역서(태안화력)'!D23 -> (사급재료비) * 0.5% | D22: ='내역서(태안화력)'!E23 -> 0 | E22: ='내역서(태안화력)'!G23 -> 0 | F22: ='내역서(태안화력)'!I23 -> 0 | G22: =INT(D22*G$4) -> 0 | H22: =INT(E22*H$4) -> 0 | I22: =INT(F22*I$4) -> 0
A23: ='내역서(태안화력)'!A24 -> 0 | B23: ='내역서(태안화력)'!B24 -> 0 | C23: ='내역서(태안화력)'!D24 -> 0 | D23: ='내역서(태안화력)'!E24 -> 0 | E23: ='내역서(태안화력)'!G24 -> 0 | F23: ='내역서(태안화력)'!I24 -> 0 | G23: =INT(D23*G$4) -> 0 | H23: =INT(E23*H$4) -> 0 | I23: =INT(F23*I$4) -> 0
A24: ='내역서(태안화력)'!A25 -> 회사분경비 계 | B24: ='내역서(태안화력)'!B25 -> 0 | C24: ='내역서(태안화력)'!D25 -> 0 | D24: ='내역서(태안화력)'!E25 -> 0 | E24: ='내역서(태안화력)'!G25 -> 0 | F24: ='내역서(태안화력)'!I25 -> 0 | G24: =INT(D24*G$4) -> 0 | H24: =INT(E24*H$4) -> 0 | I24: =INT(F24*I$4) -> 0
A25: ='내역서(태안화력)'!A26 -> 회사취급비 계 | B25: ='내역서(태안화력)'!B26 -> 0 | C25: ='내역서(태안화력)'!D26 -> 0 | D25: ='내역서(태안화력)'!E26 -> 0 | E25: ='내역서(태안화력)'!G26 -> 0 | F25: ='내역서(태안화력)'!I26 -> 0 | G25: =INT(D25*G$4) -> 0 | H25: =INT(E25*H$4) -> 0 | I25: =INT(F25*I$4) -> 0
A26: ='내역서(태안화력)'!A27 -> 0 | B26: ='내역서(태안화력)'!B27 -> 0 | C26: ='내역서(태안화력)'!D27 -> 0 | D26: ='내역서(태안화력)'!E27 -> 0 | E26: ='내역서(태안화력)'!G27 -> 0 | F26: ='내역서(태안화력)'!I27 -> 0 | G26: =INT(D26*G$4) -> 0 | H26: =INT(E26*H$4) -> 0 | I26: =INT(F26*I$4) -> 0
A27: ='내역서(태안화력)'!A28 -> 0 | B27: ='내역서(태안화력)'!B28 -> 0 | C27: ='내역서(태안화력)'!D28 -> 0 | D27: ='내역서(태안화력)'!E28 -> 0 | E27: ='내역서(태안화력)'!G28 -> 0 | F27: ='내역서(태안화력)'!I28 -> 0 | G27: =INT(D27*G$4) -> 0 | H27: =INT(E27*H$4) -> 0 | I27: =INT(F27*I$4) -> 0
A28: ='내역서(태안화력)'!A29 -> B. 도급공사비 | B28: ='내역서(태안화력)'!B29 -> 0 | C28: ='내역서(태안화력)'!D29 -> 0 | D28: ='내역서(태안화력)'!E29 -> 0 | E28: ='내역서(태안화력)'!G29 -> 0 | F28: ='내역서(태안화력)'!I29 -> 0 | G28: =INT(D28*G$4) -> 0 | H28: =INT(E28*H$4) -> 0 | I28: =INT(F28*I$4) -> 0
A30: ='내역서(태안화력)'!A31 -> 지입재료비
A31: ='내역서(태안화력)'!A32 -> #REF! | B31: ='내역서(태안화력)'!B32 -> #REF! | C31: ='내역서(태안화력)'!D32 -> #REF! | D31: ='내역서(태안화력)'!E32 -> #REF! | G31: =INT(D31*G$4) -> #REF!
A32: ='내역서(태안화력)'!A33 -> #REF! | B32: ='내역서(태안화력)'!B33 -> #REF! | C32: ='내역서(태안화력)'!D33 -> #REF! | D32: ='내역서(태안화력)'!E33 -> #REF! | G32: =INT(D32*G$4) -> #REF!
A33: ='내역서(태안화력)'!A34 -> #REF! | B33: ='내역서(태안화력)'!B34 -> #REF! | C33: ='내역서(태안화력)'!D34 -> #REF! | D33: ='내역서(태안화력)'!E34 -> #REF! | G33: =INT(D33*G$4) -> #REF!
A34: ='내역서(태안화력)'!A35 -> #REF! | B34: ='내역서(태안화력)'!B35 -> #REF! | C34: ='내역서(태안화력)'!D35 -> #REF! | D34: ='내역서(태안화력)'!E35 -> #REF! | G34: =INT(D34*G$4) -> #REF!
A35: ='내역서(태안화력)'!A36 -> #REF! | B35: ='내역서(태안화력)'!B36 -> #REF! | C35: ='내역서(태안화력)'!D36 -> #REF! | D35: ='내역서(태안화력)'!E36 -> #REF! | G35: =INT(D35*G$4) -> #REF!
A36: ='내역서(태안화력)'!A37 -> #REF! | B36: ='내역서(태안화력)'!B37 -> #REF! | C36: ='내역서(태안화력)'!D37 -> #REF! | D36: ='내역서(태안화력)'!E37 -> #REF! | G36: =INT(D36*G$4) -> #REF!
A37: ='내역서(태안화력)'!A38 -> #REF! | B37: ='내역서(태안화력)'!B38 -> #REF! | C37: ='내역서(태안화력)'!D38 -> #REF! | D37: ='내역서(태안화력)'!E38 -> #REF! | G37: =INT(D37*G$4) -> #REF!
A38: ='내역서(태안화력)'!A39 -> #REF! | B38: ='내역서(태안화력)'!B39 -> #REF! | C38: ='내역서(태안화력)'!D39 -> #REF! | D38: ='내역서(태안화력)'!E39 -> #REF! | G38: =INT(D38*G$4) -> #REF!
A39: ='내역서(태안화력)'!A40 -> #REF! | B39: ='내역서(태안화력)'!B40 -> #REF! | C39: ='내역서(태안화력)'!D40 -> #REF! | D39: ='내역서(태안화력)'!E40 -> #REF! | G39: =INT(D39*G$4) -> #REF!
A40: ='내역서(태안화력)'!A41 -> #REF! | B40: ='내역서(태안화력)'!B41 -> #REF! | C40: ='내역서(태안화력)'!D41 -> #REF! | D40: ='내역서(태안화력)'!E41 -> #REF! | G40: =INT(D40*G$4) -> #REF!
A41: ='내역서(태안화력)'!A42 -> #REF! | B41: ='내역서(태안화력)'!B42 -> #REF! | C41: ='내역서(태안화력)'!D42 -> #REF! | D41: ='내역서(태안화력)'!E42 -> #REF! | G41: =INT(D41*G$4) -> #REF!
A42: ='내역서(태안화력)'!A43 -> #REF! | B42: ='내역서(태안화력)'!B43 -> #REF! | C42: ='내역서(태안화력)'!D43 -> #REF! | D42: ='내역서(태안화력)'!E43 -> #REF! | G42: =INT(D42*G$4) -> #REF!
...

Sheet 자재단가(2)
A1: 사급 자재단가
A2: No | B2: 품 명 | C2: 규 격 | D2: 단위 | E2: 물가자료(11.10) | G2: 물가정보(11.10) | I2: 조달청(11.10) | K2: 기타 | L2: 적용단가 | M2: 비 고 | O2: 물가자료
E3: 단 가 | F3: page | G3: 단 가 | H3: page | I3: 단 가 | J3: page
A4: 1 | B4: 철근 | C4: HD10 | D4: TON | E4: 850000 | F4: 42 | H4: 62 | L4: =MIN(E4,G4,I4) -> 850000 | M4: =IF(L4=E4,"물자 P"&F4,IF(L4=G4,"물정(I) P"&H4,IF(L4=I4,"조달청 P"&J4," "))) -> 물자 P42 | P4: 물자-전국, 현장도착도, 50TON이상, 물정-서울, 현장도착도, 25TON이상
A5: =A4+1 -> 2 | B5: 철근 | C5: HD13 | D5: TON | E5: 840000 | F5: 42 | H5: 62 | L5: =MIN(E5,G5,I5) -> 840000 | M5: =IF(L5=E5,"물자 P"&F5,IF(L5=G5,"물정(I) P"&H5,IF(L5=I5,"조달청 P"&J5," "))) -> 물자 P42 | P5: 물자-전국, 현장도착도, 50TON이상, 물정-서울, 현장도착도, 25TON이상
A6: =A5+1 -> 3 | B6: 철근 | C6: HD16 | D6: TON | E6: 835000 | F6: 42 | H6: 62 | L6: =MIN(E6,G6,I6) -> 835000 | M6: =IF(L6=E6,"물자 P"&F6,IF(L6=G6,"물정(I) P"&H6,IF(L6=I6,"조달청 P"&J6," "))) -> 물자 P42 | O6: 시내도착도 | P6: 물자-전국, 현장도착도, 50TON이상, 물정-서울, 현장도착도, 25TON이상
A7: =A6+1 -> 4 | B7: 철근 | C7: HD19 | D7: TON | E7: =E6 -> 835000 | F7: 42 | H7: 62 | L7: =MIN(E7,G7,I7) -> 835000 | M7: =IF(L7=E7,"물자 P"&F7,IF(L7=G7,"물정(I) P"&H7,IF(L7=I7,"조달청 P"&J7," "))) -> 물자 P42 | P7: 물자-전국, 현장도착도, 50TON이상, 물정-서울, 현장도착도, 25TON이상
A8: =A7+1 -> 5 | B8: 철근 | C8: HD22 | D8: TON | E8: =E7 -> 835000 | F8: 42 | H8: 62 | L8: =MIN(E8,G8,I8) -> 835000 | M8: =IF(L8=E8,"물자 P"&F8,IF(L8=G8,"물정(I) P"&H8,IF(L8=I8,"조달청 P"&J8," "))) -> 물자 P42 | P8: 물자-전국, 현장도착도, 50TON이상, 물정-서울, 현장도착도, 25TON이상
A9: =A8+1 -> 6 | B9: 철근 | C9: HD25 | D9: TON | E9: =E8 -> 835000 | F9: 42 | H9: 62 | L9: =MIN(E9,G9,I9) -> 835000 | M9: =IF(L9=E9,"물자 P"&F9,IF(L9=G9,"물정(I) P"&H9,IF(L9=I9,"조달청 P"&J9," "))) -> 물자 P42 | P9: 물자-전국, 현장도착도, 50TON이상, 물정-서울, 현장도착도, 25TON이상
A10: =A9+1 -> 7 | B10: 철근 | C10: HD29 | D10: TON | E10: =E9 -> 835000 | F10: 42 | H10: 62 | L10: =MIN(E10,G10,I10) -> 835000 | M10: =IF(L10=E10,"물자 P"&F10,IF(L10=G10,"물정(I) P"&H10,IF(L10=I10,"조달청 P"&J10," "))) -> 물자 P42 | P10: 물자-전국, 현장도착도, 50TON이상, 물정-서울, 현장도착도, 25TON이상
A11: =A10+1 -> 8 | B11: 철근 | C11: HD32 | D11: TON | E11: =E10 -> 835000 | F11: 42 | H11: 62 | L11: =MIN(E11,G11,I11) -> 835000 | M11: =IF(L11=E11,"물자 P"&F11,IF(L11=G11,"물정(I) P"&H11,IF(L11=I11,"조달청 P"&J11," "))) -> 물자 P42 | P11: 물자-전국, 현장도착도, 50TON이상, 물정-서울, 현장도착도, 25TON이상
A12: =A11+1 -> 9 | B12: 철근 | C12: HD35 | D12: TON | E12: =E11 -> 835000 | F12: 42 | H12: 63 | L12: =MIN(E12,G12,I12) -> 835000 | M12: =IF(L12=E12,"물자 P"&F12,IF(L12=G12,"물정(I) P"&H12,IF(L12=I12,"조달청 P"&J12," "))) -> 물자 P42 | P12: 물자-전국, 현장도착도, 50TON이상, 물정-서울, 현장도착도, 25TON이상
A13: =A12+1 -> 10 | B13: 레미콘 | C13: 25-15-8 | D13: M3 | I13: =INT(53090/1.1) -> 48263 | L13: =MIN(E13,G13,I13) -> 48263 | M13: =IF(L13=E13,"물자 P"&F13,IF(L13=G13,"물정(I) P"&H13,IF(L13=I13,"조달청"&J13," "))) -> 조달청 | P13: 나라장터 가격정보-대전및충남일부지역-2011년10월16일 나라장터 종합쇼핑몰 시설분류코드 10063085
A14: =A13+1 -> 11 | B14: 레미콘 | C14: 25-18-8 | D14: M3 | I14: =INT(56620/1.1) -> 51472 | L14: =MIN(E14,G14,I14) -> 51472 | M14: =IF(L14=E14,"물자 P"&F14,IF(L14=G14,"물정(I) P"&H14,IF(L14=I14,"조달청"&J14," "))) -> 조달청 | P14: 나라장터 가격정보-충남지역(서부권)-2011년6월13일 나라장터 가격정보 다운로드함
A15: =A14+1 -> 12 | B15: 레미콘 | C15: 25-21-8 | D15: M3 | I15: =INT(58290/1.1) -> 52990 | L15: =MIN(E15,G15,I15) -> 52990 | M15: =IF(L15=E15,"물자 P"&F15,IF(L15=G15,"물정(I) P"&H15,IF(L15=I15,"조달청"&J15," "))) -> 조달청 | P15: 나라장터 가격정보-충남지역(서부권)-2011년6월13일 나라장터 가격정보 다운로드함
A16: =A15+1 -> 13 | B16: 레미콘 | C16: 25-21-12 | D16: M3 | I16: =INT(58900/1.1) -> 53545 | L16: =MIN(E16,G16,I16) -> 53545 | M16: =IF(L16=E16,"물자 P"&F16,IF(L16=G16,"물정(I) P"&H16,IF(L16=I16,"조달청"&J16," "))) -> 조달청 | P16: 나라장터 가격정보-충남지역(서부권)-2011년6월13일 나라장터 가격정보 다운로드함
A17: =A16+1 -> 14 | B17: 레미콘 | C17: 25-24-8 | D17: M3 | I17: =INT(59340/1.1) -> 53945 | L17: =MIN(E17,G17,I17) -> 53945 | M17: =IF(L17=E17,"물자 P"&F17,IF(L17=G17,"물정(I) P"&H17,IF(L17=I17,"조달청"&J17," "))) -> 조달청 | P17: 나라장터 가격정보-대전및충남일부지역-2011년10월16일 나라장터 종합쇼핑몰 시설분류코드 10063099
A18: =A17+1 -> 15 | B18: 레미콘 | C18: 25-30-12 | D18: M3 | I18: =INT(66490/1.1) -> 60445 | L18: =MIN(E18,G18,I18) -> 60445 | M18: =IF(L18=E18,"물자 P"&F18,IF(L18=G18,"물정(I) P"&H18,IF(L18=I18,"조달청"&J18," "))) -> 조달청 | P18: 나라장터 가격정보-대전및충남일부지역-2011년10월16일 나라장터 종합쇼핑몰 시설분류코드 10063109
A19: =A18+1 -> 16 | B19: 레미콘 | C19: 25-35-8 | D19: M3 | I19: =INT(63690/1.1) -> 57900 | L19: =MIN(E19,G19,I19) -> 57900 | M19: =IF(L19=E19,"물자 P"&F19,IF(L19=G19,"물정(I) P"&H19,IF(L19=I19,"조달청"&J19," "))) -> 조달청 | P19: 나라장터 가격정보-경기지역(안성,용인)-2011년6월13일 나라장터 가격정보 다운로드함
A20: =A19+1 -> 17 | B20: 레미콘 | C20: 25-35-15 | D20: M3 | I20: =INT(77010/1.1) -> 70009 | L20: =MIN(E20,G20,I20) -> 70009 | M20: =IF(L20=E20,"물자 P"&F20,IF(L20=G20,"물정(I) P"&H20,IF(L20=I20,"조달청"&J20," "))) -> 조달청 | P20: 나라장터 가격정보-충남지역(서부권)-2011년6월13일 나라장터 가격정보 다운로드함
A21: =A20+1 -> 18 | B21: 아스팔트 | C21: RS(C)-3 : 75 L/a | D21: D/M | E21: 130000 | F21: 154 | G21: 130000 | H21: 245 | L21: =MIN(E21,G21,I21) -> 130000 | M21: =IF(L21=E21,"물자 P"&F21,IF(L21=G21,"물정(I) P"&H21,IF(L21=I21,"조달청"&J21," "))) -> 물자 P154
A22: =A21+1 -> 19 | B22: 아스콘 | C22: #467, T=10CM | D22: TON | I22: =INT(64320/1.1) -> 58472 | L22: =MIN(E22,G22,I22) -> 58472 | M22: =IF(L22=E22,"물자 P"&F22,IF(L22=G22,"물정(I) P"&H22,IF(L22=I22,"조달청"&J22," "))) -> 조달청 | P22: 나라장터 가격정보-대전및충남지역-2011년6월24일 나라장터 가격정보 다운로드함
A23: =A22+1 -> 20 | B23: 아스팔트 | C23: RS(C)-4 : 30 L/a | D23: D/M | E23: 130000 | F23: 154 | G23: 130000 | H23: 245 | L23: =MIN(E23,G23,I23) -> 130000 | M23: =IF(L23=E23,"물자 P"&F23,IF(L23=G23,"물정(I) P"&H23,IF(L23=I23,"조달청"&J23," "))) -> 물자 P154
A24: =A23+1 -> 21 | B24: 아스콘 | C24: #78, T=5CM | D24: TON | I24: =INT(70660/1.1) -> 64236 | L24: =MIN(E24,G24,I24) -> 64236 | M24: =IF(L24=E24,"물자 P"&F24,IF(L24=G24,"물정(I) P"&H24,IF(L24=I24,"조달청"&J24," "))) -> 조달청 | P24: 나라장터 가격정보-대전및충남지역-2011년6월24일 나라장터 가격정보 다운로드함
A25: =A24+1 -> 22 | B25: 도복장강관(아스팔트) | C25: D50 | D25: M | E25: =TRUNC(E26/80*50,0) -> 11739 | F25: 661 | G25: =TRUNC(G26/80*50,0) -> 11739 | H25: 460 | L25: =MIN(E25,G25,K25) -> 11739 | M25: =IF(L25=E25,"물자 P"&F25,IF(L25=G25,"물정(II) P"&H25,IF(L25=K25,"견적가격"))) -> 물자 P661 | P25: 물자-KS D 3565, 물정-KS D 3565
A26: =A25+1 -> 23 | B26: 도복장강관(아스팔트) | C26: D80 | D26: M | E26: =TRUNC(112700/6,0) -> 18783 | F26: 661 | G26: =TRUNC(112700/6,0) -> 18783 | H26: 460 | L26: =MIN(E26,G26,K26) -> 18783 | M26: =IF(L26=E26,"물자 P"&F26,IF(L26=G26,"물정(II) P"&H26,IF(L26=K26,"견적가격"))) -> 물자 P661 | P26: 물자-KS D 3565, 물정-KS D 3565
A27: =A26+1 -> 24 | B27: 도복장강관(아스팔트) | C27: D100 | D27: M | E27: =TRUNC(154800/6,0) -> 25800 | F27: 661 | G27: =TRUNC(154800/6,0) -> 25800 | H27: 460 | L27: =MIN(E27,G27,K27) -> 25800 | M27: =IF(L27=E27,"물자 P"&F27,IF(L27=G27,"물정(II) P"&H27,IF(L27=K27,"견적가격"))) -> 물자 P661 | P27: 물자-KS D 3565, 물정-KS D 3565
A28: =A27+1 -> 25 | B28: 도복장강관(아스팔트) | C28: D150 | D28: M | E28: =TRUNC(236600/6,0) -> 39433 | F28: 661 | G28: =TRUNC(236600/6,0) -> 39433 | H28: 460 | L28: =MIN(E28,G28,K28) -> 39433 | M28: =IF(L28=E28,"물자 P"&F28,IF(L28=G28,"물정(II) P"&H28,IF(L28=K28,"견적가격"))) -> 물자 P661 | P28: 물자-KS D 3565, 물정-KS D 3565
A29: =A28+1 -> 26 | B29: 도복장강관(아스팔트) | C29: D200 | D29: M | E29: =TRUNC(352600/6,0) -> 58766 | F29: 661 | G29: =TRUNC(352600/6,0) -> 58766 | H29: 460 | L29: =MIN(E29,G29,K29) -> 58766 | M29: =IF(L29=E29,"물자 P"&F29,IF(L29=G29,"물정(II) P"&H29,IF(L29=K29,"견적가격"))) -> 물자 P661 | P29: 물자-KS D 3565, 물정-KS D 3565
A30: =A29+1 -> 27 | B30: 도복장강관(아스팔트) | C30: D300 | D30: M | E30: =TRUNC(516300/6,0) -> 86050 | F30: 661 | G30: =TRUNC(516300/6,0) -> 86050 | H30: 460 | L30: =MIN(E30,G30,K30) -> 86050 | M30: =IF(L30=E30,"물자 P"&F30,IF(L30=G30,"물정(II) P"&H30,IF(L30=K30,"견적가격"))) -> 물자 P661 | P30: 물자-KS D 3565, 물정-KS D 3565
A31: =A30+1 -> 28 | B31: 도복장강관(아스팔트) | C31: D350 | D31: M | E31: =TRUNC(577500/6,0) -> 96250 | F31: 661 | G31: =TRUNC(577500/6,0) -> 96250 | H31: 460 | L31: =MIN(E31,G31,K31) -> 96250 | M31: =IF(L31=E31,"물자 P"&F31,IF(L31=G31,"물정(II) P"&H31,IF(L31=K31,"견적가격"))) -> 물자 P661 | P31: 물자-KS D 3565, 물정-KS D 3565
A32: =A31+1 -> 29 | B32: 도복장강관(아스팔트) | C32: D400 | D32: M | E32: =TRUNC(661000/6,0) -> 110166 | F32: 661 | G32: =TRUNC(661000/6,0) -> 110166 | H32: 460 | L32: =MIN(E32,G32,K32) -> 110166 | M32: =IF(L32=E32,"물자 P"&F32,IF(L32=G32,"물정(II) P"&H32,IF(L32=K32,"견적가격"))) -> 물자 P661 | P32: 물자-KS D 3565, 물정-KS D 3565
A33: =A32+1 -> 30 | B33: 도복장강관(아스팔트) | C33: D500 | D33: M | E33: =TRUNC(828200/6,0) -> 138033 | F33: 661 | G33: =TRUNC(828200/6,0) -> 138033 | H33: 460 | L33: =MIN(E33,G33,K33) -> 138033 | M33: =IF(L33=E33,"물자 P"&F33,IF(L33=G33,"물정(II) P"&H33,IF(L33=K33,"견적가격"))) -> 물자 P661 | P33: 물자-KS D 3565, 물정-KS D 3565
A34: =A33+1 -> 31 | B34: 스틸그레이팅 | C34: 32*5*3 | D34: M2 | E34: 54460 | F34: 211 | G34: 39400 | H34: 306 | L34: =MIN(E34,G34,I34) -> 39400 | M34: =IF(L34=E34,"물자 P"&F34,IF(L34=G34,"물정(I) P"&H34,IF(L34=I34,"조달청"&J34," "))) -> 물정(I) P306
A35: =A34+1 -> 32 | B35: 스틸그레이팅 | C35: 50T, B=500 | D35: EA | E35: 42880 | F35: 211 | G35: 29000 | H35: 309 | L35: =MIN(E35,G35,I35) -> 29000 | M35: =IF(L35=E35,"물자 P"&F35,IF(L35=G35,"물정(I) P"&H35,IF(L35=I35,"조달청"&J35," "))) -> 물정(I) P309
A36: =A35+1 -> 33 | B36: 스틸그레이팅 | C36: 75T, B=500 | D36: EA | E36: 73960 | F36: 211 | G36: 47000 | H36: 309 | L36: =MIN(E36,G36,I36) -> 47000 | M36: =IF(L36=E36,"물자 P"&F36,IF(L36=G36,"물정(I) P"&H36,IF(L36=I36,"조달청"&J36," "))) -> 물정(I) P309
A37: =A36+1 -> 34 | B37: 보차도경계블록(화강석) | C37: 180*200*1000 | D37: EA | E37: 33800 | F37: 173 | G37: 19200 | H37: 270 | L37: =MIN(E37,G37,K37) -> 19200 | M37: =IF(L37=E37,"물자 P"&F37,IF(L37=G37,"물정(I) P"&H37,IF(L37=K37,"견적가격"))) -> 물정(I) P270
A38: =A37+1 -> 35 | B38: 보도경계블록(화강석) | C38: 150*150*1000 | D38: EA | E38: 26000 | F38: 173 | G38: 12000 | H38: 270 | L38: =MIN(E38,G38,K38) -> 12000 | M38: =IF(L38=E38,"물자 P"&F38,IF(L38=G38,"물정(I) P"&H38,IF(L38=K38,"견적가격"))) -> 물정(I) P270
A39: =A38+1 -> 36 | B39: 파형강관 | C39: D250 | D39: M | E39: 24700 | F39: 284 | G39: 35840 | H39: 358 | L39: =MIN(E39,G39,I39) -> 24700 | M39: =IF(L39=E39,"물자 P"&F39,IF(L39=G39,"물정(I) P"&H39,IF(L39=I39,"조달청"&J39," "))) -> 물자 P284 | P39: 1.6T
A40: =A39+1 -> 37 | B40: 흄관 | C40: D300 | D40: M | E40: =TRUNC(44400/2.5,0) -> 17760 | F40: 281 | G40: 18500 | H40: 337 | L40: =MIN(E40,G40,I40) -> 17760 | M40: =IF(L40=E40,"물자 P"&F40,IF(L40=G40,"물정(I) P"&H40,IF(L40=I40,"조달청"&J40," "))) -> 물자 P281 | O40: 점포상차도 | P40: 소켁식(B형), 물자-대전, 물정-대전
...
