Workbook
Name __SBB1: [3]관로토공집계표!$H$204
Name __SBB2: [3]관로토공집계표!$H$205
Name __SBB3: [3]관로토공집계표!$H$223
Name __SBB4: [3]관로토공집계표!$H$224
Name __SBB5: [3]관로토공집계표!$H$208
Name __SHH1: [3]관로토공집계표!$D$205
Name __SHH2: [3]관로토공집계표!$D$223
Name __SHH3: [3]관로토공집계표!$D$224
Name _1: #REF!
Name _1: #REF!
Name _1: #REF!
Name _1: #REF!
Name _1: #REF!
Name _1: #REF!
Name _1: #REF!
Name _1: #REF!
Name _1._PANEL_BD.__LP___1: #REF!
Name _1._PANEL_BD.__LP___1: #REF!
Name _1._PANEL_BD.__LP___1: #REF!
Name _1._PANEL_BD.__LP___1: #REF!
Name _1._PANEL_BD.__LP___1: #REF!
Name _1._PANEL_BD.__LP___1: #REF!
Name _1._PANEL_BD.__LP___1: #REF!
Name _1._PANEL_BD.__LP___1: #REF!
Name _1_3_0Crite: #REF!
Name _1_3_0Crite: #REF!
Name _1_3_0Crite: #REF!
Name _1_3_0Crite: #REF!
Name _1_3_0Crite: #REF!
Name _1_3_0Crite: #REF!
Name _1_3_0Crite: #REF!
Name _1_3_0Crite: #REF!
Name _10: #N/A
Name _10G_0Extract: #REF!
Name _10G_0Extract: #REF!
Name _10G_0Extract: #REF!
Name _10G_0Extract: #REF!
Name _10G_0Extract: #REF!
Name _10G_0Extract: #REF!
Name _10G_0Extract: #REF!
Name _10G_0Extract: #REF!
Name _10ME: '[4]#REF'!#REF!
Name _10ME: '[4]#REF'!#REF!
Name _10ME: '[4]#REF'!#REF!
Name _11: #N/A
Name _11G__Extr: #REF!
Name _11G__Extr: #REF!
Name _11G__Extr: #REF!
Name _11G__Extr: #REF!
Name _11G__Extr: #REF!
Name _11G__Extr: #REF!
Name _11G__Extr: #REF!
Name _11G__Extr: #REF!
Name _11ME: '[4]#REF'!#REF!
Name _11ME: '[4]#REF'!#REF!
Name _11ME: '[4]#REF'!#REF!
Name _12: #N/A
Name _12G__Extract: #REF!
Name _12G__Extract: #REF!
Name _12G__Extract: #REF!

Sheet 설변총괄표
A1: 설 계 변 경 총 괄 표
A2: [공사명] 상주무양 B1블록 아파트 건설공사 2공구 | N2: 단위:천원
A3: 구 분 | D3: 변 경 전 | E3: 변 경 후 | F3: 변경사유 또는 관련근거 | G3: 증감액(천원) | N3: 공기 증감
G4: 변경전 | H4: 변경후 | K4: 증감
H5: 0.71837 | I5: 0.85 | J5: 1 | K5: 0.71837 | L5: 0.85 | M5: 1
A6: 토목공사 | B6: 1 | C6: 쉬트파일박기 | D6: 있음(박기) | E6: 있음(선굴착후항타) | F6: 가설흙막이 검토서 7)특기사항 | G6: =설변원가계산서!G33/1000 -> 28072.574 | H6: =설변원가계산서!H33/1000 -> 276531.11 | I6: =설변원가계산서!H66/1000 -> 322060.55 | J6: =설변원가계산서!H99/1000 -> 373943.7 | K6: =H6-G6 -> 248458.54 | L6: =I6-G6 -> 293987.98 | M6: =J6-G6 -> 345871.13 | N6: 없음
A7: 계 | G7: =SUM(G6:G6) -> 28072.574 | H7: =SUM(H6:H6) -> 276531.11 | I7: =SUM(I6:I6) -> 322060.55 | J7: =SUM(J6:J6) -> 373943.7 | K7: =SUM(K6:K6) -> 248458.54 | L7: =SUM(L6:L6) -> 293987.98 | M7: =SUM(M6:M6) -> 345871.13

Sheet 설변원가계산서
A1: 공사비 산출 내역서(낙찰율)
A2: 공사명 : 상주무양 B1블록 아파트 건설공사 2공구 | N2: 단 위 : 원
A3: 구 분 | B3: 구 성 비 | E3: 변 경 전 | H3: 변 경 후 | K3: 증 감 | N3: 비 고
B4: 적용요율 | C4: 법정요율 | D4: 계약요율 | E4: 합계 | F4: 단지조성 | G4: 단지토목 | H4: 합계 | I4: 단지조성 | J4: 단지토목 | K4: 합계 | L4: 단지조성 | M4: 단지토목
A5: 1. 자재비 | E5: =SUM(F5:G5) -> 2631094 | F5: 0 | G5: ='설변내역서(낙찰율)'!J25 -> 2631094 | H5: =SUM(I5:J5) -> 47230516 | I5: 0 | J5: ='설변내역서(낙찰율)'!O25 -> 47230516 | K5: =SUM(L5:M5) -> 44599422 | L5: =I5-F5 -> 0 | M5: =J5-G5 -> 44599422
A6: 2. 노무비
A7: 직접노무비 | E7: =SUM(F7:G7) -> 8965786 | F7: 0 | G7: ='설변내역서(낙찰율)'!K25 -> 8965786 | H7: =SUM(I7:J7) -> 127929342 | I7: 0 | J7: ='설변내역서(낙찰율)'!P25 -> 127929342 | K7: =SUM(L7:M7) -> 118963556 | L7: =I7-F7 -> 0 | M7: =J7-G7 -> 118963556
A8: 간접노무비 | B8: 0.0885 | C8: 0.0885 | D8: 0.091523425 | E8: =SUM(F8:G8) -> 793472 | F8: =TRUNC(F7*$B$8) -> 0 | G8: =TRUNC(G7*$B$8) -> 793472 | H8: =SUM(I8:J8) -> 11321746 | I8: =TRUNC(I7*$B$8) -> 0 | J8: =TRUNC(J7*$B$8) -> 11321746 | K8: =SUM(L8:M8) -> 10528274 | L8: =I8-F8 -> 0 | M8: =J8-G8 -> 10528274
A9: 소 계 | E9: =SUM(F9:G9) -> 9759258 | F9: =SUM(F7:F8) -> 0 | G9: =SUM(G7:G8) -> 9759258 | H9: =SUM(I9:J9) -> 139251088 | I9: =SUM(I7:I8) -> 0 | J9: =SUM(J7:J8) -> 139251088 | K9: =SUM(L9:M9) -> 129491830 | L9: =SUM(L7:L8) -> 0 | M9: =SUM(M7:M8) -> 129491830
A11: 3. 경비
A12: 직접경비 | E12: =SUM(F12:G12) -> 12264002 | F12: 0 | G12: ='설변내역서(낙찰율)'!L25 -> 12264002 | H12: =SUM(I12:J12) -> 43864331 | I12: 0 | J12: ='설변내역서(낙찰율)'!Q25 -> 43864331 | K12: =SUM(L12:M12) -> 31600329 | L12: =I12-F12 -> 0 | M12: =J12-G12 -> 31600329
A13: 기타경비 | B13: 0.0492 | C13: 0.0492 | D13: 0.049912198 | E13: =SUM(F13:G13) -> 609605 | F13: =TRUNC((F5+F9)*$B$13) -> 0 | G13: =TRUNC((G5+G9)*$B$13) -> 609605 | H13: =SUM(I13:J13) -> 9174894 | I13: =TRUNC((I5+I9)*$B$13) -> 0 | J13: =TRUNC((J5+J9)*$B$13) -> 9174894 | K13: =SUM(L13:M13) -> 8565289 | L13: =I13-F13 -> 0 | M13: =J13-G13 -> 8565289
A14: 산재보험료 | B14: 0.036 | C14: 0.036 | D14: 0.037126806 | E14: =SUM(F14:G14) -> 351333 | F14: =TRUNC(F9*$B$14) -> 0 | G14: =TRUNC(G9*$B$14) -> 351333 | H14: =SUM(I14:J14) -> 5013039 | I14: =TRUNC(I9*$B$14) -> 0 | J14: =TRUNC(J9*$B$14) -> 5013039 | K14: =SUM(L14:M14) -> 4661706 | L14: =I14-F14 -> 0 | M14: =J14-G14 -> 4661706
A15: 안전관리비 | B15: 0.0188 | C15: 0.0188 | D15: 0.018059557 | E15: =SUM(F15:G15) -> 218021 | F15: =TRUNC((F5+F7)*$B$15) -> 0 | G15: =TRUNC((G5+G7)*$B$15) -> 218021 | H15: =SUM(I15:J15) -> 3293005 | I15: =TRUNC((I5+I7)*$B$15) -> 0 | J15: =TRUNC((J5+J7)*$B$15) -> 3293005 | K15: =SUM(L15:M15) -> 3074984 | L15: =I15-F15 -> 0 | M15: =J15-G15 -> 3074984
A16: 퇴직공제부금 | B16: 0.037037082 | C16: 0.023 | D16: 0.034212374 | E16: =SUM(F16:G16) -> 332066 | F16: =TRUNC(F7*$B$16) -> 0 | G16: =TRUNC(G7*$B$16) -> 332066 | H16: =SUM(I16:J16) -> 4738129 | I16: =TRUNC(I7*$B$16) -> 0 | J16: =TRUNC(J7*$B$16) -> 4738129 | K16: =SUM(L16:M16) -> 4406063 | L16: =I16-F16 -> 0 | M16: =J16-G16 -> 4406063
A17: 고용보험료 | B17: 0.0092 | C17: 0.0092 | D17: 0.0094875718 | E17: =SUM(F17:G17) -> 89785 | F17: =TRUNC(F9*$B$17) -> 0 | G17: =TRUNC(G9*$B$17) -> 89785 | H17: =SUM(I17:J17) -> 1281110 | I17: =TRUNC(I9*$B$17) -> 0 | J17: =TRUNC(J9*$B$17) -> 1281110 | K17: =SUM(L17:M17) -> 1191325 | L17: =I17-F17 -> 0 | M17: =J17-G17 -> 1191325
A18: 국민건강보험료 | B18: 0.027375089 | C18: 0.017 | D18: 0.025287133 | E18: =SUM(F18:G18) -> 245439 | F18: =TRUNC(F7*$B$18) -> 0 | G18: =TRUNC(G7*$B$18) -> 245439 | H18: =SUM(I18:J18) -> 3502077 | I18: =TRUNC(I7*$B$18) -> 0 | J18: =TRUNC(J7*$B$18) -> 3502077 | K18: =SUM(L18:M18) -> 3256638 | L18: =I18-F18 -> 0 | M18: =J18-G18 -> 3256638
A19: 노인장기요양보험료 | B19: 0.0655 | C19: 0.0655 | D19: 0.0655 | E19: =SUM(F19:G19) -> 16076 | F19: =TRUNC(F18*$B$19) -> 0 | G19: =TRUNC(G18*$B$19) -> 16076 | H19: =SUM(I19:J19) -> 229386 | I19: =TRUNC(I18*$B$19) -> 0 | J19: =TRUNC(J18*$B$19) -> 229386 | K19: =SUM(L19:M19) -> 213310 | L19: =I19-F19 -> 0 | M19: =J19-G19 -> 213310
A20: 국민연금보험료 | B20: 0.040096434 | C20: 0.0249 | D20: 0.0370386 | E20: =SUM(F20:G20) -> 359496 | F20: =TRUNC(F7*$B$20) -> 0 | G20: =TRUNC(G7*$B$20) -> 359496 | H20: =SUM(I20:J20) -> 5129510 | I20: =TRUNC(I7*$B$20) -> 0 | J20: =TRUNC(J7*$B$20) -> 5129510 | K20: =SUM(L20:M20) -> 4770014 | L20: =I20-F20 -> 0 | M20: =J20-G20 -> 4770014
A21: 이행수수료기초액 | E21: =SUM(F21:G21) -> 0 | F21: =TRUNC((F5+F7+F12)*$B$21) -> 0 | G21: =TRUNC((G5+G7+G12)*$B$21) -> 0 | H21: =SUM(I21:J21) -> 0 | I21: =TRUNC((I5+I7+I12)*$B$21) -> 0 | J21: =TRUNC((J5+J7+J12)*$B$21) -> 0 | K21: =SUM(L21:M21) -> 0 | L21: =I21-F21 -> 0 | M21: =J21-G21 -> 0
A22: 이행수수료 | B22: 0.00018274923 | C22: 0.00018 | D22: 0.00021478596 | E22: =SUM(F22:G22) -> 256 | F22: =TRUNC((F6+F8+F13)*$B$22) -> 0 | G22: =TRUNC((G6+G8+G13)*$B$22) -> 256 | H22: =SUM(I22:J22) -> 3745 | I22: =TRUNC((I6+I8+I13)*$B$22) -> 0 | J22: =TRUNC((J6+J8+J13)*$B$22) -> 3745 | K22: =SUM(L22:M22) -> 3489 | L22: =I22-F22 -> 0 | M22: =J22-G22 -> 3489
A23: 하도급지급수수료 | B23: 0.00058 | C23: 0.00058 | D23: 0.00055172618 | E23: =SUM(F23:G23) -> 13839 | F23: =TRUNC((F5+F7+F12)*$B$23) -> 0 | G23: =TRUNC((G5+G7+G12)*$B$23) -> 13839 | H23: =SUM(I23:J23) -> 127034 | I23: =TRUNC((I5+I7+I12)*$B$23) -> 0 | J23: =TRUNC((J5+J7+J12)*$B$23) -> 127034 | K23: =SUM(L23:M23) -> 113195 | L23: =I23-F23 -> 0 | M23: =J23-G23 -> 113195
A24: 소 계 | E24: =SUM(F24:G24) -> 14499918 | F24: =SUM(F12:F23) -> 0 | G24: =SUM(G12:G23) -> 14499918 | H24: =SUM(I24:J24) -> 76356260 | I24: =SUM(I12:I23) -> 0 | J24: =SUM(J12:J23) -> 76356260 | K24: =SUM(L24:M24) -> 61856342 | L24: =SUM(L12:L23) -> 0 | M24: =SUM(M12:M23) -> 61856342
B25: 0.039443238
A26: 4. 일반관리비 | B26: 0.033108814 | C26: 0.035 | D26: 0.03318431 | E26: =SUM(F26:G26) -> 890304 | F26: =TRUNC((F5+F9+F24)*$B$26) -> 0 | G26: =TRUNC((G5+G9+G24)*$B$26) -> 890304 | H26: =SUM(I26:J26) -> 8702250 | I26: =TRUNC((I5+I9+I24)*$B$26) -> 0 | J26: =TRUNC((J5+J9+J24)*$B$26) -> 8702250 | K26: =SUM(L26:M26) -> 7811946 | L26: =I26-F26 -> 0 | M26: =J26-G26 -> 7811946
A27: 5. 이윤 | B27: 6.4834085e-07 | C27: 0.09 | D27: 0 | E27: =SUM(F27:G27) -> 0 | F27: =TRUNC((F9+F24+F26)*$B$27) -> 0 | H27: =SUM(I27:J27) -> 0 | I27: =TRUNC((I9+I24+I26)*$B$27) -> 0 | K27: =SUM(L27:M27) -> 0 | L27: =I27-F27 -> 0 | M27: =J27-G27 -> 0
A28: 6. 부가가치세
A29: 면세 | B29: 0.988 | C29: 0.1 | D29: 0.1 | E29: =SUM(F29:G29) -> 259000 | G29: =TRUNC((G5)*0.1*$B$29,-3) -> 259000 | H29: =SUM(I29:J29) -> 4666000 | J29: =TRUNC((J5)*0.1*$B$29,-3) -> 4666000 | K29: =SUM(L29:M29) -> 4407000 | L29: =I29-F29 -> 0 | M29: =J29-G29 -> 4407000
A30: 과세 | B30: 0.012 | C30: 0.1 | D30: 0.1 | E30: =SUM(F30:G30) -> 33000 | F30: =TRUNC((F5+F9+F24+F26+F27)*0.1,-3) -> 0 | G30: =TRUNC((G5+G9+G24+G26+G27)*0.1*$B$30,-3) -> 33000 | H30: =SUM(I30:J30) -> 325000 | I30: =TRUNC((I5+I9+I24+I26+I27)*0.1) -> 0 | J30: =TRUNC((J5+J9+J24+J26+J27)*0.1*$B$30,-3) -> 325000 | K30: =SUM(L30:M30) -> 292000 | L30: =I30-F30 -> 0 | M30: =J30-G30 -> 292000
A31: 소 계 | E31: =SUM(F31:G31) -> 292000 | F31: =SUM(F29:F30) -> 0 | G31: =SUM(G29:G30) -> 292000 | H31: =SUM(I31:J31) -> 4991000 | I31: =SUM(I29:I30) -> 0 | J31: =SUM(J29:J30) -> 4991000 | K31: =SUM(L31:M31) -> 4699000 | L31: =SUM(L29:L30) -> 0 | M31: =SUM(M29:M30) -> 4699000
A33: 총 계 | E33: =F33+G33 -> 28072574 | F33: =F5+F9+F24+F26+F27+F31 -> 0 | G33: =G5+G9+G24+G26+G27+G31 -> 28072574 | H33: =I33+J33 -> 276531114 | I33: =I5+I9+I24+I26+I27+I31 -> 0 | J33: =J5+J9+J24+J26+J27+J31 -> 276531114 | K33: =L33+M33 -> 248458540 | L33: =L5+L9+L24+L26+L27+L31 -> 0 | M33: =M5+M9+M24+M26+M27+M31 -> 248458540
A34: 공사비 산출 내역서(85%)
A35: 공사명 : 상주무양 B1블록 아파트 건설공사 2공구 | N35: 단 위 : 원
A36: 구 분 | B36: 구 성 비 | E36: 변 경 전 | H36: 변 경 후 | K36: 증 감 | N36: 비 고
B37: 적용요율 | C37: 법정요율 | D37: 계약요율 | E37: 합계 | F37: 단지조성 | G37: 단지토목 | H37: 합계 | I37: 단지조성 | J37: 단지토목 | K37: 합계 | L37: 단지조성 | M37: 단지토목
A38: 1. 자재비 | E38: =SUM(F38:G38) -> 2631094 | F38: 0 | G38: ='설변내역서(85%)'!J25 -> 2631094 | H38: =SUM(I38:J38) -> 55407840 | I38: 0 | J38: ='설변내역서(85%)'!O25 -> 55407840 | K38: =SUM(L38:M38) -> 52776746 | L38: =I38-F38 -> 0 | M38: =J38-G38 -> 52776746
A39: 2. 노무비
A40: 직접노무비 | E40: =SUM(F40:G40) -> 8965786 | F40: 0 | G40: ='설변내역서(85%)'!K25 -> 8965786 | H40: =SUM(I40:J40) -> 149724024 | I40: 0 | J40: ='설변내역서(85%)'!P25 -> 149724024 | K40: =SUM(L40:M40) -> 140758238 | L40: =I40-F40 -> 0 | M40: =J40-G40 -> 140758238
A41: 간접노무비 | B41: 0.0885 | C41: 0.0885 | D41: 0.091523425 | E41: =SUM(F41:G41) -> 793472 | F41: =TRUNC(F40*$B$8) -> 0 | G41: =TRUNC(G40*$B$8) -> 793472 | H41: =SUM(I41:J41) -> 13250576 | I41: =TRUNC(I40*$B$8) -> 0 | J41: =TRUNC(J40*$B$8) -> 13250576 | K41: =SUM(L41:M41) -> 12457104 | L41: =I41-F41 -> 0 | M41: =J41-G41 -> 12457104
A42: 소 계 | E42: =SUM(F42:G42) -> 9759258 | F42: =SUM(F40:F41) -> 0 | G42: =SUM(G40:G41) -> 9759258 | H42: =SUM(I42:J42) -> 162974600 | I42: =SUM(I40:I41) -> 0 | J42: =SUM(J40:J41) -> 162974600 | K42: =SUM(L42:M42) -> 153215342 | L42: =SUM(L40:L41) -> 0 | M42: =SUM(M40:M41) -> 153215342
A44: 3. 경비
A45: 직접경비 | E45: =SUM(F45:G45) -> 12264002 | F45: 0 | G45: ='설변내역서(85%)'!L25 -> 12264002 | H45: =SUM(I45:J45) -> 49655950 | I45: 0 | J45: ='설변내역서(85%)'!Q25 -> 49655950 | K45: =SUM(L45:M45) -> 37391948 | L45: =I45-F45 -> 0 | M45: =J45-G45 -> 37391948
A46: 기타경비 | B46: 0.0492 | C46: 0.0492 | D46: 0.049912198 | E46: =SUM(F46:G46) -> 609605 | F46: =TRUNC((F38+F42)*$B$13) -> 0 | G46: =TRUNC((G38+G42)*$B$13) -> 609605 | H46: =SUM(I46:J46) -> 10744416 | I46: =TRUNC((I38+I42)*$B$13) -> 0 | J46: =TRUNC((J38+J42)*$B$13) -> 10744416 | K46: =SUM(L46:M46) -> 10134811 | L46: =I46-F46 -> 0 | M46: =J46-G46 -> 10134811
A47: 산재보험료 | B47: 0.036 | C47: 0.036 | D47: 0.037126806 | E47: =SUM(F47:G47) -> 351333 | F47: =TRUNC(F42*$B$14) -> 0 | G47: =TRUNC(G42*$B$14) -> 351333 | H47: =SUM(I47:J47) -> 5867085 | I47: =TRUNC(I42*$B$14) -> 0 | J47: =TRUNC(J42*$B$14) -> 5867085 | K47: =SUM(L47:M47) -> 5515752 | L47: =I47-F47 -> 0 | M47: =J47-G47 -> 5515752
A48: 안전관리비 | B48: 0.0188 | C48: 0.0188 | D48: 0.018059557 | E48: =SUM(F48:G48) -> 218021 | F48: =TRUNC((F38+F40)*$B$15) -> 0 | G48: =TRUNC((G38+G40)*$B$15) -> 218021 | H48: =SUM(I48:J48) -> 3856479 | I48: =TRUNC((I38+I40)*$B$15) -> 0 | J48: =TRUNC((J38+J40)*$B$15) -> 3856479 | K48: =SUM(L48:M48) -> 3638458 | L48: =I48-F48 -> 0 | M48: =J48-G48 -> 3638458
A49: 퇴직공제부금 | B49: 0.037037082 | C49: 0.023 | D49: 0.034212374 | E49: =SUM(F49:G49) -> 332066 | F49: =TRUNC(F40*$B$16) -> 0 | G49: =TRUNC(G40*$B$16) -> 332066 | H49: =SUM(I49:J49) -> 5545341 | I49: =TRUNC(I40*$B$16) -> 0 | J49: =TRUNC(J40*$B$16) -> 5545341 | K49: =SUM(L49:M49) -> 5213275 | L49: =I49-F49 -> 0 | M49: =J49-G49 -> 5213275
A50: 고용보험료 | B50: 0.0092 | C50: 0.0092 | D50: 0.0094875718 | E50: =SUM(F50:G50) -> 89785 | F50: =TRUNC(F42*$B$17) -> 0 | G50: =TRUNC(G42*$B$17) -> 89785 | H50: =SUM(I50:J50) -> 1499366 | I50: =TRUNC(I42*$B$17) -> 0 | J50: =TRUNC(J42*$B$17) -> 1499366 | K50: =SUM(L50:M50) -> 1409581 | L50: =I50-F50 -> 0 | M50: =J50-G50 -> 1409581
A51: 국민건강보험료 | B51: 0.027375089 | C51: 0.017 | D51: 0.025287133 | E51: =SUM(F51:G51) -> 245439 | F51: =TRUNC(F40*$B$18) -> 0 | G51: =TRUNC(G40*$B$18) -> 245439 | H51: =SUM(I51:J51) -> 4098708 | I51: =TRUNC(I40*$B$18) -> 0 | J51: =TRUNC(J40*$B$18) -> 4098708 | K51: =SUM(L51:M51) -> 3853269 | L51: =I51-F51 -> 0 | M51: =J51-G51 -> 3853269
A52: 노인장기요양보험료 | B52: 0.0655 | C52: 0.0655 | D52: 0.0655 | E52: =SUM(F52:G52) -> 16076 | F52: =TRUNC(F51*$B$19) -> 0 | G52: =TRUNC(G51*$B$19) -> 16076 | H52: =SUM(I52:J52) -> 268465 | I52: =TRUNC(I51*$B$19) -> 0 | J52: =TRUNC(J51*$B$19) -> 268465 | K52: =SUM(L52:M52) -> 252389 | L52: =I52-F52 -> 0 | M52: =J52-G52 -> 252389
A53: 국민연금보험료 | B53: 0.040096434 | C53: 0.0249 | D53: 0.0370386 | E53: =SUM(F53:G53) -> 359496 | F53: =TRUNC(F40*$B$20) -> 0 | G53: =TRUNC(G40*$B$20) -> 359496 | H53: =SUM(I53:J53) -> 6003399 | I53: =TRUNC(I40*$B$20) -> 0 | J53: =TRUNC(J40*$B$20) -> 6003399 | K53: =SUM(L53:M53) -> 5643903 | L53: =I53-F53 -> 0 | M53: =J53-G53 -> 5643903
A54: 이행수수료기초액 | E54: =SUM(F54:G54) -> 0 | F54: =TRUNC((F38+F40+F45)*$B$21) -> 0 | G54: =TRUNC((G38+G40+G45)*$B$21) -> 0 | H54: =SUM(I54:J54) -> 0 | I54: =TRUNC((I38+I40+I45)*$B$21) -> 0 | J54: =TRUNC((J38+J40+J45)*$B$21) -> 0 | K54: =SUM(L54:M54) -> 0 | L54: =I54-F54 -> 0 | M54: =J54-G54 -> 0
A55: 이행수수료 | B55: 0.00018274923 | C55: 0.00018 | D55: 0.00021478596 | E55: =SUM(F55:G55) -> 256 | F55: =TRUNC((F39+F41+F46)*$B$22) -> 0 | G55: =TRUNC((G39+G41+G46)*$B$22) -> 256 | H55: =SUM(I55:J55) -> 4385 | I55: =TRUNC((I39+I41+I46)*$B$22) -> 0 | J55: =TRUNC((J39+J41+J46)*$B$22) -> 4385 | K55: =SUM(L55:M55) -> 4129 | L55: =I55-F55 -> 0 | M55: =J55-G55 -> 4129
A56: 하도급지급수수료 | B56: 0.00058 | C56: 0.00058 | D56: 0.00055172618 | E56: =SUM(F56:G56) -> 13839 | F56: =TRUNC((F38+F40+F45)*$B$23) -> 0 | G56: =TRUNC((G38+G40+G45)*$B$23) -> 13839 | H56: =SUM(I56:J56) -> 147776 | I56: =TRUNC((I38+I40+I45)*$B$23) -> 0 | J56: =TRUNC((J38+J40+J45)*$B$23) -> 147776 | K56: =SUM(L56:M56) -> 133937 | L56: =I56-F56 -> 0 | M56: =J56-G56 -> 133937
A57: 소 계 | E57: =SUM(F57:G57) -> 14499918 | F57: =SUM(F45:F56) -> 0 | G57: =SUM(G45:G56) -> 14499918 | H57: =SUM(I57:J57) -> 87691370 | I57: =SUM(I45:I56) -> 0 | J57: =SUM(J45:J56) -> 87691370 | K57: =SUM(L57:M57) -> 73191452 | L57: =SUM(L45:L56) -> 0 | M57: =SUM(M45:M56) -> 73191452
B58: 0.039443238
A59: 4. 일반관리비 | B59: 0.033108814 | C59: 0.035 | D59: 0.03318431 | E59: =SUM(F59:G59) -> 890304 | F59: =TRUNC((F38+F42+F57)*$B$26) -> 0 | G59: =TRUNC((G38+G42+G57)*$B$26) -> 890304 | H59: =SUM(I59:J59) -> 10133740 | I59: =TRUNC((I38+I42+I57)*$B$26) -> 0 | J59: =TRUNC((J38+J42+J57)*$B$26) -> 10133740 | K59: =SUM(L59:M59) -> 9243436 | L59: =I59-F59 -> 0 | M59: =J59-G59 -> 9243436
A60: 5. 이윤 | B60: 6.4834085e-07 | C60: 0.09 | D60: 0 | E60: =SUM(F60:G60) -> 0 | F60: =TRUNC((F42+F57+F59)*$B$27) -> 0 | H60: =SUM(I60:J60) -> 0 | I60: =TRUNC((I42+I57+I59)*$B$27) -> 0 | K60: =SUM(L60:M60) -> 0 | L60: =I60-F60 -> 0 | M60: =J60-G60 -> 0
A61: 6. 부가가치세
A62: 면세 | B62: 0.9762 | C62: 0.1 | D62: 0.1 | E62: =SUM(F62:G62) -> 259000 | G62: =TRUNC((G38)*0.1*$B$29,-3) -> 259000 | H62: =SUM(I62:J62) -> 5474000 | J62: =TRUNC((J38)*0.1*$B$29,-3) -> 5474000 | K62: =SUM(L62:M62) -> 5215000 | L62: =I62-F62 -> 0 | M62: =J62-G62 -> 5215000
A63: 과세 | B63: 0.0238 | C63: 0.1 | D63: 0.1 | E63: =SUM(F63:G63) -> 33000 | F63: =TRUNC((F38+F42+F57+F59+F60)*0.1,-3) -> 0 | G63: =TRUNC((G38+G42+G57+G59+G60)*0.1*$B$30,-3) -> 33000 | H63: =SUM(I63:J63) -> 379000 | I63: =TRUNC((I38+I42+I57+I59+I60)*0.1) -> 0 | J63: =TRUNC((J38+J42+J57+J59+J60)*0.1*$B$30,-3) -> 379000 | K63: =SUM(L63:M63) -> 346000 | L63: =I63-F63 -> 0 | M63: =J63-G63 -> 346000
A64: 소 계 | E64: =SUM(F64:G64) -> 292000 | F64: =SUM(F62:F63) -> 0 | G64: =SUM(G62:G63) -> 292000 | H64: =SUM(I64:J64) -> 5853000 | I64: =SUM(I62:I63) -> 0 | J64: =SUM(J62:J63) -> 5853000 | K64: =SUM(L64:M64) -> 5561000 | L64: =SUM(L62:L63) -> 0 | M64: =SUM(M62:M63) -> 5561000
A66: 총 계 | E66: =F66+G66 -> 28072574 | F66: =F38+F42+F57+F59+F60+F64 -> 0 | G66: =G38+G42+G57+G59+G60+G64 -> 28072574 | H66: =I66+J66 -> 322060550 | I66: =I38+I42+I57+I59+I60+I64 -> 0 | J66: =J38+J42+J57+J59+J60+J64 -> 322060550 | K66: =L66+M66 -> 293987976 | L66: =L38+L42+L57+L59+L60+L64 -> 0 | M66: =M38+M42+M57+M59+M60+M64 -> 293987976
A67: 공사비 산출 내역서(100%)
A68: 공사명 : 상주무양 B1블록 아파트 건설공사 2공구 | N68: 단 위 : 원
A69: 구 분 | B69: 구 성 비 | E69: 변 경 전 | H69: 변 경 후 | K69: 증 감 | N69: 비 고
B70: 적용요율 | C70: 법정요율 | D70: 계약요율 | E70: 합계 | F70: 도시기반 | G70: 단지토목 | H70: 합계 | I70: 도시기반 | J70: 단지토목 | K70: 합계 | L70: 도시기반 | M70: 단지토목
A71: 1. 자재비 | E71: =SUM(F71:G71) -> 2631094 | F71: 0 | G71: ='설변내역서(100%))'!J25 -> 2631094 | H71: =SUM(I71:J71) -> 64720581 | I71: 0 | J71: ='설변내역서(100%))'!O25 -> 64720581 | K71: =SUM(L71:M71) -> 62089487 | L71: =I71-F71 -> 0 | M71: =J71-G71 -> 62089487
A72: 2. 노무비
A73: 직접노무비 | E73: =SUM(F73:G73) -> 8965786 | F73: 0 | G73: ='설변내역서(100%))'!K25 -> 8965786 | H73: =SUM(I73:J73) -> 174568864 | I73: 0 | J73: ='설변내역서(100%))'!P25 -> 174568864 | K73: =SUM(L73:M73) -> 165603078 | L73: =I73-F73 -> 0 | M73: =J73-G73 -> 165603078
A74: 간접노무비 | B74: 0.0885 | C74: 0.0885 | D74: 0.091523425 | E74: =SUM(F74:G74) -> 793472 | F74: =TRUNC(F73*$B$8) -> 0 | G74: =TRUNC(G73*$B$8) -> 793472 | H74: =SUM(I74:J74) -> 15449344 | I74: =TRUNC(I73*$B$8) -> 0 | J74: =TRUNC(J73*$B$8) -> 15449344 | K74: =SUM(L74:M74) -> 14655872 | L74: =I74-F74 -> 0 | M74: =J74-G74 -> 14655872
A75: 소 계 | E75: =SUM(F75:G75) -> 9759258 | F75: =SUM(F73:F74) -> 0 | G75: =SUM(G73:G74) -> 9759258 | H75: =SUM(I75:J75) -> 190018208 | I75: =SUM(I73:I74) -> 0 | J75: =SUM(J73:J74) -> 190018208 | K75: =SUM(L75:M75) -> 180258950 | L75: =SUM(L73:L74) -> 0 | M75: =SUM(M73:M74) -> 180258950
A77: 3. 경비
A78: 직접경비 | E78: =SUM(F78:G78) -> 12264002 | F78: 0 | G78: ='설변내역서(100%))'!L25 -> 12264002 | H78: =SUM(I78:J78) -> 56251774 | I78: 0 | J78: ='설변내역서(100%))'!Q25 -> 56251774 | K78: =SUM(L78:M78) -> 43987772 | L78: =I78-F78 -> 0 | M78: =J78-G78 -> 43987772
A79: 기타경비 | B79: 0.0492 | C79: 0.0492 | D79: 0.049912198 | E79: =SUM(F79:G79) -> 609605 | F79: =TRUNC((F71+F75)*$B$13) -> 0 | G79: =TRUNC((G71+G75)*$B$13) -> 609605 | H79: =SUM(I79:J79) -> 12533148 | I79: =TRUNC((I71+I75)*$B$13) -> 0 | J79: =TRUNC((J71+J75)*$B$13) -> 12533148 | K79: =SUM(L79:M79) -> 11923543 | L79: =I79-F79 -> 0 | M79: =J79-G79 -> 11923543
A80: 산재보험료 | B80: 0.036 | C80: 0.036 | D80: 0.037126806 | E80: =SUM(F80:G80) -> 351333 | F80: =TRUNC(F75*$B$14) -> 0 | G80: =TRUNC(G75*$B$14) -> 351333 | H80: =SUM(I80:J80) -> 6840655 | I80: =TRUNC(I75*$B$14) -> 0 | J80: =TRUNC(J75*$B$14) -> 6840655 | K80: =SUM(L80:M80) -> 6489322 | L80: =I80-F80 -> 0 | M80: =J80-G80 -> 6489322
A81: 안전관리비 | B81: 0.0188 | C81: 0.0188 | D81: 0.018059557 | E81: =SUM(F81:G81) -> 218021 | F81: =TRUNC((F71+F73)*$B$15) -> 0 | G81: =TRUNC((G71+G73)*$B$15) -> 218021 | H81: =SUM(I81:J81) -> 4498641 | I81: =TRUNC((I71+I73)*$B$15) -> 0 | J81: =TRUNC((J71+J73)*$B$15) -> 4498641 | K81: =SUM(L81:M81) -> 4280620 | L81: =I81-F81 -> 0 | M81: =J81-G81 -> 4280620
A82: 퇴직공제부금 | B82: 0.037037082 | C82: 0.023 | D82: 0.034212374 | E82: =SUM(F82:G82) -> 332066 | F82: =TRUNC(F73*$B$16) -> 0 | G82: =TRUNC(G73*$B$16) -> 332066 | H82: =SUM(I82:J82) -> 6465521 | I82: =TRUNC(I73*$B$16) -> 0 | J82: =TRUNC(J73*$B$16) -> 6465521 | K82: =SUM(L82:M82) -> 6133455 | L82: =I82-F82 -> 0 | M82: =J82-G82 -> 6133455
A83: 고용보험료 | B83: 0.0092 | C83: 0.0092 | D83: 0.0094875718 | E83: =SUM(F83:G83) -> 89785 | F83: =TRUNC(F75*$B$17) -> 0 | G83: =TRUNC(G75*$B$17) -> 89785 | H83: =SUM(I83:J83) -> 1748167 | I83: =TRUNC(I75*$B$17) -> 0 | J83: =TRUNC(J75*$B$17) -> 1748167 | K83: =SUM(L83:M83) -> 1658382 | L83: =I83-F83 -> 0 | M83: =J83-G83 -> 1658382
A84: 국민건강보험료 | B84: 0.027375089 | C84: 0.017 | D84: 0.025287133 | E84: =SUM(F84:G84) -> 245439 | F84: =TRUNC(F73*$B$18) -> 0 | G84: =TRUNC(G73*$B$18) -> 245439 | H84: =SUM(I84:J84) -> 4778838 | I84: =TRUNC(I73*$B$18) -> 0 | J84: =TRUNC(J73*$B$18) -> 4778838 | K84: =SUM(L84:M84) -> 4533399 | L84: =I84-F84 -> 0 | M84: =J84-G84 -> 4533399
A85: 노인장기요양보험료 | B85: 0.0655 | C85: 0.0655 | D85: 0.0655 | E85: =SUM(F85:G85) -> 16076 | F85: =TRUNC(F84*$B$19) -> 0 | G85: =TRUNC(G84*$B$19) -> 16076 | H85: =SUM(I85:J85) -> 313013 | I85: =TRUNC(I84*$B$19) -> 0 | J85: =TRUNC(J84*$B$19) -> 313013 | K85: =SUM(L85:M85) -> 296937 | L85: =I85-F85 -> 0 | M85: =J85-G85 -> 296937
A86: 국민연금보험료 | B86: 0.040096434 | C86: 0.0249 | D86: 0.0370386 | E86: =SUM(F86:G86) -> 359496 | F86: =TRUNC(F73*$B$20) -> 0 | G86: =TRUNC(G73*$B$20) -> 359496 | H86: =SUM(I86:J86) -> 6999588 | I86: =TRUNC(I73*$B$20) -> 0 | J86: =TRUNC(J73*$B$20) -> 6999588 | K86: =SUM(L86:M86) -> 6640092 | L86: =I86-F86 -> 0 | M86: =J86-G86 -> 6640092
A87: 이행수수료기초액 | E87: =SUM(F87:G87) -> 0 | F87: =TRUNC((F71+F73+F78)*$B$21) -> 0 | G87: =TRUNC((G71+G73+G78)*$B$21) -> 0 | H87: =SUM(I87:J87) -> 0 | I87: =TRUNC((I71+I73+I78)*$B$21) -> 0 | J87: =TRUNC((J71+J73+J78)*$B$21) -> 0 | K87: =SUM(L87:M87) -> 0 | L87: =I87-F87 -> 0 | M87: =J87-G87 -> 0
A88: 이행수수료 | B88: 0.00018274923 | C88: 0.00018 | D88: 0.00021478596 | E88: =SUM(F88:G88) -> 256 | F88: =TRUNC((F72+F74+F79)*$B$22) -> 0 | G88: =TRUNC((G72+G74+G79)*$B$22) -> 256 | H88: =SUM(I88:J88) -> 5113 | I88: =TRUNC((I72+I74+I79)*$B$22) -> 0 | J88: =TRUNC((J72+J74+J79)*$B$22) -> 5113 | K88: =SUM(L88:M88) -> 4857 | L88: =I88-F88 -> 0 | M88: =J88-G88 -> 4857
A89: 하도급지급수수료 | B89: 0.00058 | C89: 0.00058 | D89: 0.00055172618 | E89: =SUM(F89:G89) -> 13839 | F89: =TRUNC((F71+F73+F78)*$B$23) -> 0 | G89: =TRUNC((G71+G73+G78)*$B$23) -> 13839 | H89: =SUM(I89:J89) -> 171413 | I89: =TRUNC((I71+I73+I78)*$B$23) -> 0 | J89: =TRUNC((J71+J73+J78)*$B$23) -> 171413 | K89: =SUM(L89:M89) -> 157574 | L89: =I89-F89 -> 0 | M89: =J89-G89 -> 157574
A90: 소 계 | E90: =SUM(F90:G90) -> 14499918 | F90: =SUM(F78:F89) -> 0 | G90: =SUM(G78:G89) -> 14499918 | H90: =SUM(I90:J90) -> 100605871 | I90: =SUM(I78:I89) -> 0 | J90: =SUM(J78:J89) -> 100605871 | K90: =SUM(L90:M90) -> 86105953 | L90: =SUM(L78:L89) -> 0 | M90: =SUM(M78:M89) -> 86105953
B91: 0.039443238
A92: 4. 일반관리비 | B92: 0.033108814 | C92: 0.035 | D92: 0.03318431 | E92: =SUM(F92:G92) -> 890304 | F92: =TRUNC((F71+F75+F90)*$B$26) -> 0 | G92: =TRUNC((G71+G75+G90)*$B$26) -> 890304 | H92: =SUM(I92:J92) -> 11765040 | I92: =TRUNC((I71+I75+I90)*$B$26) -> 0 | J92: =TRUNC((J71+J75+J90)*$B$26) -> 11765040 | K92: =SUM(L92:M92) -> 10874736 | L92: =I92-F92 -> 0 | M92: =J92-G92 -> 10874736
A93: 5. 이윤 | B93: 6.4834085e-07 | C93: 0.09 | D93: 0 | E93: =SUM(F93:G93) -> 0 | F93: =TRUNC((F75+F90+F92)*$B$27) -> 0 | H93: =SUM(I93:J93) -> 0 | I93: =TRUNC((I75+I90+I92)*$B$27) -> 0 | K93: =SUM(L93:M93) -> 0 | L93: =I93-F93 -> 0 | M93: =J93-G93 -> 0
A94: 6. 부가가치세
A95: 면세 | B95: 0.9762 | C95: 0.1 | D95: 0.1 | E95: =SUM(F95:G95) -> 259000 | G95: =TRUNC((G71)*0.1*$B$29,-3) -> 259000 | H95: =SUM(I95:J95) -> 6394000 | J95: =TRUNC((J71)*0.1*$B$29,-3) -> 6394000 | K95: =SUM(L95:M95) -> 6135000 | L95: =I95-F95 -> 0 | M95: =J95-G95 -> 6135000
A96: 과세 | B96: 0.0238 | C96: 0.1 | D96: 0.1 | E96: =SUM(F96:G96) -> 33000 | F96: =TRUNC((F71+F75+F90+F92+F93)*0.1,-3) -> 0 | G96: =TRUNC((G71+G75+G90+G92+G93)*0.1*$B$30,-3) -> 33000 | H96: =SUM(I96:J96) -> 440000 | I96: =TRUNC((I71+I75+I90+I92+I93)*0.1) -> 0 | J96: =TRUNC((J71+J75+J90+J92+J93)*0.1*$B$30,-3) -> 440000 | K96: =SUM(L96:M96) -> 407000 | L96: =I96-F96 -> 0 | M96: =J96-G96 -> 407000
A97: 소 계 | E97: =SUM(F97:G97) -> 292000 | F97: =SUM(F95:F96) -> 0 | G97: =SUM(G95:G96) -> 292000 | H97: =SUM(I97:J97) -> 6834000 | I97: =SUM(I95:I96) -> 0 | J97: =SUM(J95:J96) -> 6834000 | K97: =SUM(L97:M97) -> 6542000 | L97: =SUM(L95:L96) -> 0 | M97: =SUM(M95:M96) -> 6542000
A99: 총 계 | E99: =F99+G99 -> 28072574 | F99: =F71+F75+F90+F92+F93+F97 -> 0 | G99: =G71+G75+G90+G92+G93+G97 -> 28072574 | H99: =I99+J99 -> 373943700 | I99: =I71+I75+I90+I92+I93+I97 -> 0 | J99: =J71+J75+J90+J92+J93+J97 -> 373943700 | K99: =L99+M99 -> 345871126 | L99: =L71+L75+L90+L92+L93+L97 -> 0 | M99: =M71+M75+M90+M92+M93+M97 -> 345871126

Sheet 설변내역서(낙찰율)
B1: 공 사 비 내 역 서(낙찰율)
B2: [공사명] 상주무양 B1블록 아파트 건설공사 2공구
A3: 일위대가 | B3: 명 칭 | C3: 규 격 | D3: 단위 | E3: 단 가 | I3: 변경전금액 | N3: 변경후금액 | S3: 증 감 | X3: 비고
E4: 자재비 | F4: 노무비 | G4: 경비 | H4: 계 | I4: 수량 | J4: 자재비 | K4: 노무비 | L4: 경비 | M4: 계 | N4: 수량 | O4: 자재비 | P4: 노무비 | Q4: 경비 | R4: 계 | S4: 수량 | T4: 자재비 | U4: 노무비 | V4: 경비 | W4: 계
B5: 2) 단지토목(구조물)공사
A6: UCA68228 | B6: 1.구조물터파기공사
A7: UCL02200 | B7: 쉬트파일박기 | C7: 7.56M | D7: 본 | E7: 4737 | F7: 16139 | G7: 22079 | H7: =SUM(E7:G7) -> 42955 | I7: 246 | J7: =INT(I7*E7) -> 1165302 | K7: =INT(I7*F7) -> 3970194 | L7: =INT(I7*G7) -> 5431434 | M7: =SUM(J7:L7) -> 10566930 | O7: =INT(N7*E7) -> 0 | P7: =INT(N7*F7) -> 0 | Q7: =INT(N7*G7) -> 0 | R7: =SUM(O7:Q7) -> 0 | S7: =N7-I7 -> -246 | T7: =O7-J7 -> -1165302 | U7: =P7-K7 -> -3970194 | V7: =Q7-L7 -> -5431434 | W7: =SUM(T7:V7) -> -10566930
A8: UCL02200 | B8: 쉬트파일박기 | C8: 8M | D8: 본 | E8: 4952 | F8: 16877 | G8: 23083 | H8: =SUM(E8:G8) -> 44912 | I8: 296 | J8: =INT(I8*E8) -> 1465792 | K8: =INT(I8*F8) -> 4995592 | L8: =INT(I8*G8) -> 6832568 | M8: =SUM(J8:L8) -> 13293952 | O8: =INT(N8*E8) -> 0 | P8: =INT(N8*F8) -> 0 | Q8: =INT(N8*G8) -> 0 | R8: =SUM(O8:Q8) -> 0 | S8: =N8-I8 -> -296 | T8: =O8-J8 -> -1465792 | U8: =P8-K8 -> -4995592 | V8: =Q8-L8 -> -6832568 | W8: =SUM(T8:V8) -> -13293952
A9: UCL02200 | B9: 쉬트파일천공(지하저수조) | C9: 자갈질모래+풍화토:7.13m | D9: m | E9: =적용단가!N17 -> 4063 | F9: =적용단가!N18 -> 19088 | G9: =적용단가!N19 -> 5822 | H9: =SUM(E9:G9) -> 28973 | J9: =INT(I9*E9) -> 0 | K9: =INT(I9*F9) -> 0 | L9: =INT(I9*G9) -> 0 | M9: =SUM(J9:L9) -> 0 | N9: 2110.48 | O9: =INT(N9*E9) -> 8574880 | P9: =INT(N9*F9) -> 40284842 | Q9: =INT(N9*G9) -> 12287214 | R9: =SUM(O9:Q9) -> 61146936 | S9: =N9-I9 -> 2110.48 | T9: =O9-J9 -> 8574880 | U9: =P9-K9 -> 40284842 | V9: =Q9-L9 -> 12287214 | W9: =SUM(T9:V9) -> 61146936
A10: UCL02200 | B10: 쉬트파일천공(지하저수조) | C10: 풍화암:0.87m | D10: m | E10: =적용단가!N21 -> 18435 | F10: =적용단가!N22 -> 97869 | G10: =적용단가!N23 -> 30011 | H10: =SUM(E10:G10) -> 146315 | J10: =INT(I10*E10) -> 0 | K10: =INT(I10*F10) -> 0 | L10: =INT(I10*G10) -> 0 | M10: =SUM(J10:L10) -> 0 | N10: 257.52 | O10: =INT(N10*E10) -> 4747381 | P10: =INT(N10*F10) -> 25203224 | Q10: =INT(N10*G10) -> 7728432 | R10: =SUM(O10:Q10) -> 37679037 | S10: =N10-I10 -> 257.52 | T10: =O10-J10 -> 4747381 | U10: =P10-K10 -> 25203224 | V10: =Q10-L10 -> 7728432 | W10: =SUM(T10:V10) -> 37679037
A11: UCL02200 | B11: 쉬트파일천공(발전기실) | C11: 자갈질모래+풍화토:7.6m | D11: m | E11: =적용단가!N25 -> 4063 | F11: =적용단가!N26 -> 19088 | G11: =적용단가!N27 -> 5822 | H11: =SUM(E11:G11) -> 28973 | J11: =INT(I11*E11) -> 0 | K11: =INT(I11*F11) -> 0 | L11: =INT(I11*G11) -> 0 | M11: =SUM(J11:L11) -> 0 | N11: 1859.76 | O11: =INT(N11*E11) -> 7556204 | P11: =INT(N11*F11) -> 35499098 | Q11: =INT(N11*G11) -> 10827522 | R11: =SUM(O11:Q11) -> 53882824 | S11: =N11-I11 -> 1859.76 | T11: =O11-J11 -> 7556204 | U11: =P11-K11 -> 35499098 | V11: =Q11-L11 -> 10827522 | W11: =SUM(T11:V11) -> 53882824
A12: UCL02200 | B12: 케이싱설치및철거 | C12: ∮403mm | D12: m | E12: =적용단가!N29 -> 3793 | F12: =적용단가!N30 -> 2168 | G12: =적용단가!N31 -> 26 | H12: =SUM(E12:G12) -> 5987 | J12: =INT(I12*E12) -> 0 | K12: =INT(I12*F12) -> 0 | L12: =INT(I12*G12) -> 0 | M12: =SUM(J12:L12) -> 0 | N12: 422.76 | O12: =INT(N12*E12) -> 1603528 | P12: =INT(N12*F12) -> 916543 | Q12: =INT(N12*G12) -> 10991 | R12: =SUM(O12:Q12) -> 2531062 | S12: =N12-I12 -> 422.76 | T12: =O12-J12 -> 1603528 | U12: =P12-K12 -> 916543 | V12: =Q12-L12 -> 10991 | W12: =SUM(T12:V12) -> 2531062
A13: UCL02200 | B13: 쉬트파일항타 | C13: 7.56M | D13: 본 | E13: =적용단가!N9 -> 15872 | F13: =적용단가!N10 -> 27796 | G13: =적용단가!N11 -> 23057 | H13: =SUM(E13:G13) -> 66725 | J13: =INT(I13*E13) -> 0 | K13: =INT(I13*F13) -> 0 | L13: =INT(I13*G13) -> 0 | M13: =SUM(J13:L13) -> 0 | N13: 246 | O13: =INT(N13*E13) -> 3904512 | P13: =INT(N13*F13) -> 6837816 | Q13: =INT(N13*G13) -> 5672022 | R13: =SUM(O13:Q13) -> 16414350 | S13: =N13-I13 -> 246 | T13: =O13-J13 -> 3904512 | U13: =P13-K13 -> 6837816 | V13: =Q13-L13 -> 5672022 | W13: =SUM(T13:V13) -> 16414350
A14: UCL02200 | B14: 쉬트파일항타 | C14: 8M | D14: 본 | E14: =적용단가!N13 -> 16615 | F14: =적용단가!N14 -> 29102 | G14: =적용단가!N15 -> 22063 | H14: =SUM(E14:G14) -> 67780 | J14: =INT(I14*E14) -> 0 | K14: =INT(I14*F14) -> 0 | L14: =INT(I14*G14) -> 0 | M14: =SUM(J14:L14) -> 0 | N14: 296 | O14: =INT(N14*E14) -> 4918040 | P14: =INT(N14*F14) -> 8614192 | Q14: =INT(N14*G14) -> 6530648 | R14: =SUM(O14:Q14) -> 20062880 | S14: =N14-I14 -> 296 | T14: =O14-J14 -> 4918040 | U14: =P14-K14 -> 8614192 | V14: =Q14-L14 -> 6530648 | W14: =SUM(T14:V14) -> 20062880
A15: UCL02200 | B15: 쉬트파일지수제도포 | C15: DSP-1000 | D15: M | E15: =적용단가!N33 -> 3767 | F15: =적용단가!N34 -> 2501 | G15: =적용단가!N35 -> 191 | H15: =SUM(E15:G15) -> 6459 | J15: =INT(I15*E15) -> 0 | K15: =INT(I15*F15) -> 0 | L15: =INT(I15*G15) -> 0 | M15: =SUM(J15:L15) -> 0 | N15: 4227.76 | O15: =INT(N15*E15) -> 15925971 | P15: =INT(N15*F15) -> 10573627 | Q15: =INT(N15*G15) -> 807502 | R15: =SUM(O15:Q15) -> 27307100 | S15: =N15-I15 -> 4227.76 | T15: =O15-J15 -> 15925971 | U15: =P15-K15 -> 10573627 | V15: =Q15-L15 -> 807502 | W15: =SUM(T15:V15) -> 27307100
A16: UCL02200 | H16: =SUM(E16:G16) -> 0 | J16: =INT(I16*E16) -> 0 | K16: =INT(I16*F16) -> 0 | L16: =INT(I16*G16) -> 0 | M16: =SUM(J16:L16) -> 0 | O16: =INT(N16*E16) -> 0 | P16: =INT(N16*F16) -> 0 | Q16: =INT(N16*G16) -> 0 | R16: =SUM(O16:Q16) -> 0 | S16: =N16-I16 -> 0 | T16: =O16-J16 -> 0 | U16: =P16-K16 -> 0 | V16: =Q16-L16 -> 0 | W16: =SUM(T16:V16) -> 0
A17: UCL02200 | H17: =SUM(E17:G17) -> 0 | J17: =INT(I17*E17) -> 0 | K17: =INT(I17*F17) -> 0 | L17: =INT(I17*G17) -> 0 | M17: =SUM(J17:L17) -> 0 | O17: =INT(N17*E17) -> 0 | P17: =INT(N17*F17) -> 0 | Q17: =INT(N17*G17) -> 0 | R17: =SUM(O17:Q17) -> 0 | S17: =N17-I17 -> 0 | T17: =O17-J17 -> 0 | U17: =P17-K17 -> 0 | V17: =Q17-L17 -> 0 | W17: =SUM(T17:V17) -> 0
A18: UCL02200 | H18: =SUM(E18:G18) -> 0 | J18: =INT(I18*E18) -> 0 | K18: =INT(I18*F18) -> 0 | L18: =INT(I18*G18) -> 0 | M18: =SUM(J18:L18) -> 0 | O18: =INT(N18*E18) -> 0 | P18: =INT(N18*F18) -> 0 | Q18: =INT(N18*G18) -> 0 | R18: =SUM(O18:Q18) -> 0 | S18: =N18-I18 -> 0 | T18: =O18-J18 -> 0 | U18: =P18-K18 -> 0 | V18: =Q18-L18 -> 0 | W18: =SUM(T18:V18) -> 0
A19: UCL02200 | H19: =SUM(E19:G19) -> 0 | J19: =INT(I19*E19) -> 0 | K19: =INT(I19*F19) -> 0 | L19: =INT(I19*G19) -> 0 | M19: =SUM(J19:L19) -> 0 | O19: =INT(N19*E19) -> 0 | P19: =INT(N19*F19) -> 0 | Q19: =INT(N19*G19) -> 0 | R19: =SUM(O19:Q19) -> 0 | S19: =N19-I19 -> 0 | T19: =O19-J19 -> 0 | U19: =P19-K19 -> 0 | V19: =Q19-L19 -> 0 | W19: =SUM(T19:V19) -> 0
A20: UCL02200 | H20: =SUM(E20:G20) -> 0 | J20: =INT(I20*E20) -> 0 | K20: =INT(I20*F20) -> 0 | L20: =INT(I20*G20) -> 0 | M20: =SUM(J20:L20) -> 0 | O20: =INT(N20*E20) -> 0 | P20: =INT(N20*F20) -> 0 | Q20: =INT(N20*G20) -> 0 | R20: =SUM(O20:Q20) -> 0 | S20: =N20-I20 -> 0 | T20: =O20-J20 -> 0 | U20: =P20-K20 -> 0 | V20: =Q20-L20 -> 0 | W20: =SUM(T20:V20) -> 0
A21: UCL02200 | H21: =SUM(E21:G21) -> 0 | J21: =INT(I21*E21) -> 0 | K21: =INT(I21*F21) -> 0 | L21: =INT(I21*G21) -> 0 | M21: =SUM(J21:L21) -> 0 | O21: =INT(N21*E21) -> 0 | P21: =INT(N21*F21) -> 0 | Q21: =INT(N21*G21) -> 0 | R21: =SUM(O21:Q21) -> 0 | S21: =N21-I21 -> 0 | T21: =O21-J21 -> 0 | U21: =P21-K21 -> 0 | V21: =Q21-L21 -> 0 | W21: =SUM(T21:V21) -> 0
A22: UCL02200 | H22: =SUM(E22:G22) -> 0 | J22: =INT(I22*E22) -> 0 | K22: =INT(I22*F22) -> 0 | L22: =INT(I22*G22) -> 0 | M22: =SUM(J22:L22) -> 0 | O22: =INT(N22*E22) -> 0 | P22: =INT(N22*F22) -> 0 | Q22: =INT(N22*G22) -> 0 | R22: =SUM(O22:Q22) -> 0 | S22: =N22-I22 -> 0 | T22: =O22-J22 -> 0 | U22: =P22-K22 -> 0 | V22: =Q22-L22 -> 0 | W22: =SUM(T22:V22) -> 0
A23: UCL02200 | H23: =SUM(E23:G23) -> 0 | J23: =INT(I23*E23) -> 0 | K23: =INT(I23*F23) -> 0 | L23: =INT(I23*G23) -> 0 | M23: =SUM(J23:L23) -> 0 | O23: =INT(N23*E23) -> 0 | P23: =INT(N23*F23) -> 0 | Q23: =INT(N23*G23) -> 0 | R23: =SUM(O23:Q23) -> 0 | S23: =N23-I23 -> 0 | T23: =O23-J23 -> 0 | U23: =P23-K23 -> 0 | V23: =Q23-L23 -> 0 | W23: =SUM(T23:V23) -> 0
B25: 합 계 | J25: =SUM(J7:J24) -> 2631094 | K25: =SUM(K7:K24) -> 8965786 | L25: =SUM(L7:L24) -> 12264002 | M25: =SUM(M7:M24) -> 23860882 | O25: =SUM(O7:O24) -> 47230516 | P25: =SUM(P7:P24) -> 127929342 | Q25: =SUM(Q7:Q24) -> 43864331 | R25: =SUM(R7:R24) -> 219024189 | T25: =SUM(T7:T24) -> 44599422 | U25: =SUM(U7:U24) -> 118963556 | V25: =SUM(V7:V24) -> 31600329 | W25: =SUM(W7:W24) -> 195163307

Sheet 설변내역서(85%)
B1: 공 사 비 내 역 서(85%적용)
B2: [공사명] 상주무양 B1블록 아파트 건설공사 2공구
A3: 일위대가 | B3: 명 칭 | C3: 규 격 | D3: 단위 | E3: 단 가 | I3: 변경전금액 | N3: 변경후금액 | S3: 증 감 | X3: 비고
E4: 자재비 | F4: 노무비 | G4: 경비 | H4: 계 | I4: 수량 | J4: 자재비 | K4: 노무비 | L4: 경비 | M4: 계 | N4: 수량 | O4: 자재비 | P4: 노무비 | Q4: 경비 | R4: 계 | S4: 수량 | T4: 자재비 | U4: 노무비 | V4: 경비 | W4: 계
B5: 2) 단지토목(구조물)공사
A6: UCA68228 | B6: 1.구조물터파기공사
A7: UCL02200 | B7: 쉬트파일박기 | C7: 7.56M | D7: 본 | E7: 4737 | F7: 16139 | G7: 22079 | H7: =SUM(E7:G7) -> 42955 | I7: 246 | J7: =INT(I7*E7) -> 1165302 | K7: =INT(I7*F7) -> 3970194 | L7: =INT(I7*G7) -> 5431434 | M7: =SUM(J7:L7) -> 10566930 | O7: =INT(N7*E7) -> 0 | P7: =INT(N7*F7) -> 0 | Q7: =INT(N7*G7) -> 0 | R7: =SUM(O7:Q7) -> 0 | S7: =N7-I7 -> -246 | T7: =O7-J7 -> -1165302 | U7: =P7-K7 -> -3970194 | V7: =Q7-L7 -> -5431434 | W7: =SUM(T7:V7) -> -10566930
A8: UCL02200 | B8: 쉬트파일박기 | C8: 8M | D8: 본 | E8: 4952 | F8: 16877 | G8: 23083 | H8: =SUM(E8:G8) -> 44912 | I8: 296 | J8: =INT(I8*E8) -> 1465792 | K8: =INT(I8*F8) -> 4995592 | L8: =INT(I8*G8) -> 6832568 | M8: =SUM(J8:L8) -> 13293952 | O8: =INT(N8*E8) -> 0 | P8: =INT(N8*F8) -> 0 | Q8: =INT(N8*G8) -> 0 | R8: =SUM(O8:Q8) -> 0 | S8: =N8-I8 -> -296 | T8: =O8-J8 -> -1465792 | U8: =P8-K8 -> -4995592 | V8: =Q8-L8 -> -6832568 | W8: =SUM(T8:V8) -> -13293952
A9: UCL02200 | B9: 쉬트파일천공(지하저수조) | C9: 자갈질모래+풍화토:7.13m | D9: m | E9: =적용단가!O17 -> 4808 | F9: =적용단가!O18 -> 22585 | G9: =적용단가!O19 -> 6889 | H9: =SUM(E9:G9) -> 34282 | J9: =INT(I9*E9) -> 0 | K9: =INT(I9*F9) -> 0 | L9: =INT(I9*G9) -> 0 | M9: =SUM(J9:L9) -> 0 | N9: 2110.48 | O9: =INT(N9*E9) -> 10147187 | P9: =INT(N9*F9) -> 47665190 | Q9: =INT(N9*G9) -> 14539096 | R9: =SUM(O9:Q9) -> 72351473 | S9: =N9-I9 -> 2110.48 | T9: =O9-J9 -> 10147187 | U9: =P9-K9 -> 47665190 | V9: =Q9-L9 -> 14539096 | W9: =SUM(T9:V9) -> 72351473
A10: UCL02200 | B10: 쉬트파일천공(지하저수조) | C10: 풍화암:0.87m | D10: m | E10: =적용단가!O21 -> 21813 | F10: =적용단가!O22 -> 115802 | G10: =적용단가!O23 -> 35511 | H10: =SUM(E10:G10) -> 173126 | J10: =INT(I10*E10) -> 0 | K10: =INT(I10*F10) -> 0 | L10: =INT(I10*G10) -> 0 | M10: =SUM(J10:L10) -> 0 | N10: 257.52 | O10: =INT(N10*E10) -> 5617283 | P10: =INT(N10*F10) -> 29821331 | Q10: =INT(N10*G10) -> 9144792 | R10: =SUM(O10:Q10) -> 44583406 | S10: =N10-I10 -> 257.52 | T10: =O10-J10 -> 5617283 | U10: =P10-K10 -> 29821331 | V10: =Q10-L10 -> 9144792 | W10: =SUM(T10:V10) -> 44583406
A11: UCL02200 | B11: 쉬트파일천공(발전기실) | C11: 자갈질모래+풍화토:7.6m | D11: m | E11: =적용단가!O25 -> 4808 | F11: =적용단가!O26 -> 22585 | G11: =적용단가!O27 -> 6889 | H11: =SUM(E11:G11) -> 34282 | J11: =INT(I11*E11) -> 0 | K11: =INT(I11*F11) -> 0 | L11: =INT(I11*G11) -> 0 | M11: =SUM(J11:L11) -> 0 | N11: 1859.76 | O11: =INT(N11*E11) -> 8941726 | P11: =INT(N11*F11) -> 42002679 | Q11: =INT(N11*G11) -> 12811886 | R11: =SUM(O11:Q11) -> 63756291 | S11: =N11-I11 -> 1859.76 | T11: =O11-J11 -> 8941726 | U11: =P11-K11 -> 42002679 | V11: =Q11-L11 -> 12811886 | W11: =SUM(T11:V11) -> 63756291
A12: UCL02200 | B12: 케이싱설치및철거 | C12: ∮403mm | D12: m | E12: =적용단가!O29 -> 4488 | F12: =적용단가!O30 -> 2565 | G12: =적용단가!O31 -> 31 | H12: =SUM(E12:G12) -> 7084 | J12: =INT(I12*E12) -> 0 | K12: =INT(I12*F12) -> 0 | L12: =INT(I12*G12) -> 0 | M12: =SUM(J12:L12) -> 0 | N12: 422.76 | O12: =INT(N12*E12) -> 1897346 | P12: =INT(N12*F12) -> 1084379 | Q12: =INT(N12*G12) -> 13105 | R12: =SUM(O12:Q12) -> 2994830 | S12: =N12-I12 -> 422.76 | T12: =O12-J12 -> 1897346 | U12: =P12-K12 -> 1084379 | V12: =Q12-L12 -> 13105 | W12: =SUM(T12:V12) -> 2994830
A13: UCL02200 | B13: 쉬트파일항타 | C13: 7.56M | D13: 본 | E13: =적용단가!O9 -> 17912 | F13: =적용단가!O10 -> 29932 | G13: =적용단가!O11 -> 23237 | H13: =SUM(E13:G13) -> 71081 | J13: =INT(I13*E13) -> 0 | K13: =INT(I13*F13) -> 0 | L13: =INT(I13*G13) -> 0 | M13: =SUM(J13:L13) -> 0 | N13: 246 | O13: =INT(N13*E13) -> 4406352 | P13: =INT(N13*F13) -> 7363272 | Q13: =INT(N13*G13) -> 5716302 | R13: =SUM(O13:Q13) -> 17485926 | S13: =N13-I13 -> 246 | T13: =O13-J13 -> 4406352 | U13: =P13-K13 -> 7363272 | V13: =Q13-L13 -> 5716302 | W13: =SUM(T13:V13) -> 17485926
A14: UCL02200 | B14: 쉬트파일항타 | C14: 8M | D14: 본 | E14: =적용단가!O13 -> 18752 | F14: =적용단가!O14 -> 31342 | G14: =적용단가!O15 -> 21876 | H14: =SUM(E14:G14) -> 71970 | J14: =INT(I14*E14) -> 0 | K14: =INT(I14*F14) -> 0 | L14: =INT(I14*G14) -> 0 | M14: =SUM(J14:L14) -> 0 | N14: 296 | O14: =INT(N14*E14) -> 5550592 | P14: =INT(N14*F14) -> 9277232 | Q14: =INT(N14*G14) -> 6475296 | R14: =SUM(O14:Q14) -> 21303120 | S14: =N14-I14 -> 296 | T14: =O14-J14 -> 5550592 | U14: =P14-K14 -> 9277232 | V14: =Q14-L14 -> 6475296 | W14: =SUM(T14:V14) -> 21303120
A15: UCL02200 | B15: 쉬트파일지수제도포 | C15: DSP-1000 | D15: M | E15: =적용단가!O33 -> 4458 | F15: =적용단가!O34 -> 2959 | G15: =적용단가!O35 -> 226 | H15: =SUM(E15:G15) -> 7643 | J15: =INT(I15*E15) -> 0 | K15: =INT(I15*F15) -> 0 | L15: =INT(I15*G15) -> 0 | M15: =SUM(J15:L15) -> 0 | N15: 4227.76 | O15: =INT(N15*E15) -> 18847354 | P15: =INT(N15*F15) -> 12509941 | Q15: =INT(N15*G15) -> 955473 | R15: =SUM(O15:Q15) -> 32312768 | S15: =N15-I15 -> 4227.76 | T15: =O15-J15 -> 18847354 | U15: =P15-K15 -> 12509941 | V15: =Q15-L15 -> 955473 | W15: =SUM(T15:V15) -> 32312768
A16: UCL02200 | H16: =SUM(E16:G16) -> 0 | J16: =INT(I16*E16) -> 0 | K16: =INT(I16*F16) -> 0 | L16: =INT(I16*G16) -> 0 | M16: =SUM(J16:L16) -> 0 | O16: =INT(N16*E16) -> 0 | P16: =INT(N16*F16) -> 0 | Q16: =INT(N16*G16) -> 0 | R16: =SUM(O16:Q16) -> 0 | S16: =N16-I16 -> 0 | T16: =O16-J16 -> 0 | U16: =P16-K16 -> 0 | V16: =Q16-L16 -> 0 | W16: =SUM(T16:V16) -> 0
A17: UCL02200 | H17: =SUM(E17:G17) -> 0 | J17: =INT(I17*E17) -> 0 | K17: =INT(I17*F17) -> 0 | L17: =INT(I17*G17) -> 0 | M17: =SUM(J17:L17) -> 0 | O17: =INT(N17*E17) -> 0 | P17: =INT(N17*F17) -> 0 | Q17: =INT(N17*G17) -> 0 | R17: =SUM(O17:Q17) -> 0 | S17: =N17-I17 -> 0 | T17: =O17-J17 -> 0 | U17: =P17-K17 -> 0 | V17: =Q17-L17 -> 0 | W17: =SUM(T17:V17) -> 0
A18: UCL02200 | H18: =SUM(E18:G18) -> 0 | J18: =INT(I18*E18) -> 0 | K18: =INT(I18*F18) -> 0 | L18: =INT(I18*G18) -> 0 | M18: =SUM(J18:L18) -> 0 | O18: =INT(N18*E18) -> 0 | P18: =INT(N18*F18) -> 0 | Q18: =INT(N18*G18) -> 0 | R18: =SUM(O18:Q18) -> 0 | S18: =N18-I18 -> 0 | T18: =O18-J18 -> 0 | U18: =P18-K18 -> 0 | V18: =Q18-L18 -> 0 | W18: =SUM(T18:V18) -> 0
A19: UCL02200 | H19: =SUM(E19:G19) -> 0 | J19: =INT(I19*E19) -> 0 | K19: =INT(I19*F19) -> 0 | L19: =INT(I19*G19) -> 0 | M19: =SUM(J19:L19) -> 0 | O19: =INT(N19*E19) -> 0 | P19: =INT(N19*F19) -> 0 | Q19: =INT(N19*G19) -> 0 | R19: =SUM(O19:Q19) -> 0 | S19: =N19-I19 -> 0 | T19: =O19-J19 -> 0 | U19: =P19-K19 -> 0 | V19: =Q19-L19 -> 0 | W19: =SUM(T19:V19) -> 0
A20: UCL02200 | H20: =SUM(E20:G20) -> 0 | J20: =INT(I20*E20) -> 0 | K20: =INT(I20*F20) -> 0 | L20: =INT(I20*G20) -> 0 | M20: =SUM(J20:L20) -> 0 | O20: =INT(N20*E20) -> 0 | P20: =INT(N20*F20) -> 0 | Q20: =INT(N20*G20) -> 0 | R20: =SUM(O20:Q20) -> 0 | S20: =N20-I20 -> 0 | T20: =O20-J20 -> 0 | U20: =P20-K20 -> 0 | V20: =Q20-L20 -> 0 | W20: =SUM(T20:V20) -> 0
A21: UCL02200 | H21: =SUM(E21:G21) -> 0 | J21: =INT(I21*E21) -> 0 | K21: =INT(I21*F21) -> 0 | L21: =INT(I21*G21) -> 0 | M21: =SUM(J21:L21) -> 0 | O21: =INT(N21*E21) -> 0 | P21: =INT(N21*F21) -> 0 | Q21: =INT(N21*G21) -> 0 | R21: =SUM(O21:Q21) -> 0 | S21: =N21-I21 -> 0 | T21: =O21-J21 -> 0 | U21: =P21-K21 -> 0 | V21: =Q21-L21 -> 0 | W21: =SUM(T21:V21) -> 0
A22: UCL02200 | H22: =SUM(E22:G22) -> 0 | J22: =INT(I22*E22) -> 0 | K22: =INT(I22*F22) -> 0 | L22: =INT(I22*G22) -> 0 | M22: =SUM(J22:L22) -> 0 | O22: =INT(N22*E22) -> 0 | P22: =INT(N22*F22) -> 0 | Q22: =INT(N22*G22) -> 0 | R22: =SUM(O22:Q22) -> 0 | S22: =N22-I22 -> 0 | T22: =O22-J22 -> 0 | U22: =P22-K22 -> 0 | V22: =Q22-L22 -> 0 | W22: =SUM(T22:V22) -> 0
A23: UCL02200 | H23: =SUM(E23:G23) -> 0 | J23: =INT(I23*E23) -> 0 | K23: =INT(I23*F23) -> 0 | L23: =INT(I23*G23) -> 0 | M23: =SUM(J23:L23) -> 0 | O23: =INT(N23*E23) -> 0 | P23: =INT(N23*F23) -> 0 | Q23: =INT(N23*G23) -> 0 | R23: =SUM(O23:Q23) -> 0 | S23: =N23-I23 -> 0 | T23: =O23-J23 -> 0 | U23: =P23-K23 -> 0 | V23: =Q23-L23 -> 0 | W23: =SUM(T23:V23) -> 0
B25: 합 계 | J25: =SUM(J7:J24) -> 2631094 | K25: =SUM(K7:K24) -> 8965786 | L25: =SUM(L7:L24) -> 12264002 | M25: =SUM(M7:M24) -> 23860882 | O25: =SUM(O7:O24) -> 55407840 | P25: =SUM(P7:P24) -> 149724024 | Q25: =SUM(Q7:Q24) -> 49655950 | R25: =SUM(R7:R24) -> 254787814 | T25: =SUM(T7:T24) -> 52776746 | U25: =SUM(U7:U24) -> 140758238 | V25: =SUM(V7:V24) -> 37391948 | W25: =SUM(W7:W24) -> 230926932

Sheet 설변내역서(100%))
B1: 공 사 비 내 역 서(85%적용)
B2: [공사명] 상주무양 B1블록 아파트 건설공사 2공구
A3: 일위대가 | B3: 명 칭 | C3: 규 격 | D3: 단위 | E3: 단 가 | I3: 변경전금액 | N3: 변경후금액 | S3: 증 감 | X3: 비고
E4: 자재비 | F4: 노무비 | G4: 경비 | H4: 계 | I4: 수량 | J4: 자재비 | K4: 노무비 | L4: 경비 | M4: 계 | N4: 수량 | O4: 자재비 | P4: 노무비 | Q4: 경비 | R4: 계 | S4: 수량 | T4: 자재비 | U4: 노무비 | V4: 경비 | W4: 계
B5: 2) 단지토목(구조물)공사
A6: UCA68228 | B6: 1.구조물터파기공사
A7: UCL02200 | B7: 쉬트파일박기 | C7: 7.56M | D7: 본 | E7: 4737 | F7: 16139 | G7: 22079 | H7: =SUM(E7:G7) -> 42955 | I7: 246 | J7: =INT(I7*E7) -> 1165302 | K7: =INT(I7*F7) -> 3970194 | L7: =INT(I7*G7) -> 5431434 | M7: =SUM(J7:L7) -> 10566930 | O7: =INT(N7*E7) -> 0 | P7: =INT(N7*F7) -> 0 | Q7: =INT(N7*G7) -> 0 | R7: =SUM(O7:Q7) -> 0 | S7: =N7-I7 -> -246 | T7: =O7-J7 -> -1165302 | U7: =P7-K7 -> -3970194 | V7: =Q7-L7 -> -5431434 | W7: =SUM(T7:V7) -> -10566930
A8: UCL02200 | B8: 쉬트파일박기 | C8: 8M | D8: 본 | E8: 4952 | F8: 16877 | G8: 23083 | H8: =SUM(E8:G8) -> 44912 | I8: 296 | J8: =INT(I8*E8) -> 1465792 | K8: =INT(I8*F8) -> 4995592 | L8: =INT(I8*G8) -> 6832568 | M8: =SUM(J8:L8) -> 13293952 | O8: =INT(N8*E8) -> 0 | P8: =INT(N8*F8) -> 0 | Q8: =INT(N8*G8) -> 0 | R8: =SUM(O8:Q8) -> 0 | S8: =N8-I8 -> -296 | T8: =O8-J8 -> -1465792 | U8: =P8-K8 -> -4995592 | V8: =Q8-L8 -> -6832568 | W8: =SUM(T8:V8) -> -13293952
A9: UCL02200 | B9: 쉬트파일천공(지하저수조) | C9: 자갈질모래+풍화토:7.13m | D9: m | E9: =적용단가!P17 -> 5656 | F9: =적용단가!P18 -> 26571 | G9: =적용단가!P19 -> 8104 | H9: =SUM(E9:G9) -> 40331 | J9: =INT(I9*E9) -> 0 | K9: =INT(I9*F9) -> 0 | L9: =INT(I9*G9) -> 0 | M9: =SUM(J9:L9) -> 0 | N9: 2110.48 | O9: =INT(N9*E9) -> 11936874 | P9: =INT(N9*F9) -> 56077564 | Q9: =INT(N9*G9) -> 17103329 | R9: =SUM(O9:Q9) -> 85117767 | S9: =N9-I9 -> 2110.48 | T9: =O9-J9 -> 11936874 | U9: =P9-K9 -> 56077564 | V9: =Q9-L9 -> 17103329 | W9: =SUM(T9:V9) -> 85117767
A10: UCL02200 | B10: 쉬트파일천공(지하저수조) | C10: 풍화암:0.87m | D10: m | E10: =적용단가!P21 -> 25662 | F10: =적용단가!P22 -> 136238 | G10: =적용단가!P23 -> 41777 | H10: =SUM(E10:G10) -> 203677 | J10: =INT(I10*E10) -> 0 | K10: =INT(I10*F10) -> 0 | L10: =INT(I10*G10) -> 0 | M10: =SUM(J10:L10) -> 0 | N10: 257.52 | O10: =INT(N10*E10) -> 6608478 | P10: =INT(N10*F10) -> 35084009 | Q10: =INT(N10*G10) -> 10758413 | R10: =SUM(O10:Q10) -> 52450900 | S10: =N10-I10 -> 257.52 | T10: =O10-J10 -> 6608478 | U10: =P10-K10 -> 35084009 | V10: =Q10-L10 -> 10758413 | W10: =SUM(T10:V10) -> 52450900
A11: UCL02200 | B11: 쉬트파일천공(발전기실) | C11: 자갈질모래+풍화토:7.6m | D11: m | E11: =적용단가!P25 -> 5656 | F11: =적용단가!P26 -> 26571 | G11: =적용단가!P27 -> 8104 | H11: =SUM(E11:G11) -> 40331 | J11: =INT(I11*E11) -> 0 | K11: =INT(I11*F11) -> 0 | L11: =INT(I11*G11) -> 0 | M11: =SUM(J11:L11) -> 0 | N11: 1859.76 | O11: =INT(N11*E11) -> 10518802 | P11: =INT(N11*F11) -> 49415682 | Q11: =INT(N11*G11) -> 15071495 | R11: =SUM(O11:Q11) -> 75005979 | S11: =N11-I11 -> 1859.76 | T11: =O11-J11 -> 10518802 | U11: =P11-K11 -> 49415682 | V11: =Q11-L11 -> 15071495 | W11: =SUM(T11:V11) -> 75005979
A12: UCL02200 | B12: 케이싱설치및철거 | C12: ∮403mm | D12: m | E12: =적용단가!P29 -> 5280 | F12: =적용단가!P30 -> 3018 | G12: =적용단가!P31 -> 36 | H12: =SUM(E12:G12) -> 8334 | J12: =INT(I12*E12) -> 0 | K12: =INT(I12*F12) -> 0 | L12: =INT(I12*G12) -> 0 | M12: =SUM(J12:L12) -> 0 | N12: 422.76 | O12: =INT(N12*E12) -> 2232172 | P12: =INT(N12*F12) -> 1275889 | Q12: =INT(N12*G12) -> 15219 | R12: =SUM(O12:Q12) -> 3523280 | S12: =N12-I12 -> 422.76 | T12: =O12-J12 -> 2232172 | U12: =P12-K12 -> 1275889 | V12: =Q12-L12 -> 15219 | W12: =SUM(T12:V12) -> 3523280
A13: UCL02200 | B13: 쉬트파일항타 | C13: 7.56M | D13: 본 | E13: =적용단가!P9 -> 20237 | F13: =적용단가!P10 -> 32366 | G13: =적용단가!P11 -> 23441 | H13: =SUM(E13:G13) -> 76044 | J13: =INT(I13*E13) -> 0 | K13: =INT(I13*F13) -> 0 | L13: =INT(I13*G13) -> 0 | M13: =SUM(J13:L13) -> 0 | N13: 246 | O13: =INT(N13*E13) -> 4978302 | P13: =INT(N13*F13) -> 7962036 | Q13: =INT(N13*G13) -> 5766486 | R13: =SUM(O13:Q13) -> 18706824 | S13: =N13-I13 -> 246 | T13: =O13-J13 -> 4978302 | U13: =P13-K13 -> 7962036 | V13: =Q13-L13 -> 5766486 | W13: =SUM(T13:V13) -> 18706824
A14: UCL02200 | B14: 쉬트파일항타 | C14: 8M | D14: 본 | E14: =적용단가!P13 -> 21187 | F14: =적용단가!P14 -> 33894 | G14: =적용단가!P15 -> 21663 | H14: =SUM(E14:G14) -> 76744 | J14: =INT(I14*E14) -> 0 | K14: =INT(I14*F14) -> 0 | L14: =INT(I14*G14) -> 0 | M14: =SUM(J14:L14) -> 0 | N14: 296 | O14: =INT(N14*E14) -> 6271352 | P14: =INT(N14*F14) -> 10032624 | Q14: =INT(N14*G14) -> 6412248 | R14: =SUM(O14:Q14) -> 22716224 | S14: =N14-I14 -> 296 | T14: =O14-J14 -> 6271352 | U14: =P14-K14 -> 10032624 | V14: =Q14-L14 -> 6412248 | W14: =SUM(T14:V14) -> 22716224
A15: UCL02200 | B15: 쉬트파일지수제도포 | C15: DSP-1000 | D15: M | E15: =적용단가!P33 -> 5245 | F15: =적용단가!P34 -> 3482 | G15: =적용단가!P35 -> 266 | H15: =SUM(E15:G15) -> 8993 | J15: =INT(I15*E15) -> 0 | K15: =INT(I15*F15) -> 0 | L15: =INT(I15*G15) -> 0 | M15: =SUM(J15:L15) -> 0 | N15: 4227.76 | O15: =INT(N15*E15) -> 22174601 | P15: =INT(N15*F15) -> 14721060 | Q15: =INT(N15*G15) -> 1124584 | R15: =SUM(O15:Q15) -> 38020245 | S15: =N15-I15 -> 4227.76 | T15: =O15-J15 -> 22174601 | U15: =P15-K15 -> 14721060 | V15: =Q15-L15 -> 1124584 | W15: =SUM(T15:V15) -> 38020245
A16: UCL02200 | H16: =SUM(E16:G16) -> 0 | J16: =INT(I16*E16) -> 0 | K16: =INT(I16*F16) -> 0 | L16: =INT(I16*G16) -> 0 | M16: =SUM(J16:L16) -> 0 | O16: =INT(N16*E16) -> 0 | P16: =INT(N16*F16) -> 0 | Q16: =INT(N16*G16) -> 0 | R16: =SUM(O16:Q16) -> 0 | S16: =N16-I16 -> 0 | T16: =O16-J16 -> 0 | U16: =P16-K16 -> 0 | V16: =Q16-L16 -> 0 | W16: =SUM(T16:V16) -> 0
A17: UCL02200 | H17: =SUM(E17:G17) -> 0 | J17: =INT(I17*E17) -> 0 | K17: =INT(I17*F17) -> 0 | L17: =INT(I17*G17) -> 0 | M17: =SUM(J17:L17) -> 0 | O17: =INT(N17*E17) -> 0 | P17: =INT(N17*F17) -> 0 | Q17: =INT(N17*G17) -> 0 | R17: =SUM(O17:Q17) -> 0 | S17: =N17-I17 -> 0 | T17: =O17-J17 -> 0 | U17: =P17-K17 -> 0 | V17: =Q17-L17 -> 0 | W17: =SUM(T17:V17) -> 0
A18: UCL02200 | H18: =SUM(E18:G18) -> 0 | J18: =INT(I18*E18) -> 0 | K18: =INT(I18*F18) -> 0 | L18: =INT(I18*G18) -> 0 | M18: =SUM(J18:L18) -> 0 | O18: =INT(N18*E18) -> 0 | P18: =INT(N18*F18) -> 0 | Q18: =INT(N18*G18) -> 0 | R18: =SUM(O18:Q18) -> 0 | S18: =N18-I18 -> 0 | T18: =O18-J18 -> 0 | U18: =P18-K18 -> 0 | V18: =Q18-L18 -> 0 | W18: =SUM(T18:V18) -> 0
A19: UCL02200 | H19: =SUM(E19:G19) -> 0 | J19: =INT(I19*E19) -> 0 | K19: =INT(I19*F19) -> 0 | L19: =INT(I19*G19) -> 0 | M19: =SUM(J19:L19) -> 0 | O19: =INT(N19*E19) -> 0 | P19: =INT(N19*F19) -> 0 | Q19: =INT(N19*G19) -> 0 | R19: =SUM(O19:Q19) -> 0 | S19: =N19-I19 -> 0 | T19: =O19-J19 -> 0 | U19: =P19-K19 -> 0 | V19: =Q19-L19 -> 0 | W19: =SUM(T19:V19) -> 0
A20: UCL02200 | H20: =SUM(E20:G20) -> 0 | J20: =INT(I20*E20) -> 0 | K20: =INT(I20*F20) -> 0 | L20: =INT(I20*G20) -> 0 | M20: =SUM(J20:L20) -> 0 | O20: =INT(N20*E20) -> 0 | P20: =INT(N20*F20) -> 0 | Q20: =INT(N20*G20) -> 0 | R20: =SUM(O20:Q20) -> 0 | S20: =N20-I20 -> 0 | T20: =O20-J20 -> 0 | U20: =P20-K20 -> 0 | V20: =Q20-L20 -> 0 | W20: =SUM(T20:V20) -> 0
A21: UCL02200 | H21: =SUM(E21:G21) -> 0 | J21: =INT(I21*E21) -> 0 | K21: =INT(I21*F21) -> 0 | L21: =INT(I21*G21) -> 0 | M21: =SUM(J21:L21) -> 0 | O21: =INT(N21*E21) -> 0 | P21: =INT(N21*F21) -> 0 | Q21: =INT(N21*G21) -> 0 | R21: =SUM(O21:Q21) -> 0 | S21: =N21-I21 -> 0 | T21: =O21-J21 -> 0 | U21: =P21-K21 -> 0 | V21: =Q21-L21 -> 0 | W21: =SUM(T21:V21) -> 0
A22: UCL02200 | H22: =SUM(E22:G22) -> 0 | J22: =INT(I22*E22) -> 0 | K22: =INT(I22*F22) -> 0 | L22: =INT(I22*G22) -> 0 | M22: =SUM(J22:L22) -> 0 | O22: =INT(N22*E22) -> 0 | P22: =INT(N22*F22) -> 0 | Q22: =INT(N22*G22) -> 0 | R22: =SUM(O22:Q22) -> 0 | S22: =N22-I22 -> 0 | T22: =O22-J22 -> 0 | U22: =P22-K22 -> 0 | V22: =Q22-L22 -> 0 | W22: =SUM(T22:V22) -> 0
A23: UCL02200 | H23: =SUM(E23:G23) -> 0 | J23: =INT(I23*E23) -> 0 | K23: =INT(I23*F23) -> 0 | L23: =INT(I23*G23) -> 0 | M23: =SUM(J23:L23) -> 0 | O23: =INT(N23*E23) -> 0 | P23: =INT(N23*F23) -> 0 | Q23: =INT(N23*G23) -> 0 | R23: =SUM(O23:Q23) -> 0 | S23: =N23-I23 -> 0 | T23: =O23-J23 -> 0 | U23: =P23-K23 -> 0 | V23: =Q23-L23 -> 0 | W23: =SUM(T23:V23) -> 0
B25: 합 계 | J25: =SUM(J7:J24) -> 2631094 | K25: =SUM(K7:K24) -> 8965786 | L25: =SUM(L7:L24) -> 12264002 | M25: =SUM(M7:M24) -> 23860882 | O25: =SUM(O7:O24) -> 64720581 | P25: =SUM(P7:P24) -> 174568864 | Q25: =SUM(Q7:Q24) -> 56251774 | R25: =SUM(R7:R24) -> 295541219 | T25: =SUM(T7:T24) -> 62089487 | U25: =SUM(U7:U24) -> 165603078 | V25: =SUM(V7:V24) -> 43987772 | W25: =SUM(W7:W24) -> 271680337

Sheet 적용단가
A1: 적 용 단 가 표
Q2: 낙찰율 : | R2: 0.71837
A3: 순번 | B3: 원 설 계 | G3: 변경설계 | L3: 당초설계 | N3: 통보단가 | Q3: 적용단가 | R3: 비고
B4: 품 명 | C4: 규 격 | D4: 단위 | E4: 계약단가 | F4: 계약 시점 | G4: 품 명 | H4: 규 격 | I4: 단위 | J4: 변경비목 | K4: 설변 시점 | L4: 기존비목 | M4: 입찰 시점 | N4: 단가(1) A+(B-C) *낙찰율 | O4: 단가(2) A+(B-C) *85% | P4: 단가(3) A+(B-C) *100%
E5: 재료비 | J5: 재료비 | L5: 재료비 | Q5: 재료비
E6: 노무비 | J6: 노무비 | L6: 노무비 | Q6: 노무비
E7: 경 비 | J7: 경 비 | L7: 경 비 | Q7: 경 비
E8: 계(A) | J8: 계(B) | L8: 계(C) | Q8: 계
A9: 1 | B9: 쉬트파일박기 | C9: 7.56M | D9: 본 | E9: 4737 | F9: 2011.12 | G9: 쉬트파일항타 | H9: 7.56M | I9: 본 | J9: ='산출근거 '!B53 -> 22402.06 | K9: 2012.04 | L9: 6902 | M9: 2011.11 | N9: =ROUND(E9+(J9-L9)*$R$2,0) -> 15872 | O9: =ROUND(E9+(J9-L9)*0.85,0) -> 17912 | P9: =ROUND(E9+(J9-L9)*1,0) -> 20237 | R9: 대체신규
E10: 16139 | J10: ='산출근거 '!C53 -> 39747.08 | L10: 23520 | N10: =ROUND(E10+(J10-L10)*$R$2,0) -> 27796 | O10: =ROUND(E10+(J10-L10)*0.85,0) -> 29932 | P10: =ROUND(E10+(J10-L10)*1,0) -> 32366 | R10: QAJ32722
E11: 22079 | J11: ='산출근거 '!D53 -> 26903.84 | L11: 25542 | N11: =ROUND(E11+(J11-L11)*$R$2,0) -> 23057 | O11: =ROUND(E11+(J11-L11)*0.85,0) -> 23237 | P11: =ROUND(E11+(J11-L11)*1,0) -> 23441
E12: =SUM(E9:E11) -> 42955 | J12: =SUM(J9:J11) -> 89052.98 | L12: =SUM(L9:L11) -> 55964 | N12: =SUM(N9:N11) -> 66725 | O12: =SUM(O9:O11) -> 71081 | P12: =SUM(P9:P11) -> 76044
A13: 2 | B13: 쉬트파일박기 | C13: 8M | D13: 본 | E13: 4952 | F13: 2011.12 | G13: 쉬트파일항타 | H13: 8M | I13: 본 | J13: ='산출근거 '!B103 -> 23450.86 | K13: 2012.04 | L13: 7216 | M13: 2011.11 | N13: =ROUND(E13+(J13-L13)*$R$2,0) -> 16615 | O13: =ROUND(E13+(J13-L13)*0.85,0) -> 18752 | P13: =ROUND(E13+(J13-L13)*1,0) -> 21187 | R13: 대체신규
E14: 16877 | J14: ='산출근거 '!C103 -> 41612.44 | L14: 24595 | N14: =ROUND(E14+(J14-L14)*$R$2,0) -> 29102 | O14: =ROUND(E14+(J14-L14)*0.85,0) -> 31342 | P14: =ROUND(E14+(J14-L14)*1,0) -> 33894 | R14: QAJ32722
E15: 23083 | J15: ='산출근거 '!D103 -> 25284.36 | L15: 26704 | N15: =ROUND(E15+(J15-L15)*$R$2,0) -> 22063 | O15: =ROUND(E15+(J15-L15)*0.85,0) -> 21876 | P15: =ROUND(E15+(J15-L15)*1,0) -> 21663
E16: =SUM(E13:E15) -> 44912 | J16: =SUM(J13:J15) -> 90347.66 | L16: =SUM(L13:L15) -> 58515 | N16: =SUM(N13:N15) -> 67780 | O16: =SUM(O13:O15) -> 71970 | P16: =SUM(P13:P15) -> 76744
A17: 3 | B17: 쉬트파일천공 (지하저수조) | C17: 자갈질모래+ 풍화토:7.13m | D17: M | I17: M | J17: ='산출근거 '!B153 -> 5656 | K17: 2012.04 | N17: =ROUND(J17*$R$2,0) -> 4063 | O17: =ROUND(J17*0.85,0) -> 4808 | P17: =ROUND(J17*1,0) -> 5656 | R17: 신규
J18: ='산출근거 '!C153 -> 26571.04 | N18: =ROUND(J18*$R$2,0) -> 19088 | O18: =ROUND(J18*0.85,0) -> 22585 | P18: =ROUND(J18*1,0) -> 26571
J19: ='산출근거 '!D153 -> 8104.21 | N19: =ROUND(J19*$R$2,0) -> 5822 | O19: =ROUND(J19*0.85,0) -> 6889 | P19: =ROUND(J19*1,0) -> 8104
E20: =SUM(E17:E19) -> 0 | J20: =SUM(J17:J19) -> 40331.25 | L20: =SUM(L17:L19) -> 0 | N20: =SUM(N17:N19) -> 28973 | O20: =SUM(O17:O19) -> 34282 | P20: =SUM(P17:P19) -> 40331
A21: 4 | B21: 쉬트파일천공 (지하저수조) | C21: 풍화암:0.87m | D21: M | I21: M | J21: ='산출근거 '!B203 -> 25662 | K21: 2012.04 | N21: =ROUND(J21*$R$2,0) -> 18435 | O21: =ROUND(J21*0.85,0) -> 21813 | P21: =ROUND(J21*1,0) -> 25662 | R21: 신규
J22: ='산출근거 '!C203 -> 136238.08 | N22: =ROUND(J22*$R$2,0) -> 97869 | O22: =ROUND(J22*0.85,0) -> 115802 | P22: =ROUND(J22*1,0) -> 136238
J23: ='산출근거 '!D203 -> 41777.06 | N23: =ROUND(J23*$R$2,0) -> 30011 | O23: =ROUND(J23*0.85,0) -> 35511 | P23: =ROUND(J23*1,0) -> 41777
E24: =SUM(E21:E23) -> 0 | J24: =SUM(J21:J23) -> 203677.14 | L24: =SUM(L21:L23) -> 0 | N24: =SUM(N21:N23) -> 146315 | O24: =SUM(O21:O23) -> 173126 | P24: =SUM(P21:P23) -> 203677
A25: 5 | B25: 쉬트파일천공 (발전기실) | C25: 자갈질모래+ 풍화토:7.56m | D25: M | I25: M | J25: ='산출근거 '!B153 -> 5656 | K25: 2012.04 | N25: =ROUND(J25*$R$2,0) -> 4063 | O25: =ROUND(J25*0.85,0) -> 4808 | P25: =ROUND(J25*1,0) -> 5656 | R25: 신규
J26: ='산출근거 '!C153 -> 26571.04 | N26: =ROUND(J26*$R$2,0) -> 19088 | O26: =ROUND(J26*0.85,0) -> 22585 | P26: =ROUND(J26*1,0) -> 26571
J27: ='산출근거 '!D153 -> 8104.21 | N27: =ROUND(J27*$R$2,0) -> 5822 | O27: =ROUND(J27*0.85,0) -> 6889 | P27: =ROUND(J27*1,0) -> 8104
E28: =SUM(E25:E27) -> 0 | J28: =SUM(J25:J27) -> 40331.25 | L28: =SUM(L25:L27) -> 0 | N28: =SUM(N25:N27) -> 28973 | O28: =SUM(O25:O27) -> 34282 | P28: =SUM(P25:P27) -> 40331
A29: 6 | B29: 케이싱설치및철거 | C29: 8M | D29: M | I29: M | J29: ='산출근거 '!B251 -> 5280 | K29: 2012.04 | N29: =ROUND(J29*$R$2,0) -> 3793 | O29: =ROUND(J29*0.85,0) -> 4488 | P29: =ROUND(J29*1,0) -> 5280 | R29: 신규
J30: ='산출근거 '!C251 -> 3018 | N30: =ROUND(J30*$R$2,0) -> 2168 | O30: =ROUND(J30*0.85,0) -> 2565 | P30: =ROUND(J30*1,0) -> 3018
J31: ='산출근거 '!D251 -> 36 | N31: =ROUND(J31*$R$2,0) -> 26 | O31: =ROUND(J31*0.85,0) -> 31 | P31: =ROUND(J31*1,0) -> 36
E32: =SUM(E29:E31) -> 0 | J32: =SUM(J29:J31) -> 8334 | L32: =SUM(L29:L31) -> 0 | N32: =SUM(N29:N31) -> 5987 | O32: =SUM(O29:O31) -> 7084 | P32: =SUM(P29:P31) -> 8334
A33: 7 | B33: 지수재도포 | D33: M | I33: M | J33: =일위대가표!H11 -> 5244.503 | K33: 2012.04 | N33: =ROUND(J33*$R$2,0) -> 3767 | O33: =ROUND(J33*0.85,0) -> 4458 | P33: =ROUND(J33*1,0) -> 5245 | R33: 신규
J34: =일위대가표!J11 -> 3481.6 | N34: =ROUND(J34*$R$2,0) -> 2501 | O34: =ROUND(J34*0.85,0) -> 2959 | P34: =ROUND(J34*1,0) -> 3482
J35: =일위대가표!L11 -> 266.04 | N35: =ROUND(J35*$R$2,0) -> 191 | O35: =ROUND(J35*0.85,0) -> 226 | P35: =ROUND(J35*1,0) -> 266
J36: =SUM(J33:J35) -> 8992.143 | L36: =SUM(L33:L35) -> 0 | N36: =SUM(N33:N35) -> 6459 | O36: =SUM(O33:O35) -> 7643 | P36: =SUM(P33:P35) -> 8993

Sheet 산출근거 
A3: 산출근거 | B3: 재료비 | C3: 노무비 | D3: 경비 | E3: 합계 | F3: 비고
A5: 산근 # 386 SHEET PILE 항타 /본 | B5: =B53 -> 22402.06 | C5: =C53 -> 39747.08 | D5: =D53 -> 26903.84 | E5: =E53 -> 89052.98
A9: 1) 현장조건
A10: - 파일규격 : 400x150x13MM
A11: - 파일근입깊이 : L = 7.56m
A13: 2. 작업능력 산정
A14: a = 2.82, K = 1.33, r = 0.02
A15: f1 = 000, f2 = 000, f3 = 0.00, Fo = 0.9
A16: F = f1 + f2 + f3 + Fo = 0.09
A17: Nmax = 30
A18: Tc = ((0.75 + 0.02 * 30) * 7.56 + 2.82) * 1.33 / 0.9 = 19.25 분/본 | G18: =((0.75+0.02*30)*7.56+2.82)*1.33/0.9 -> 19.249533
A19: Q = 60 / 19.25 분/본 = 3.12 본/HR | G19: =60/19.25 -> 3.1168831
A21: 3. 중기사용료
A23: 1) 크레인(무한궤도 35 TON)
A24: 재 료 비 : 22,512 / 3.12 본/HR = 7,215.38 | B24: 7215.38 | E24: =B24 -> 7215.38 | G24: =22512/3.12 -> 7215.3846
A25: 노 무 비 : 40,525 / 3.12 본/HR = 12,988.78 | C25: 12988.78 | E25: =C25 -> 12988.78 | G25: =40525/3.12 -> 12988.782
A26: 경 비 : 29,039 / 3.12 본/HR = 9,307.37 | D26: 9307.37 | E26: =D26 -> 9307.37 | G26: =29039/3.12 -> 9307.3718
A28: 2) 진동파일햄머(30 KW)
A29: 경 비 : 24,248 / 3.12 본/HR = 7,771.79 | D29: 7771.79 | E29: =D29 -> 7771.79 | G29: =24248/3.12 -> 7771.7949
A31: 3) 발전기 (125 KW)
A32: 재 료 비 : 40,294 / 3.12 본/HR = 12,914.74 | B32: 12914.74 | E32: =B32 -> 12914.74 | G32: =40294/3.12 -> 12914.744
A33: 노 무 비 : 17,980 / 3.12 본/HR = 5,762.82 | C33: 5762.82 | E33: =C33 -> 5762.82 | G33: =17980/3.12 -> 5762.8205
A34: 경 비 : 5,643 / 3.12 본/HR = 1,808.65 | D34: 1808.65 | E34: =D34 -> 1808.65 | G34: =5643/3.12 -> 1808.6538
A36: 4) 보조크레인(타이어 20 TON), 주 크레인의 60 %
A37: 재 료 비 : 12,573 * Tc 분/본 / 60 * 0.6 = 2,271.94 | B37: 2271.94 | E37: =B37 -> 2271.94
A38: 노 무 비 : 20,403 * Tc 분/본 / 60 * 0.6 = 3,686.62 | C38: 3686.62 | E38: =C38 -> 3686.62
A39: 경 비 : 44,361 * Tc 분/본 / 60 * 0.6 = 8,016.03 | D39: 8016.03 | E39: =D39 -> 8016.03
A41: 소 계 : | B41: =SUM(B10:B39) -> 22402.06 | C41: =SUM(C10:C39) -> 22438.22 | D41: =SUM(D10:D39) -> 26903.84 | E41: =SUM(B41:D41) -> 71744.12
A43: 4. 배치 인원 (인/일)
A44: 비 계 공 : 2 인 / 8 * 126,924 / 3.12 본/HR = 10,170.19 | C44: 10170.19 | E44: =C44 -> 10170.19 | G44: =2/8*126924/3.12 -> 10170.192
A45: 보통인부 : 1 인 / 8 * 75,608 / 3.32 본/HR = 3.029.17 | C45: 3029.17 | E45: =C45 -> 3029.17 | G45: =1/8*75608/3.12 -> 3029.1667
A46: 작업반장 : 1 인 / 8 * 102,573 / 3.32 본/HR = 4,109.50 | C46: 4109.5 | E46: =C46 -> 4109.5 | G46: =1/8*102573/3.12 -> 4109.4952
A48: 소 계 : | C48: =SUM(C44:C47) -> 17308.86 | E48: =SUM(E44:E47) -> 17308.86
A53: 전체 합계 | B53: =B41 -> 22402.06 | C53: =C41+C48 -> 39747.08 | D53: =D41 -> 26903.84 | E53: =SUM(B53:D53) -> 89052.98
A54: 산근 # 386 SHEET PILE 항타 /본 | B54: =B103 -> 23450.86 | C54: =C103 -> 41612.44 | D54: =D103 -> 25284.36 | E54: =E103 -> 90347.66
A58: 1) 현장조건
A59: - 파일규격 : 400x150x13MM
A60: - 파일근입깊이 : L = 8.0m
A62: 2. 작업능력 산정
A63: a = 2.82, K = 1.33, r = 0.002
A64: f1 = 000, f2 = 000, f3 = 0.00, Fo = 0.09
A65: F = f1 + f2 + f3 + Fo = 0.09
A66: Nmax = 30 | G66: =((0.75+0.02*30)*8+2.82)*1.33/0.9 -> 20.127333
A67: Tc = ((0.75 + 0.02 * 30) * 8 + 2.82) * 1.11 / 0.8 = 20.13 분/본 | G67: =60/20.13 -> 2.9806259
A68: Q = 60 / 20.13 분/본 = 2.98 본/HR
A70: 3. 중기사용료
A72: 1) 크레인(무한궤도 35 TON) | G72: =22512/2.98 -> 7554.3624
A73: 재 료 비 : 22,512 / 2.98 본/HR = 7,554.36 | B73: 7554.36 | E73: =B73 -> 7554.36 | G73: =40525/2.98 -> 13598.993
A74: 노 무 비 : 40,525 / 2.98 본/HR = 13,598.99 | C74: 13598.99 | E74: =C74 -> 13598.99 | G74: =29039/2.98 -> 9744.6309
A75: 경 비 : 29,039 / 2.98 본/HR = 9,744.63 | D75: 9744.63 | E75: =D75 -> 9744.63
A77: 2) 진동파일햄머(30 KW) | G77: =24248/2.98 -> 8136.9128
A78: 경 비 : 24,248 / 2.98 본/HR = 8,136.91 | D78: 8136.91 | E78: =D78 -> 8136.91
A80: 3) 발전기 (125 KW) | G80: =40294/2.98 -> 13521.477
A81: 재 료 비 : 40,294 / 2.98 본/HR = 12.521.47 | B81: 13521.47 | E81: =B81 -> 13521.47 | G81: =17980/2.98 -> 6033.557
A82: 노 무 비 : 17,980 / 2.98 본/HR = 6,033.55 | C82: 6033.55 | E82: =C82 -> 6033.55 | G82: =5643/2.98 -> 1893.6242
A83: 경 비 : 5,643 / 2.98 본/HR = 1,893.62 | D83: 1893.62 | E83: =D83 -> 1893.62
A85: 4) 보조크레인(타이어 20 TON), 주 크레인의 60 %
A86: 재 료 비 : 12,573 * Tc 분/본 / 60 * 0.6 = 2375.03 | B86: 2375.03 | E86: =B86 -> 2375.03
A87: 노 무 비 : 20,403 * Tc 분/본 / 60 * 0.6 = 3857.9 | C87: 3857.9 | E87: =C87 -> 3857.9
A88: 경 비 : 44,361 * Tc 분/본 / 60 * 0.6 = 5509.2 | D88: 5509.2 | E88: =D88 -> 5509.2
A90: 소 계 : | B90: =SUM(B59:B88) -> 23450.86 | C90: =SUM(C59:C88) -> 23490.44 | D90: =SUM(D59:D88) -> 25284.36 | E90: =SUM(B90:D90) -> 72225.66
A92: 4. 배치 인원 (인/일)
A93: 비 계 공 : 2 인 / 8 * 126,924 / 2.98 본/HR = 10,647.98 | C93: 10647.98 | E93: =C93 -> 10647.98 | G93: =2/8*126924/2.98 -> 10647.987
A94: 보통인부 : 1 인 / 8 * 75,608 / 2.98 본/HR = 3.171.47 | C94: 3171.47 | E94: =C94 -> 3171.47 | G94: =1/8*75608/2.98 -> 3171.4765
A95: 작업반장 : 1 인 / 8 * 102,573 / 2.98 본/HR = 4,302.55 | C95: 4302.55 | E95: =C95 -> 4302.55 | G95: =1/8*102573/2.98 -> 4302.5587
A97: 소 계 : | C97: =SUM(C93:C96) -> 18122 | E97: =SUM(E93:E96) -> 18122
A103: 전체 합계 | B103: =B90 -> 23450.86 | C103: =C90+C97 -> 41612.44 | D103: =D90 -> 25284.36 | E103: =E97+E90 -> 90347.66
A105: #. 37산근 SHEET PILE 천공 | 토 사|M | B105: =B153 -> 5656 | C105: =C153 -> 26571.04 | D105: =D153 -> 8104.21 | E105: =E153 -> 40331.25 | F105: GS
A108: 1.천공비
A109: 1)재료비
A110: 3 WING BIT : 0.0067 EA * 160,000 = 1,072 | B110: 1072 | E110: =B110 -> 1072
A111: 2)노무비
A112: 보링공 A1 = 0.08 인 * 83,739 = 6,691.12
A113: 특별인부 A2 = 0.08 인 * 97,283 = 7,782.64
A114: 보통인부 A3 = 0.16 인 * 75,608 = 12,097.28
A115: 소계 AS = A1 + A2 + A3 = 26571.04
A116: 노무비 : AS = 22,829 | C116: 26571.04 | E116: =C116 -> 26571.04
A117: 3)천공 경비
A118: - 시간 산출 -
A119: 1 일 : 0.08/2 = 0.04 인/M
A120: 1/0.040= ? 25.00 M/일
A121: 1 HR : 25.0 M/일/8HR = 3.13 M/HR
A122: Q = 3.13 M/HR
A123: (1) 보링기 (50 HP) :
A124: 경 비 : 5,742 / 3.13 = 1,834 | D124: 1834 | E124: 1834
A125: 노무비 : 0 / 3.13 = 0
A126: 재료비 : 0 / 3.13 = 0
A127: (2) 디젤 엔진 (70 HP) :
A128: 경 비 : 1,675 / 3.13 = 535.14 | D128: 535.14 | E128: =D128 -> 535.14
A129: 노무비 : 0 / 3.13 = 0
A130: 재료비 : 14,351 / 3.13 = 4,584 | B130: 4584 | E130: 4584
A131: (3) 양수기 (150M/M) :
A132: 경 비 : 244 / 3.13 = 77 | D132: 77 | E132: 77
A133: 노무비 : 0 / 3.13 = 0
A134: 재료비 : 0 / 3.13 = 0
A135: (4) 급수비기타(노무비 15%)
A136: 경비 : AS * 0.15 = 3,985.65 | D136: 3985.65 | E136: =D136 -> 3985.65
A137: (5) 잡재료비(노무비 5%)
A138: 경비 : AS * 0.05 = 1,141 | D138: 1141 | E138: 1141
A139: (6) 기구손료(노무비 2%)
...

Sheet 일위대가표
A1: 일 위 대 가 표(지수제도포)
A2: 공사명 : 상주무양 B1 블록 아파트 건설공사 2공구
A3: 명 칭 | B3: 규 격 | C3: 수 량 | D3: 단위 | E3: 합 계 | G3: 재 료 비 | I3: 노 무 비 | K3: 경 비 | M3: 비 고
E4: 단 가 | F4: 금 액 | G4: 단 가 | H4: 금 액 | I4: 단 가 | J4: 금 액 | K4: 단 가 | L4: 금 액
A5: 제 278 호표
A6: 지수제 도포 | B6: (SHEET PILE) | D6: M
A7: 지수제 | B7: SHEET PILE용 | C7: 0.5 | D7: ㎏ | E7: =G7+I7+K7 -> 10000 | F7: =H7+J7+L7 -> 5000 | G7: 10000 | H7: =G7*C7 -> 5000 | O7: M01469_1 | P7: T6_1
A8: 보통인부 | C8: 0.04 | D8: 인 | E8: =G8+I8+K8 -> 75608 | F8: =H8+J8+L8 -> 3024.32 | I8: ='노임대가(2012년 상반기)'!F103 -> 75608 | J8: =I8*C8 -> 3024.32 | O8: L00084_1 | P8: T6_1
A9: 크레인 | B9: (트럭 10ton) | C9: 0.02 | D9: 시간 | E9: =G9+I9+K9 -> 47809 | F9: =H9+J9+L9 -> 956.18 | G9: =기계경비!AB4 -> 11643 | H9: =G9*C9 -> 232.86 | I9: =기계경비!AA4 -> 22864 | J9: =I9*C9 -> 457.28 | K9: =기계경비!AC4 -> 13302 | L9: =K9*C9 -> 266.04 | O9: X00250_1 | P9: T6_1
A10: 공구손료 | B10: 재료비의5% | F10: =H10+J10+L10 -> 11.643 | H10: =H9*0.05 -> 11.643
A11: 합 계 | E11: =SUM(E7:E10) -> 133417 | F11: =SUM(F7:F10) -> 8992.143 | H11: =SUM(H7:H10) -> 5244.503 | J11: =SUM(J7:J10) -> 3481.6 | L11: =SUM(L7:L10) -> 266.04 | O11: T6_1

Sheet 중기사용료
A1: 중기사용료
A2: 재료비 | G2: =G14+G37 -> 105558.5
A3: 노무비 | G3: =G16+G41 -> 62474.8
A4: 경비 | G4: =G11+G23+G34 -> 73989.8
A5: 합계 | G5: =SUM(G2:G4) -> 242023.1
A7: 중 기 명 | B7: 공기압축기(이동식) (17.0㎥/min) | J7: EX00042
A8: 중기가격 | B8: 28,000 천원
A9: 명 칭 | C9: 규 격 | D9: 수 량 | E9: 단 위 | F9: 단 가 | G9: 금 액 | H9: 비 고
A10: 경 비 | B10: 공기압축기(이동식) | C10: (17.0㎥/min) | D10: 0.1663 | E10: 천원 | F10: 28000 | G10: 4656.4 | K10: 10 | M10: GS00065
B11: 소 계 | G11: 4656.4
A12: 재 료 비 | B12: 경유 | C12: (저유황:0.05%) | D12: 23.5 | E12: ℓ | F12: 1675 | G12: =F12*D12 -> 39362.5 | K12: 30 | M12: MM00043
B13: 잡품 | C13: (주연료의 %) | D13: 16 | E13: M% | F13: 0 | G13: =G12*0.16 -> 6298 | K13: 40 | M13: F/M1
B14: 소 계 | G14: =SUM(G12:G13) -> 45660.5
A15: 노 무 비 | B15: 건설기계운전기사 | D15: 0.2 | E15: 인 | F15: 21949.6 | G15: =F15 -> 21949.6 | K15: 20 | M15: LL00016
B16: 소 계 | G16: =SUM(G15) -> 21949.6
B17: 총 계 | G17: =G16+G14+G11 -> 72266.5
A19: 중 기 명 | B19: 에어호스 (5.08㎝×3B×20m) | J19: EX00043
A20: 중기가격 | B20: 109 천원
A21: 명 칭 | C21: 규 격 | D21: 수 량 | E21: 단 위 | F21: 단 가 | G21: 금 액 | H21: 비 고
A22: 경 비 | B22: 에어호스 | C22: (5.08㎝×3B×20m) | D22: 0.5625 | E22: 천원 | F22: 109 | G22: 61.3 | K22: 10 | M22: GS00066
B23: 소 계 | G23: 61.3
A24: 재 료 비
B25: 소 계 | G25: 0
A26: 노 무 비
B27: 소 계 | G27: 0
B28: 총 계 | G28: 61
A30: 중 기 명 | B30: T-4천공기 | J30: EX00044
A31: 중기가격 | B31: 400,000 ＄
A32: 명 칭 | C32: 규 격 | D32: 수 량 | E32: 단 위 | F32: 단 가 | G32: 금 액 | H32: 비 고
A33: 경 비 | B33: T-4천공기 | D33: 0.1505 | E33: ＄ | F33: 460280 | G33: 69272.1 | K33: 10 | M33: GS00067
B34: 소 계 | G34: 69272.1
A35: 재 료 비 | B35: 경유 | C35: (저유황:0.05%) | D35: 29.8 | E35: ℓ | F35: 1675 | G35: 49915 | K35: 50 | M35: MM00043
B36: 잡품 | C36: (주연료의 %) | D36: 20 | E36: M% | F36: 0 | G36: =G35*0.2 -> 9983 | K36: 60 | M36: F/M1
B37: 소 계 | G37: =SUM(G35:G36) -> 59898
A38: 노 무 비 | B38: 건설기계운전기사 | D38: 0.2 | E38: 인 | F38: 21949.6 | G38: 21949.6 | K38: 20 | M38: LL00016
B39: 건설기계운전조수 | D39: 1 | E39: 인 | F39: 0 | G39: 0 | K39: 30 | M39: LL00020
B40: 건설기계조장 | D40: 0.2 | E40: 인 | F40: 18575.6 | G40: 18575.6 | K40: 40 | M40: LL00017
B41: 소 계 | G41: =G40+G38 -> 40525.2
B42: 총 계 | G42: =G41+G37+G34 -> 169695.3
A44: 중 기 명 | B44: 크레인 (무한궤도 35ton:1.33㎥)
A45: 중기가격 | B45: 158,714 ＄
A46: 명 칭 | C46: 규 격 | D46: 수 량 | E46: 단 위 | F46: 단 가 | G46: 금 액 | H46: 비 고
A47: 경 비 | B47: 크레인 | C47: (무한궤도 35ton:0.76㎥)) | D47: 0.159 | E47: ＄ | F47: 182632.19 | G47: 29038.5
B48: 소 계 | G48: 29038.5
A49: 재 료 비 | B49: 경유 | C49: (저유황:0.05%) | D49: 11.2 | E49: ℓ | F49: 1675 | G49: =F49*D49 -> 18760
B50: 잡품 | C50: (주연료의 %) | D50: 20 | E50: M% | F50: 0 | G50: =G49*0.2 -> 3752
B51: 소 계 | G51: =SUM(G49:G50) -> 22512
A52: 노 무 비 | B52: 건설기계운전기사 | D52: 0.2 | E52: 인 | F52: 21949.6 | G52: =F52 -> 21949.6
B53: 건설기계조장 | D53: 0.2 | E53: 인 | F53: 18575.6 | G53: =F53 -> 18575.6
B54: 소 계 | G54: =SUM(G52:G53) -> 40525.2
B55: 총 계 | G55: =G54+G51+G48 -> 92075.7
A57: 중 기 명 | B57: 진동파일햄머 (30Kw)
A58: 중기가격 | B58: 57,960 ＄
A59: 명 칭 | C59: 규 격 | D59: 수 량 | E59: 단 위 | F59: 단 가 | G59: 금 액 | H59: 비 고
A60: 경 비 | B60: 진동파일햄머 | C60: (30Kw) | D60: 0.2614 | E60: ＄ | F60: 92763.68 | G60: 24248.4
B61: 소 계 | G61: 24248.4
A62: 재 료 비
B63: 소 계 | G63: 0
A64: 노 무 비
B65: 소 계 | G65: 0
B66: 총 계 | G66: 24248
A68: 중 기 명 | B68: 발전기 (125Kw)
A69: 중기가격 | B69: 24,600 천원
A70: 명 칭 | C70: 규 격 | D70: 수 량 | E70: 단 위 | F70: 단 가 | G70: 금 액 | H70: 비 고
A71: 경 비 | B71: 발전기 | C71: (125Kw) | D71: 0.2294 | E71: 천원 | F71: 24600 | G71: 5643.2
B72: 소 계 | G72: 5643.2
A73: 재 료 비 | B73: 경유 | C73: (저유황:0.05%) | D73: 19.4 | E73: ℓ | F73: 1675 | G73: =F73*D73 -> 32495
B74: 잡품 | C74: (주연료의 %) | D74: 24 | E74: M% | F74: 0 | G74: =G73*0.24 -> 7798.8
B75: 소 계 | G75: =SUM(G73:G74) -> 40293.8
A76: 노 무 비 | B76: 운전사(기계) | D76: 0.22 | E76: 인 | F76: =81728*0.22 -> 17980.16 | G76: =F76 -> 17980.16
B77: 소 계 | G77: =G76 -> 17980.16
B78: 총 계 | G78: =G77+G75+G72 -> 63917.16
A80: 중 기 명 | B80: 크레인 (타이어 20ton)
A81: 중기가격 | B81: 198,750 천원
A82: 명 칭 | C82: 규 격 | D82: 수 량 | E82: 단 위 | F82: 단 가 | G82: 금 액 | H82: 비 고
A83: 경 비 | B83: 크레인 | C83: (타이어 20ton) | D83: 0.2232 | E83: 천원 | F83: 198750 | G83: 44361
B84: 소 계 | G84: 44361
A85: 재 료 비 | B85: 경유 | C85: (저유황:0.05%) | D85: 5.4 | E85: ℓ | F85: 1675 | G85: =F85*D85 -> 9045
B86: 잡품 | C86: (주연료의 %) | D86: 39 | E86: M% | F86: 0 | G86: =G85*0.39 -> 3527.55
B87: 소 계 | G87: =SUM(G85:G86) -> 12572.55
A88: 노 무 비 | B88: 건설기계운전기사 | D88: 0.2 | E88: 인 | F88: 21949.6 | G88: =F88 -> 21949.6
B89: 건설기계조장 | D89: 0.2 | E89: 인 | F89: 18575.6 | G89: =F89 -> 18575.6
B90: 소 계 | G90: =SUM(G88:G89) -> 40525.2
B91: 총 계 | G91: =G90+G87+G84 -> 97458.75

Sheet 노임대가(2012년 상반기)
A1: 코 드 | B1: 명 칭 | C1: 규 격 | D1: 단위 | F1: 노무비
A2: LAA10101 | B2: 공사용수설치인건비 (10층) | D2: 식 | E2: 0 | F2: 942848 | G2: 0 | H2: 2012-03-02 00:00:00
A3: LAA10102 | B3: 공사용수설치인건비(12층) | D3: 식 | E3: 0 | F3: 1024520 | G3: 0 | H3: 2012-03-02 00:00:00
A4: LAA10103 | B4: 공사용수설치 인건비 (15층) | D4: 식 | E4: 0 | F4: 1174462 | G4: 0 | H4: 2012-03-02 00:00:00
A5: LAA10104 | B5: 공사용수설치 인건비 (20층) | D5: 식 | E5: 0 | F5: 1379052 | G5: 0 | H5: 2012-03-02 00:00:00
A6: LAA10105 | B6: 공사용수설치 인건비 (25층) | D6: 식 | E6: 0 | F6: 1582336 | G6: 0 | H6: 2012-03-02 00:00:00
A7: LAA10201 | B7: 가설피뢰침설치 (10층) | D7: 식 | E7: 0 | F7: 204459 | G7: 0 | H7: 2012-03-02 00:00:00
A8: LAA10202 | B8: 가설피뢰침설치 (12층) | D8: 식 | E8: 0 | F8: 221455 | G8: 0 | H8: 2012-03-02 00:00:00
A9: LAA10203 | B9: 가설피뢰침설치 (15층) | D9: 식 | E9: 0 | F9: 245734 | G9: 0 | H9: 2012-03-02 00:00:00
A10: LAA10204 | B10: 가설피뢰침설치 (20층) | D10: 식 | E10: 0 | F10: 286661 | G10: 0 | H10: 2012-03-02 00:00:00
A11: LAA10205 | B11: 가설피뢰침설치 (25층) | D11: 식 | E11: 0 | F11: 327587 | G11: 0 | H11: 2012-03-02 00:00:00
A12: LAA10251 | B12: 가설전등및 보안등 (10층) | D12: 식 | E12: 0 | F12: 331855 | G12: 0 | H12: 2012-03-02 00:00:00
A13: LAA10252 | B13: 가설전등및 보안등 (12층) | D13: 식 | E13: 0 | F13: 382563 | G13: 0 | H13: 2012-03-02 00:00:00
... A183: LGE00171 | B183: 수배전반설치(특고반) | D183: 면 | E183: 0 | F183: 571000 | G183: 0 | H183: 2012-03-02 00:00:00

Sheet 기계경비
B1: 기계경비
B3: 명 칭 | C3: 규 격 | D3: 산 출 근 거 | Z3: 합 계 | AA3: 노무비 | AB3: 재료비 | AC3: 경 비 | AD3: 비 고
B4: 1. 크레인(무한궤도) | C4: 10Ton | Z4: =TEXT(AA4+AB4+AC4,"#,##0") -> 47,809 | AA4: =TRUNC(AA5+AA6+AA7+AA8) -> 22864 | AB4: =TRUNC(AB5+AB6+AB7+AB8) -> 11643 | AC4: =TRUNC(AC5+AC6+AC7+AC8) -> 13302
B5: 손 료 | D5: 65238 | I5: $× | K5: =[186]기계경비적용기준!D7 -> 1153.3 | N5: × | O5: 1768 | R5: × | S5: 10(-7) | AC5: =TRUNC(TRUNC(D5*K5)/1000) * 1000*O5*0.0000001 -> 13302.078
B6: 주연료 | C6: 경유 | D6: 5.8 | H6: ℓ | I6: × | J6: =자재단가대비표!M6 -> 1673 | AB6: =TRUNC(D6*J6,0) -> 9703
B7: 잡 품 | C7: 주연료의 | D7: 20 | H7: % | I7: × | J7: =AB6 -> 9703 | AB7: =TRUNC(D7/100*J7,0) -> 1940
B8: 건설기계운전사 | D8: 1 | G8: 인 | H8: × | I8: ='[187]노무비 목록표'!E4 -> 109748 | M8: × | N8: 1/8*16/12*25/20 | AA8: =TRUNC(D8*I8*(1/8*16/12*25/20),0) -> 22864
B29: 1. 크레인(타이어) | C29: 10Ton | Z29: =TEXT(AA29+AB29+AC29,"#,##0") -> 55,136 | AA29: =TRUNC(AA30+AA31+AA32+AA33) -> 22864 | AB29: =TRUNC(AB30+AB31+AB32+AB33) -> 8836 | AC29: =TRUNC(AC30+AC31+AC32+AC33) -> 23436
B30: 손 료 | D30: 105000000 | I30: ￦× | K30: 2232 | N30: × | O30: 10(-7) | AC30: =TRUNC(D30*K30*0.0000001,0) -> 23436
B31: 주연료 | C31: 경유 | D31: 3.8 | H31: ℓ | I31: × | J31: =자재단가대비표!E6 -> 1673 | AB31: =TRUNC(D31*J31,0) -> 6357
B32: 잡 품 | C32: 주연료의 | D32: 39 | H32: % | I32: × | J32: =AB31 -> 6357 | AB32: =TRUNC(D32/100*J32,0) -> 2479
B33: 건설기계운전사 | D33: 1 | G33: 인 | H33: × | I33: ='[187]노무비 목록표'!E4 -> 109748 | M33: × | N33: 1/8*16/12*25/20 | AA33: =TRUNC(D33*I33*(1/8*16/12*25/20),0) -> 22864
B45: 220. 크레인(무한궤도) | C45: 15Ton | Z45: =TEXT(AA45+AB45+AC45,"#,##0") -> 55,503 | AA45: =TRUNC(AA46+AA47+AA48+AA49) -> 22864 | AB45: =TRUNC(AB46+AB47+AB48+AB49) -> 12925 | AC45: =TRUNC(AC46+AC47+AC48+AC49) -> 19714
B46: 손 료 | D46: 107512 | I46: $× | K46: =[186]기계경비적용기준!D7 -> 1153.3 | N46: × | O46: 1590 | R46: × | S46: 10(-7) | AC46: =TRUNC(TRUNC(D46*K46)/1000) * 1000*O46*0.0000001 -> 19714.887
B47: 주연료 | C47: 경유 | D47: 7.2 | H47: ℓ | I47: × | J47: =[186]자재단가!R6 -> 1496 | AB47: =TRUNC(D47*J47,0) -> 10771
B48: 잡 품 | C48: 주연료의 | D48: 20 | H48: % | I48: × | J48: =AB47 -> 10771 | AB48: =TRUNC(D48/100*J48,0) -> 2154
B49: 건설기계운전사 | D49: 1 | G49: 인 | H49: × | I49: =[186]노임단가!L55 -> 109748 | M49: × | N49: 1/8*16/12*25/20 | AA49: =TRUNC(D49*I49*[186]기계경비적용기준!E18,0) -> 22864
B51: 221. 크레인(무한궤도) | C51: 20Ton | Z51: =TEXT(AA51+AB51+AC51,"#,##0") -> 63,462 | AA51: =TRUNC(AA52+AA53+AA54+AA55) -> 22864 | AB51: =TRUNC(AB52+AB53+AB54+AB55) -> 15438 | AC51: =TRUNC(AC52+AC53+AC54+AC55) -> 25160
B52: 손 료 | D52: 137209 | I52: $× | K52: =[186]기계경비적용기준!D7 -> 1153.3 | N52: × | O52: 1590 | R52: × | S52: 10(-7) | AC52: =TRUNC(TRUNC(D52*K52)/1000) * 1000*O52*0.0000001 -> 25160.637
B53: 주연료 | C53: 경유 | D53: 8.6 | H53: ℓ | I53: × | J53: =[186]자재단가!R6 -> 1496 | AB53: =TRUNC(D53*J53,0) -> 12865
B54: 잡 품 | C54: 주연료의 | D54: 20 | H54: % | I54: × | J54: =AB53 -> 12865 | AB54: =TRUNC(D54/100*J54,0) -> 2573
B55: 건설기계운전사 | D55: 1 | G55: 인 | H55: × | I55: =[186]노임단가!L55 -> 109748 | M55: × | N55: 1/8*16/12*25/20 | AA55: =TRUNC(D55*I55*[186]기계경비적용기준!E18,0) -> 22864
B57: 222. 크레인(무한궤도) | C57: 25Ton | Z57: =TEXT(AA57+AB57+AC57,"#,##0") -> 69,200 | AA57: =TRUNC(AA58+AA59+AA60+AA61) -> 22864 | AB57: =TRUNC(AB58+AB59+AB60+AB61) -> 17233 | AC57: =TRUNC(AC58+AC59+AC60+AC61) -> 29103
B58: 손 료 | D58: 158714 | I58: $× | K58: =[186]기계경비적용기준!D7 -> 1153.3 | N58: × | O58: 1590 | R58: × | S58: 10(-7) | AC58: =TRUNC(TRUNC(D58*K58)/1000) * 1000*O58*0.0000001 -> 29103.996
B59: 주연료 | C59: 경유 | D59: 9.6 | H59: ℓ | I59: × | J59: =[186]자재단가!R6 -> 1496 | AB59: =TRUNC(D59*J59,0) -> 14361
B60: 잡 품 | C60: 주연료의 | D60: 20 | H60: % | I60: × | J60: =AB59 -> 14361 | AB60: =TRUNC(D60/100*J60,0) -> 2872
B61: 건설기계운전사 | D61: 1 | G61: 인 | H61: × | I61: =[186]노임단가!L55 -> 109748 | M61: × | N61: 1/8*16/12*25/20 | AA61: =TRUNC(D61*I61*[186]기계경비적용기준!E18,0) -> 22864
B63: 223. 크레인(무한궤도) | C63: 30Ton | Z63: =TEXT(AA63+AB63+AC63,"#,##0") -> 79,454 | AA63: =TRUNC(AA64+AA65+AA66+AA67) -> 22864 | AB63: =TRUNC(AB64+AB65+AB66+AB67) -> 18849 | AC63: =TRUNC(AC64+AC65+AC66+AC67) -> 37741
B64: 손 료 | D64: 205814 | I64: $× | K64: =[186]기계경비적용기준!D7 -> 1153.3 | N64: × | O64: 1590 | R64: × | S64: 10(-7) | AC64: =TRUNC(TRUNC(D64*K64)/1000) * 1000*O64*0.0000001 -> 37741.035
B65: 주연료 | C65: 경유 | D65: 10.5 | H65: ℓ | I65: × | J65: =[186]자재단가!R6 -> 1496 | AB65: =TRUNC(D65*J65,0) -> 15708
B66: 잡 품 | C66: 주연료의 | D66: 20 | H66: % | I66: × | J66: =AB65 -> 15708 | AB66: =TRUNC(D66/100*J66,0) -> 3141
B67: 건설기계운전사 | D67: 1 | G67: 인 | H67: × | I67: =[186]노임단가!L55 -> 109748 | M67: × | N67: 1/8*16/12*25/20 | AA67: =TRUNC(D67*I67*[186]기계경비적용기준!E18,0) -> 22864
B69: 224. 크레인(무한궤도) | C69: 35Ton | Z69: =TEXT(AA69+AB69+AC69,"#,##0") -> 88,793 | AA69: =TRUNC(AA70+AA71+AA72+AA73) -> 22864 | AB69: =TRUNC(AB70+AB71+AB72+AB73) -> 20106 | AC69: =TRUNC(AC70+AC71+AC72+AC73) -> 45823
B70: 손 료 | D70: 288200000 | I70: ￦× | K70: 1590 | N70: × | O70: 10(-7) | AC70: =TRUNC(D70*K70*0.0000001,0) -> 45823
B71: 주연료 | C71: 경유 | D71: 11.2 | H71: ℓ | I71: × | J71: =[186]자재단가!R6 -> 1496 | AB71: =TRUNC(D71*J71,0) -> 16755
B72: 잡 품 | C72: 주연료의 | D72: 20 | H72: % | I72: × | J72: =AB71 -> 16755 | AB72: =TRUNC(D72/100*J72,0) -> 3351
B73: 건설기계운전사 | D73: 1 | G73: 인 | H73: × | I73: =[186]노임단가!L55 -> 109748 | M73: × | N73: 1/8*16/12*25/20 | AA73: =TRUNC(D73*I73*[186]기계경비적용기준!E18,0) -> 22864
B75: 225. 크레인(무한궤도) | C75: 40Ton | Z75: =TEXT(AA75+AB75+AC75,"#,##0") -> 92,050 | AA75: =TRUNC(AA76+AA77+AA78+AA79) -> 22864 | AB75: =TRUNC(AB76+AB77+AB78+AB79) -> 20644 | AC75: =TRUNC(AC76+AC77+AC78+AC79) -> 48542
B76: 손 료 | D76: 262406 | I76: $× | K76: =[186]기계경비적용기준!D7 -> 1153.3 | N76: × | O76: 1604 | R76: × | S76: 10(-7) | AC76: =TRUNC(TRUNC(D76*K76)/1000) * 1000*O76*0.0000001 -> 48542.173
B77: 주연료 | C77: 경유 | D77: 11.5 | H77: ℓ | I77: × | J77: =[186]자재단가!R6 -> 1496 | AB77: =TRUNC(D77*J77,0) -> 17204
B78: 잡 품 | C78: 주연료의 | D78: 20 | H78: % | I78: × | J78: =AB77 -> 17204 | AB78: =TRUNC(D78/100*J78,0) -> 3440
B79: 건설기계운전사 | D79: 1 | G79: 인 | H79: × | I79: =[186]노임단가!L55 -> 109748 | M79: × | N79: 1/8*16/12*25/20 | AA79: =TRUNC(D79*I79*[186]기계경비적용기준!E18,0) -> 22864
B81: 226. 크레인(무한궤도) | C81: 50Ton | Z81: =TEXT(AA81+AB81+AC81,"#,##0") -> 107,443 | AA81: =TRUNC(AA82+AA83+AA84+AA85) -> 22864 | AB81: =TRUNC(AB82+AB83+AB84+AB85) -> 21542 | AC81: =TRUNC(AC82+AC83+AC84+AC85) -> 63037
B82: 손 료 | D82: 393000000 | I82: ￦× | K82: 1604 | N82: × | O82: 10(-7) | AC82: =TRUNC(D82*K82*0.0000001,0) -> 63037
B83: 주연료 | C83: 경유 | D83: 12 | H83: ℓ | I83: × | J83: =[186]자재단가!R6 -> 1496 | AB83: =TRUNC(D83*J83,0) -> 17952
B84: 잡 품 | C84: 주연료의 | D84: 20 | H84: % | I84: × | J84: =AB83 -> 17952 | AB84: =TRUNC(D84/100*J84,0) -> 3590
B85: 건설기계운전사 | D85: 1 | G85: 인 | H85: × | I85: =[186]노임단가!L55 -> 109748 | M85: × | N85: 1/8*16/12*25/20 | AA85: =TRUNC(D85*I85*[186]기계경비적용기준!E18,0) -> 22864
B87: 227. 크레인(무한궤도) | C87: 70Ton | Z87: =TEXT(AA87+AB87+AC87,"#,##0") -> 120,772 | AA87: =TRUNC(AA88+AA89+AA90+AA91) -> 22864 | AB87: =TRUNC(AB88+AB89+AB90+AB91) -> 30877 | AC87: =TRUNC(AC88+AC89+AC90+AC91) -> 67031
B88: 손 료 | D88: 362355 | I88: $× | K88: =[186]기계경비적용기준!D7 -> 1153.3 | N88: × | O88: 1604 | R88: × | S88: 10(-7) | AC88: =TRUNC(TRUNC(D88*K88)/1000) * 1000*O88*0.0000001 -> 67031.802
B89: 주연료 | C89: 경유 | D89: 17.2 | H89: ℓ | I89: × | J89: =[186]자재단가!R6 -> 1496 | AB89: =TRUNC(D89*J89,0) -> 25731
B90: 잡 품 | C90: 주연료의 | D90: 20 | H90: % | I90: × | J90: =AB89 -> 25731 | AB90: =TRUNC(D90/100*J90,0) -> 5146
B91: 건설기계운전사 | D91: 1 | G91: 인 | H91: × | I91: =[186]노임단가!L55 -> 109748 | M91: × | N91: 1/8*16/12*25/20 | AA91: =TRUNC(D91*I91*[186]기계경비적용기준!E18,0) -> 22864
B93: 228. 크레인(무한궤도) | C93: 80Ton | Z93: =TEXT(AA93+AB93+AC93,"#,##0") -> 145,403 | AA93: =TRUNC(AA94+AA95+AA96+AA97) -> 22864 | AB93: =TRUNC(AB94+AB95+AB96+AB97) -> 34287 | AC93: =TRUNC(AC94+AC95+AC96+AC97) -> 88252
B94: 손 료 | D94: 550200000 | I94: ￦× | K94: 1604 | N94: × | O94: 10(-7) | AC94: =TRUNC(D94*K94*0.0000001,0) -> 88252
B95: 주연료 | C95: 경유 | D95: 19.1 | H95: ℓ | I95: × | J95: =[186]자재단가!R6 -> 1496 | AB95: =TRUNC(D95*J95,0) -> 28573
B96: 잡 품 | C96: 주연료의 | D96: 20 | H96: % | I96: × | J96: =AB95 -> 28573 | AB96: =TRUNC(D96/100*J96,0) -> 5714
B97: 건설기계운전사 | D97: 1 | G97: 인 | H97: × | I97: =[186]노임단가!L55 -> 109748 | M97: × | N97: 1/8*16/12*25/20 | AA97: =TRUNC(D97*I97*[186]기계경비적용기준!E18,0) -> 22864
B99: 229. 크레인(무한궤도) | C99: 100Ton | Z99: =TEXT(AA99+AB99+AC99,"#,##0") -> 162,576 | AA99: =TRUNC(AA100+AA101+AA102+AA103) -> 22864 | AB99: =TRUNC(AB100+AB101+AB102+AB103) -> 42904 | AC99: =TRUNC(AC100+AC101+AC102+AC103) -> 96808
B100: 손 료 | D100: 523319 | I100: $× | K100: =[186]기계경비적용기준!D7 -> 1153.3 | N100: × | O100: 1604 | R100: × | S100: 10(-7) | AC100: =TRUNC(TRUNC(D100*K100)/1000) * 1000*O100*0.0000001 -> 96808.297
B101: 주연료 | C101: 경유 | D101: 23.9 | H101: ℓ | I101: × | J101: =[186]자재단가!R6 -> 1496 | AB101: =TRUNC(D101*J101,0) -> 35754
B102: 잡 품 | C102: 주연료의 | D102: 20 | H102: % | I102: × | J102: =AB101 -> 35754 | AB102: =TRUNC(D102/100*J102,0) -> 7150
B103: 건설기계운전사 | D103: 1 | G103: 인 | H103: × | I103: =[186]노임단가!L55 -> 109748 | M103: × | N103: 1/8*16/12*25/20 | AA103: =TRUNC(D103*I103*[186]기계경비적용기준!E18,0) -> 22864
B105: 230. 크레인(무한궤도) | C105: 150Ton | Z105: =TEXT(AA105+AB105+AC105,"#,##0") -> 209,697 | AA105: =TRUNC(AA106+AA107+AA108+AA109) -> 22864 | AB105: =TRUNC(AB106+AB107+AB108+AB109) -> 43802 | AC105: =TRUNC(AC106+AC107+AC108+AC109) -> 143031
B106: 손 료 | D106: 773188 | I106: $× | K106: =[186]기계경비적용기준!D7 -> 1153.3 | N106: × | O106: 1604 | R106: × | S106: 10(-7) | AC106: =TRUNC(TRUNC(D106*K106)/1000) * 1000*O106*0.0000001 -> 143031.41
B107: 주연료 | C107: 경유 | D107: 24.4 | H107: ℓ | I107: × | J107: =[186]자재단가!R6 -> 1496 | AB107: =TRUNC(D107*J107,0) -> 36502
B108: 잡 품 | C108: 주연료의 | D108: 20 | H108: % | I108: × | J108: =AB107 -> 36502 | AB108: =TRUNC(D108/100*J108,0) -> 7300
B109: 건설기계운전사 | D109: 1 | G109: 인 | H109: × | I109: =[186]노임단가!L55 -> 109748 | M109: × | N109: 1/8*16/12*25/20 | AA109: =TRUNC(D109*I109*[186]기계경비적용기준!E18,0) -> 22864
B111: 231. 크레인(무한궤도) | C111: 220Ton | Z111: =TEXT(AA111+AB111+AC111,"#,##0") -> 326,798 | AA111: =TRUNC(AA112+AA113+AA114+AA115) -> 22864 | AB111: =TRUNC(AB112+AB113+AB114+AB115) -> 44880 | AC111: =TRUNC(AC112+AC113+AC114+AC115) -> 259054
B112: 손 료 | D112: 1323630 | I112: $× | K112: =[186]기계경비적용기준!D7 -> 1153.3 | N112: × | O112: 1697 | R112: × | S112: 10(-7) | AC112: =TRUNC(TRUNC(D112*K112)/1000) * 1000*O112*0.0000001 -> 259054.18
B113: 주연료 | C113: 경유 | D113: 25 | H113: ℓ | I113: × | J113: =[186]자재단가!R6 -> 1496 | AB113: =TRUNC(D113*J113,0) -> 37400
B114: 잡 품 | C114: 주연료의 | D114: 20 | H114: % | I114: × | J114: =AB113 -> 37400 | AB114: =TRUNC(D114/100*J114,0) -> 7480
B115: 건설기계운전사 | D115: 1 | G115: 인 | H115: × | I115: =[186]노임단가!L55 -> 109748 | M115: × | N115: 1/8*16/12*25/20 | AA115: =TRUNC(D115*I115*[186]기계경비적용기준!E18,0) -> 22864
B117: 232. 크레인(무한궤도) | C117: 280Ton | Z117: =TEXT(AA117+AB117+AC117,"#,##0") -> 456,782 | AA117: =TRUNC(AA118+AA119+AA120+AA121) -> 22864 | AB117: =TRUNC(AB118+AB119+AB120+AB121) -> 50265 | AC117: =TRUNC(AC118+AC119+AC120+AC121) -> 383653
B118: 손 료 | D118: 1960265 | I118: $× | K118: =[186]기계경비적용기준!D7 -> 1153.3 | N118: × | O118: 1697 | R118: × | S118: 10(-7) | AC118: =TRUNC(TRUNC(D118*K118)/1000) * 1000*O118*0.0000001 -> 383653.18
B119: 주연료 | C119: 경유 | D119: 28 | H119: ℓ | I119: × | J119: =[186]자재단가!R6 -> 1496 | AB119: =TRUNC(D119*J119,0) -> 41888
B120: 잡 품 | C120: 주연료의 | D120: 20 | H120: % | I120: × | J120: =AB119 -> 41888 | AB120: =TRUNC(D120/100*J120,0) -> 8377
B121: 건설기계운전사 | D121: 1 | G121: 인 | H121: × | I121: =[186]노임단가!L55 -> 109748 | M121: × | N121: 1/8*16/12*25/20 | AA121: =TRUNC(D121*I121*[186]기계경비적용기준!E18,0) -> 22864
B123: 233. 크레인(무한궤도) | C123: 300Ton | Z123: =TEXT(AA123+AB123+AC123,"#,##0") -> 544,437 | AA123: =TRUNC(AA124+AA125+AA126+AA127) -> 22864 | AB123: =TRUNC(AB124+AB125+AB126+AB127) -> 50265 | AC123: =TRUNC(AC124+AC125+AC126+AC127) -> 471308
B124: 손 료 | D124: 2408140 | I124: $× | K124: =[186]기계경비적용기준!D7 -> 1153.3 | N124: × | O124: 1697 | R124: × | S124: 10(-7) | AC124: =TRUNC(TRUNC(D124*K124)/1000) * 1000*O124*0.0000001 -> 471309
B125: 주연료 | C125: 경유 | D125: 28 | H125: ℓ | I125: × | J125: =[186]자재단가!R6 -> 1496 | AB125: =TRUNC(D125*J125,0) -> 41888
B126: 잡 품 | C126: 주연료의 | D126: 20 | H126: % | I126: × | J126: =AB125 -> 41888 | AB126: =TRUNC(D126/100*J126,0) -> 8377
B127: 건설기계운전사 | D127: 1 | G127: 인 | H127: × | I127: =[186]노임단가!L55 -> 109748 | M127: × | N127: 1/8*16/12*25/20 | AA127: =TRUNC(D127*I127*[186]기계경비적용기준!E18,0) -> 22864
B129: 234. 크레인(타이어) | C129: 10Ton | Z129: =TEXT(AA129+AB129+AC129,"#,##0") -> 54,200 | AA129: =TRUNC(AA130+AA131+AA132+AA133) -> 22864 | AB129: =TRUNC(AB130+AB131+AB132+AB133) -> 7900 | AC129: =TRUNC(AC130+AC131+AC132+AC133) -> 23436
B130: 손 료 | D130: 105000000 | I130: ￦× | K130: 2232 | N130: × | O130: 10(-7) | AC130: =TRUNC(D130*K130*0.0000001,0) -> 23436
B131: 주연료 | C131: 경유 | D131: 3.8 | H131: ℓ | I131: × | J131: =[186]자재단가!R6 -> 1496 | AB131: =TRUNC(D131*J131,0) -> 5684
B132: 잡 품 | C132: 주연료의 | D132: 39 | H132: % | I132: × | J132: =AB131 -> 5684 | AB132: =TRUNC(D132/100*J132,0) -> 2216
B133: 건설기계운전사 | D133: 1 | G133: 인 | H133: × | I133: =[186]노임단가!L55 -> 109748 | M133: × | N133: 1/8*16/12*25/20 | AA133: =TRUNC(D133*I133*[186]기계경비적용기준!E18,0) -> 22864
B135: 235. 크레인(타이어) | C135: 15Ton | Z135: =TEXT(AA135+AB135+AC135,"#,##0") -> 67,233 | AA135: =TRUNC(AA136+AA137+AA138+AA139) -> 22864 | AB135: =TRUNC(AB136+AB137+AB138+AB139) -> 9773 | AC135: =TRUNC(AC136+AC137+AC138+AC139) -> 34596
B136: 손 료 | D136: 155000000 | I136: ￦× | K136: 2232 | N136: × | O136: 10(-7) | AC136: =TRUNC(D136*K136*0.0000001,0) -> 34596
B137: 주연료 | C137: 경유 | D137: 4.7 | H137: ℓ | I137: × | J137: =[186]자재단가!R6 -> 1496 | AB137: =TRUNC(D137*J137,0) -> 7031
B138: 잡 품 | C138: 주연료의 | D138: 39 | H138: % | I138: × | J138: =AB137 -> 7031 | AB138: =TRUNC(D138/100*J138,0) -> 2742
B139: 건설기계운전사 | D139: 1 | G139: 인 | H139: × | I139: =[186]노임단가!L55 -> 109748 | M139: × | N139: 1/8*16/12*25/20 | AA139: =TRUNC(D139*I139*[186]기계경비적용기준!E18,0) -> 22864
B141: 236. 크레인(타이어) | C141: 20Ton | Z141: =TEXT(AA141+AB141+AC141,"#,##0") -> 78,453 | AA141: =TRUNC(AA142+AA143+AA144+AA145) -> 22864 | AB141: =TRUNC(AB142+AB143+AB144+AB145) -> 11228 | AC141: =TRUNC(AC142+AC143+AC144+AC145) -> 44361
B142: 손 료 | D142: 198750000 | I142: ￦× | K142: 2232 | N142: × | O142: 10(-7) | AC142: =TRUNC(D142*K142*0.0000001,0) -> 44361
B143: 주연료 | C143: 경유 | D143: 5.4 | H143: ℓ | I143: × | J143: =[186]자재단가!R6 -> 1496 | AB143: =TRUNC(D143*J143,0) -> 8078
B144: 잡 품 | C144: 주연료의 | D144: 39 | H144: % | I144: × | J144: =AB143 -> 8078 | AB144: =TRUNC(D144/100*J144,0) -> 3150
B145: 건설기계운전사 | D145: 1 | G145: 인 | H145: × | I145: =[186]노임단가!L55 -> 109748 | M145: × | N145: 1/8*16/12*25/20 | AA145: =TRUNC(D145*I145*[186]기계경비적용기준!E18,0) -> 22864
B147: 237. 크레인(타이어) | C147: 25Ton | Z147: =TEXT(AA147+AB147+AC147,"#,##0") -> 80,344 | AA147: =TRUNC(AA148+AA149+AA150+AA151) -> 22864 | AB147: =TRUNC(AB148+AB149+AB150+AB151) -> 12683 | AC147: =TRUNC(AC148+AC149+AC150+AC151) -> 44797
B148: 손 료 | D148: 225000000 | I148: ￦× | K148: 1991 | N148: × | O148: 10(-7) | AC148: =TRUNC(D148*K148*0.0000001,0) -> 44797
B149: 주연료 | C149: 경유 | D149: 6.1 | H149: ℓ | I149: × | J149: =[186]자재단가!R6 -> 1496 | AB149: =TRUNC(D149*J149,0) -> 9125
...

Sheet 자재단가대비표
A1: 자재단가대비표
A3: 공사명 : 2012년도 토목공사 기본대가표
A4: 코드번호 | B4: 명 칭 | C4: 규 격 | D4: 단위 | E4: LH | G4: 거래 가격 | I4: 물가정보 | K4: 견적가 | M4: 적용 단가 | O4: 비 고
E5: 단 가 | F5: 페이지 | G5: 단 가 | H5: 페이지 | I5: 단 가 | J5: 페이지 | K5: 단 가 | L5: 페이지 | M5: 단 가 | N5: 페이지
B6: 경유 | C6: 저유황0.003% | D6: ℓ | E6: 1673 | G6: 1958 | M6: =E6 -> 1673 | N6: LH단가 | O6: 부가세별도
B7: 수팽창지수재 | C7: DSP-1000 | D7: KG | E7: 0 | I7: 10000 | M7: =I7 -> 10000 | N7: 최저단가
E8: 0 | M8: =I8 -> 0

Sheet 기타
