Workbook
Name _1_3_0Crite: #REF!
Name _15A: [1]금액내역서!$D$3:$D$10
Name _2_3_0Criteria: #REF!
Name _3G_0Extr: #REF!
Name _4G_0Extract: #REF!
Name _A01: #REF!
Name _A02: #REF!
Name _A03: #REF!
Name _A04: #REF!
Name _A05: #REF!
Name _B02: #REF!
Name _b03: #REF!
Name _b05: #REF!
Name _b06: #REF!
Name _b07: #REF!
Name _b08: #REF!
Name _B10: #REF!
Name _B11: #REF!
Name _b12: #REF!
Name _b13: #REF!
Name _B14: #REF!
Name _b15: #REF!
Name _b17: #REF!
Name _b18: #REF!
Name _b19: #REF!
Name _B20: #REF!
Name _B21: #REF!
Name _B22: [2]일위대가!$A$1400:$IV$1413=[2]일위대가!$A$1400
Name _B23: #REF!
Name _B24: #REF!
Name _B25: #REF!
Name _B37: #REF!
Name _B38: #REF!
Name _C01: #REF!
Name _c02: #REF!
Name _D01: #REF!
Name _D02: #REF!
Name _DAN1: #REF!
Name _DAN10: #REF!
Name _DAN100: #REF!
Name _DAN101: #REF!
Name _DAN102: #REF!
Name _DAN103: #REF!
Name _DAN104: #REF!
Name _DAN105: #REF!
Name _DAN106: #REF!
Name _DAN107: #REF!
Name _DAN108: #REF!
Name _DAN109: #REF!
Name _DAN11: #REF!
Name _DAN110: #REF!
Name _DAN111: #REF!
Name _DAN112: #REF!
Name _DAN113: #REF!
Name _DAN114: #REF!
Name _DAN115: #REF!
Name _DAN116: #REF!
Name _DAN117: #REF!
Name _DAN118: #REF!
Name _DAN119: #REF!

Sheet 내역서
J1: 자재코드 | L1: 품 명 | M1: 규 격 | N1: 수 량 | O1: 단위 | P1: 자재단가 | Q1: 노임단가 | R1: 경비단가
A2: X073 | B2: C | C2: 02 | D2: 1998000000 | E2: H | F2: 00000 | G2: 00 | H2: 0000 | I2: A01 | J2: BCB01010 | K2: 1 | L2: ( 절 토 ) ---- | N2: 21363 | O2: m3 | P2: 0 | Q2: 0 | R2: 0
A3: X073 | B3: C | C3: 02 | D3: 1998000000 | E3: H | F3: 00000 | G3: 00 | H3: 0000 | I3: A01 | J3: QAD31212 | K3: 2 | L3: 절취 및 상차(사질토) | M3: 90도, 양호 | N3: 18123 | O3: m3 | P3: 0 | Q3: 0 | R3: 0
A4: X073 | B4: C | C4: 02 | D4: 1998000000 | E4: H | F4: 00000 | G4: 00 | H4: 0000 | I4: A01 | J4: SCZ00095 | K4: 3 | L4: 줄파기 | M4: 보통토사 | N4: 3240 | O4: m3 | P4: 0 | Q4: 0 | R4: 0
A5: X073 | B5: C | C5: 02 | D5: 1998000000 | E5: H | F5: 00000 | G5: 00 | H5: 0000 | I5: A01 | J5: QAA22210 | K5: 4 | L5: 집토 (사질토 ) | M5: 양호 | N5: 3240 | O5: m3 | P5: 0 | Q5: 0 | R5: 0
A6: X073 | B6: C | C6: 02 | D6: 1998000000 | E6: H | F6: 00000 | G6: 00 | H6: 0000 | I6: A01 | J6: QAH42210 | K6: 5 | L6: 상차(산적사질토) | M6: 양호 | N6: 3240 | O6: m3 | P6: 0 | Q6: 0 | R6: 0
A7: X073 | B7: C | C7: 02 | D7: 1998000000 | E7: H | F7: 00000 | G7: 00 | H7: 0000 | I7: A01 | J7: BCB01020 | K7: 6 | L7: ( 성 토 ) ---- | N7: 6887 | O7: m3 | P7: 0 | Q7: 0 | R7: 0
A8: X073 | B8: C | C8: 02 | D8: 1998000000 | E8: H | F8: 00000 | G8: 00 | H8: 0000 | I8: A01 | J8: SCZT0002 | K8: 7 | L8: 노반준비공 | M8: 중기,보통 | N8: 6603 | O8: m2 | P8: 0 | Q8: 0 | R8: 0
A9: X073 | B9: C | C9: 02 | D9: 1998000000 | E9: H | F9: 00000 | G9: 00 | H9: 0000 | I9: A01 | J9: SCZT0003 | K9: 8 | L9: 노상 ( 다짐) | N9: 4553 | O9: m3 | P9: 0 | Q9: 0 | R9: 0
A10: X073 | B10: C | C10: 02 | D10: 1998000000 | E10: H | F10: 00000 | G10: 00 | H10: 0000 | I10: A01 | J10: QAI99990 | K10: 9 | L10: 부설 | M10: 노상 (모터그레이더 3.6M) | N10: 6120 | O10: m3 | P10: 0 | Q10: 0 | R10: 0
A11: X073 | B11: C | C11: 02 | D11: 1998000000 | E11: H | F11: 00000 | G11: 00 | H11: 0000 | I11: A01 | J11: SCZT0004 | K11: 10 | L11: 노체 (다짐) | N11: 1877 | O11: m3 | P11: 0 | Q11: 0 | R11: 0
A12: X073 | B12: C | C12: 02 | D12: 1998000000 | E12: H | F12: 00000 | G12: 00 | H12: 0000 | I12: A01 | J12: QAI99980 | K12: 11 | L12: 부설 | M12: 노체 (모터그레이더 3.6M) | N12: 2394 | O12: m3 | P12: 0 | Q12: 0 | R12: 0
A13: X073 | B13: C | C13: 02 | D13: 1998000000 | E13: H | F13: 00000 | G13: 00 | H13: 0000 | I13: A01 | J13: BCB01Z09 | K13: 12 | L13: ===이하 외부반출토=== | M13: 되메우기, 성토량 포함 | N13: 90000 | O13: m3 | P13: 0 | Q13: 0 | R13: 0
A14: X073 | B14: C | C14: 02 | D14: 1998000000 | E14: H | F14: 00000 | G14: 00 | H14: 0000 | I14: A01 | J14: QAJ22671 | K14: 13 | L14: 외부반출토 (성토부,현장==>역세권) | M14: L = 7.0 KM | N14: 3240 | O14: m3 | P14: 0 | Q14: 0 | R14: 0
A15: X073 | B15: C | C15: 02 | D15: 1998000000 | E15: H | F15: 00000 | G15: 00 | H15: 0000 | I15: A01 | J15: QAJ12625 | K15: 14 | L15: 절취반출토 (성토부, 현장==>역세권) | M15: L = 7.0 KM | N15: 3647 | O15: m3 | P15: 0 | Q15: 0 | R15: 0
A16: X073 | B16: C | C16: 02 | D16: 1998000000 | E16: H | F16: 00000 | G16: 00 | H16: 0000 | I16: A01 | J16: QAA26210 | K16: 15 | L16: 운반토의 정지 (사질토 ) | M16: 양호 | N16: 6887 | O16: m3 | P16: 0 | Q16: 0 | R16: 0
A17: X073 | B17: C | C17: 02 | D17: 1998000000 | E17: H | F17: 00000 | G17: 00 | H17: 0000 | I17: A01 | J17: QAJ12621 | K17: 16 | L17: 외부반출토 (절취토, 현장==>서창2지구) | M17: L = 17.2 KM | N17: 14476 | O17: m3 | P17: 0 | Q17: 0 | R17: 0
A18: X073 | B18: C | C18: 02 | D18: 1998000000 | E18: H | F18: 00000 | G18: 00 | H18: 0000 | I18: A01 | J18: BCB01Z36 | K18: 17 | L18: 구조물잔토 외부반출 | M18: 별 산 | N18: 68637 | O18: m3 | P18: 0 | Q18: 0 | R18: 0
A19: X073 | B19: C | C19: 02 | D19: 1998000000 | E19: H | F19: 00000 | G19: 00 | H19: 0000 | I19: A01 | J19: BCB01Z08 | K19: 18 | L19: ===이하 외부반입토 === | M19: 광명역세권==>현장(성토,되메우기용) | N19: 30836 | O19: m3 | P19: 0 | Q19: 0 | R19: 0
A20: X073 | B20: C | C20: 02 | D20: 1998000000 | E20: H | F20: 00000 | G20: 00 | H20: 0000 | I20: A01 | J20: QAH42210 | K20: 19 | L20: 상차(산적사질토) | M20: 양호 | N20: 30836 | O20: m3 | P20: 0 | Q20: 0 | R20: 0
A21: X073 | B21: C | C21: 02 | D21: 1998000000 | E21: H | F21: 00000 | G21: 00 | H21: 0000 | I21: A01 | J21: QAJ22672 | K21: 20 | L21: 외부반입토 (역세권==>현장) | M21: L = 7.0 KM | N21: 30836 | O21: m3 | P21: 0 | Q21: 0 | R21: 0
A22: X073 | B22: C | C22: 02 | D22: 1998000000 | E22: H | F22: 00000 | G22: 00 | H22: 0000 | I22: A01 | J22: BCB01Z05 | K22: 21 | L22: ===이하 토공사부대시설 === | N22: 0 | P22: 0 | Q22: 0 | R22: 0
A23: X073 | B23: C | C23: 02 | D23: 1998000000 | E23: H | F23: 00000 | G23: 00 | H23: 0000 | I23: A01 | J23: UCA60410 | K23: 22 | L23: 토공비탈규준틀 | M23: 성토고3.0M이상 | N23: 86 | O23: 개소 | P23: 0 | Q23: 0 | R23: 0
A24: X073 | B24: C | C24: 02 | D24: 1998000000 | E24: H | F24: 00000 | G24: 00 | H24: 0000 | I24: A01 | J24: UCA60420 | K24: 23 | L24: 토공수평규준틀 | N24: 19 | O24: 개소 | P24: 0 | Q24: 0 | R24: 0
A25: X073 | B25: C | C25: 02 | D25: 1998000000 | E25: H | F25: 00000 | G25: 00 | H25: 0000 | I25: A01 | J25: ULB60504 | K25: 24 | L25: 잔디(줄떼) 식재 | M25: 0.3X0.15X0.03 | N25: 767 | O25: m2 | P25: 0 | Q25: 0 | R25: 0
A26: X073 | B26: C | C26: 02 | D26: 1998000000 | E26: H | F26: 00000 | G26: 00 | H26: 0000 | I26: A01 | J26: ULB60502 | K26: 25 | L26: 잔디(평떼) 식재 | M26: 0.3X0.3X0.03 | N26: 367 | O26: m2 | P26: 0 | Q26: 0 | R26: 0
A27: X073 | B27: C | C27: 02 | D27: 1998000000 | E27: H | F27: 00000 | G27: 00 | H27: 0000 | I27: A01 | J27: BCB01Z15 | K27: 26 | L27: ==== 이하 지장수목 폐기물처리공사 ==== | N27: 0 | P27: 0 | Q27: 0 | R27: 0
A28: X073 | B28: C | C28: 02 | D28: 1998000000 | E28: H | F28: 00000 | G28: 00 | H28: 0000 | I28: A01 | J28: SCZJK440 | K28: 27 | L28: 뿌리뽑기 | M28: 수경10CM이하 잡목100% | N28: 56.1 | O28: a | P28: 0 | Q28: 0 | R28: 0
A29: X073 | B29: C | C29: 02 | D29: 1998000000 | E29: H | F29: 00000 | G29: 00 | H29: 0000 | I29: A01 | J29: SCZJK600 | K29: 28 | L29: 집목(나무뿌리) | M29: 백호(0.7m3)+ 부착용집계 | N29: 1.18 | O29: m3 | P29: 0 | Q29: 0 | R29: 0
A30: X073 | B30: C | C30: 02 | D30: 1998000000 | E30: H | F30: 00000 | G30: 00 | H30: 0000 | I30: A04 | J30: BCB01Z11 | K30: 1 | L30: ===이하 토목구조물 철거공사=== | N30: 0 | P30: 0 | Q30: 0 | R30: 0
A31: X073 | B31: C | C31: 02 | D31: 1998000000 | E31: H | F31: 00000 | G31: 00 | H31: 0000 | I31: A04 | J31: SCZGJ212 | K31: 2 | L31: 구조물헐기(소형브레이커+공기압축기) | M31: 철근구조물 | N31: 23.7 | O31: m3 | P31: 0 | Q31: 0 | R31: 0
A32: X073 | B32: C | C32: 02 | D32: 1998000000 | E32: H | F32: 00000 | G32: 00 | H32: 0000 | I32: A04 | J32: UCA12535 | K32: 3 | L32: 구조물헐기(BREAKER) | M32: 철근구조물 30CM이상 | N32: 8118.09 | O32: m3 | P32: 0 | Q32: 0 | R32: 0
A33: X073 | B33: C | C33: 02 | D33: 1998000000 | E33: H | F33: 00000 | G33: 00 | H33: 0000 | I33: A04 | J33: UCA12530 | K33: 4 | L33: 구조물헐기(BREAKER) | M33: 철근구조물 30CM미만 | N33: 564.63 | O33: m3 | P33: 0 | Q33: 0 | R33: 0
A34: X073 | B34: C | C34: 02 | D34: 1998000000 | E34: H | F34: 00000 | G34: 00 | H34: 0000 | I34: A04 | J34: UCA12430 | K34: 5 | L34: 구조물헐기(BREAKER) | M34: 무근구조물 30CM미만 | N34: 1418.08 | O34: m3 | P34: 0 | Q34: 0 | R34: 0
A35: X073 | B35: C | C35: 02 | D35: 1998000000 | E35: H | F35: 00000 | G35: 00 | H35: 0000 | I35: A04 | J35: SCZJK190 | K35: 6 | L35: 구조물헐기시 철근절단 | N35: 8706.42 | O35: m3 | P35: 0 | Q35: 0 | R35: 0
A36: X073 | B36: C | C36: 02 | D36: 1998000000 | E36: H | F36: 00000 | G36: 00 | H36: 0000 | I36: A04 | J36: QCZZ0021 | K36: 7 | L36: 집토(콘크리트,블럭류) | M36: 백호 | N36: 757.91 | O36: m3 | P36: 0 | Q36: 0 | R36: 0
A37: X073 | B37: C | C37: 02 | D37: 1998000000 | E37: H | F37: 00000 | G37: 00 | H37: 0000 | I37: A04 | J37: SCZJ0010 | K37: 8 | L37: 절단용천공 | M37: D50, L=0.2m | N37: 34 | O37: 공 | P37: 0 | Q37: 0 | R37: 0
A38: X073 | B38: C | C38: 02 | D38: 1998000000 | E38: H | F38: 00000 | G38: 00 | H38: 0000 | I38: A04 | J38: SCZJ0012 | K38: 9 | L38: 절단용천공 | M38: D50, L=0.3m | N38: 14 | O38: 공 | P38: 0 | Q38: 0 | R38: 0
A39: X073 | B39: C | C39: 02 | D39: 1998000000 | E39: H | F39: 00000 | G39: 00 | H39: 0000 | I39: A04 | J39: SCZJ0014 | K39: 10 | L39: 절단용천공 | M39: D50, L=0.35m | N39: 82 | O39: 공 | P39: 0 | Q39: 0 | R39: 0
A40: X073 | B40: C | C40: 02 | D40: 1998000000 | E40: H | F40: 00000 | G40: 00 | H40: 0000 | I40: A04 | J40: SCZGJ542 | K40: 11 | L40: WHEEL SAW절단 | N40: 263.88 | O40: m | P40: 0 | Q40: 0 | R40: 0
...

Sheet 토목총괄표
A1: 총괄표
A2: 공사명 : 광명시 대2-1호선 금천지하차도공사[금천지하차도]
A3: 지구/공구 :
A4: 구분 | B4: 합계 | D4: 도시기반시설공사(택지개발)
A5: 1. 재료비 | B5: =SUM(D5:F5) -> 11362841517 | D5: =공사별금액집계표!$C2+공사별금액집계표!$C3+공사별금액집계표!$C4+공사별금액집계표!$C5+공사별금액집계표!$C6+공사별금액집계표!$C7+공사별금액집계표!$C8+공사별금액집계표!$C9+공사별금액집계표!$C10+공사별금액집계표!$C11+공사별금액집계표!$C12+공사별금액집계표!$C13+공사별금액집계표!$C15 -> 11362841517
A6: 2. 노무비 | B6: =SUM(D6:F6) -> 0
A7: 직접노무비 | B7: =SUM(D7:F7) -> 8228911281 | D7: =공사별금액집계표!$D2+공사별금액집계표!$D3+공사별금액집계표!$D4+공사별금액집계표!$D5+공사별금액집계표!$D6+공사별금액집계표!$D7+공사별금액집계표!$D8+공사별금액집계표!$D9+공사별금액집계표!$D10+공사별금액집계표!$D11+공사별금액집계표!$D12+공사별금액집계표!$D13+공사별금액집계표!$D15 -> 8228911281
A8: 간접노무비 | B8: =SUM(D8:F8) -> 859098337 | D8: =TRUNC(D7*비율!$C$2) -> 859098337 | F8: =TRUNC(F7*비율!$C$2) -> 0
A9: 소 계 | B9: =SUM(D9:F9) -> 9088009618 | D9: =SUM(D7:D8) -> 9088009618 | F9: =SUM(F7:F8) -> 0
A10: 3. 경비 | B10: =SUM(D10:F10) -> 0
A11: 직접경비 | B11: =SUM(D11:F11) -> 1518738570 | D11: =공사별금액집계표!$E2+공사별금액집계표!$E3+공사별금액집계표!$E4+공사별금액집계표!$E5+공사별금액집계표!$E6+공사별금액집계표!$E7+공사별금액집계표!$E8+공사별금액집계표!$E9+공사별금액집계표!$E10+공사별금액집계표!$E11+공사별금액집계표!$E12+공사별금액집계표!$E13+공사별금액집계표!$E15 -> 1518738570
A12: 기타경비 | B12: =SUM(D12:F12) -> 1083895110 | D12: =TRUNC(SUM(D$5,D$9)*비율!$C$3) -> 1083895110 | F12: =TRUNC(SUM(F$5,F$9)*비율!$C$3) -> 0
A13: 산재보험료 | B13: =SUM(D13:F13) -> 327168346 | D13: =TRUNC(D9*비율!$C$4) -> 327168346 | F13: =TRUNC(F9*비율!$C$4) -> 0
A14: 안전관리비기초액 | B14: =SUM(D14:F14) -> 0
A15: 안전관리비 | B15: =SUM(D15:F15) -> 368324952 | D15: =IF($F$32>0,TRUNC(SUM(D5,D7,$F$32)*비율!$C6),TRUNC(SUM(D5,D7,TRUNC($F$34/1.1))*비율!$C6)) -> 368324952 | F15: =IF($F$32>0,TRUNC(SUM(F5,F7,$F$32)*비율!$C6),TRUNC(SUM(F5,F7,TRUNC($F$34/1.1))*비율!$C6)) -> 0
A16: 퇴직공제 부금비 | B16: =SUM(D16:F16) -> 189264959 | D16: =TRUNC(D$7*비율!$C7) -> 189264959 | F16: =TRUNC(F$7*비율!$C7) -> 0
A17: 고용보험료 | B17: =SUM(D17:F17) -> 64524868 | D17: =TRUNC(D$9*비율!$C8) -> 64524868 | F17: =TRUNC(F$9*비율!$C8) -> 0
A18: 국민건강보험료 | B18: =SUM(D18:F18) -> 122610778 | D18: =TRUNC(D$7*비율!$C9) -> 122610778 | F18: =TRUNC(F$7*비율!$C9) -> 0
A19: 국민연금보험료 | B19: =SUM(D19:F19) -> 199962544 | D19: =TRUNC(D$7*비율!$C10) -> 199962544 | F19: =TRUNC(F$7*비율!$C10) -> 0
A20: 이행보증수수료 | B20: =SUM(D20:F20) -> 0 | D20: =TRUNC(SUM(D5,D7,D11)*비율!$C11) -> 0 | F20: =TRUNC(SUM(F5,F7,F11)*비율!$C11) -> 0
A21: 하도급지급수수료 | B21: =SUM(D21:F21) -> 5488727 | D21: =TRUNC(SUM(D5,D7,D11)*비율!$C12) -> 5488727 | F21: =TRUNC(SUM(F5,F7,F11)*비율!$C12) -> 0
A22: 소 계 | B22: =SUM(D22:F22) -> 3879978854 | D22: =SUM(D11:D21) -> 3879978854 | F22: =SUM(F11:F21) -> 0
A23: 4. 일반관리비 | B23: =SUM(D23:F23) -> 851579049 | D23: =TRUNC(SUM(D5,D9,D22)*비율!$C13) -> 851579049 | F23: =TRUNC(SUM(F5,F9,F22)*비율!$C13) -> 0
A24: 5. 이윤 | B24: =SUM(D24:F24) -> 769749910 | D24: =TRUNC(SUM(D9,D22,D23)*비율!$C14) -> 769749910 | F24: =TRUNC(SUM(F9,F22,F23)*비율!$C14) -> 0
A25: 손해보험료 | B25: =SUM(D25:F25) -> 0 | D25: =TRUNC(SUM(D5,D9,D22,D23:D24)*비율!$C15) -> 0 | F25: =TRUNC(SUM(F5,F9,F22,F23:F24)*비율!$C15) -> 0
A26: 6. 부가가치세 | B26: =SUM(D26:F26) -> 0
A27: 면세 : (재료비*0.1*면적비) | B27: =SUM(D27:F27) -> 0 | D27: =ROUNDDOWN((D$5*0.1*$C27),-3) -> 0 | F27: =ROUNDDOWN((F$5*0.1*$C27),-3) -> 0
A28: 과세 : (1+..+5)*0.1*면적비 | B28: =SUM(D28:F28) -> 2595215000 | C28: 1 | D28: =ROUNDDOWN((SUM(D5,D9,D22:D25)*0.1*$C28),-3) -> 2595215000 | F28: =ROUNDDOWN((SUM(F5,F9,F22:F25)*0.1*$C28),-3) -> 0
A29: 총계 | B29: =SUM(D29:F29) -> 28547373948 | D29: =SUM(D5,D9,D22:D28) -> 28547373948 | F29: =SUM(F5,F9,F22:F28) -> 0
A32: 지급자재비
A34: 지급자재납품도

Sheet 비율
A1: CODE | B1: 계정 | C1: 적용율
A2: B2 | B2: 간접노무비 | C2: 0.1044
A3: C5 | B3: 기타경비 | C3: 0.053
A4: C2 | B4: 산재보험료 | C4: 0.036
A5: C3 | B5: 안전관리비기초액 | C5: 0
A6: C4 | B6: 안전관리비 | C6: 0.0188
A7: C6 | B7: 퇴직공제 부금비 | C7: 0.023
A8: F1 | B8: 고용보험료 | C8: 0.0071
A9: F3 | B9: 국민건강보험료 | C9: 0.0149
A10: F4 | B10: 국민연금보험료 | C10: 0.0243
A11: F6 | B11: 이행보증수수료 | C11: 0
A12: F7 | B12: 하도급지급수수료 | C12: 0.00026
A13: D0 | B13: 일반관리비 | C13: 0.035
... A15: F0 | B15: 손해보험료 | C15: 0

Sheet Factor
A1: 설계가격 공종별보합 및 재료비율과 노무비율
A3: 공사명 :
A4: 구 분 | B4: 공종보합 | C4: 내역분합 | D4: 차이(0.5%) | E4: 금액비율 | K4: 비고 | M4: FACTOR
E5: 기준재료비율 | F5: 내역상비율 | G5: 편차(0.1%) | H5: 기준노무비율 | I5: 내역상비율 | J5: 편차(0.1%) | M5: 재+노+경 | N5: 자재비 | O5: 인건비 | P5: 경비
D6: =B6-C6 -> 0 | G6: =E6-F6 -> 0 | J6: =H6-I6 -> 0
A8: 소계 | B8: =SUM(B6:B7) -> 0 | C8: =SUM(C6:C7) -> 0 | D8: =B8-C8 -> 0
J10: 평점 (8*a값)
A11: 구 분 | B11: 재료비 | C11: 노무비 | D11: 경비 | E11: 계(경비제외) | F11: 계 | G11: 투찰재료 *입찰노무(A) | H11: 투찰노무 *입찰재료(B) | I11: A/B | J11: 투찰 공종별 보합기준 | K11: 입찰 공종별 보합기준
E12: =SUM(B12:C12) -> 0 | F12: =SUM(B12:D12) -> 0 | G12: =(E6*I6) -> 0 | H12: =(H6*F6) -> 0 | I12: =IF(G12=0,0,IF(G12<H12,G12/H12,H12/G12)) -> 0 | J12: =ROUND(B6*I12,4)*8 -> 0 | K12: =ROUND(C6*I12,4)*8 -> 0
A14: 소계 | B14: =SUM(B12:B13) -> 0 | C14: =SUM(C12:C13) -> 0 | D14: =SUM(D12:D13) -> 0 | E14: =SUM(E12:E13) -> 0 | F14: =SUM(F12:F13) -> 0 | J14: =SUM(J12:J13) -> 0 | K14: =SUM(K12:K13) -> 0

Sheet 공사별금액집계표
A1: 건물구분 | B1: 공사구분 | C1: 자재비 | D1: 노무비 | E1: 경비 | F1: 계
A2: 대지조성공사 | B2: 토공사 | C2: =주택공사양식내역서!$F$33 -> 139512567 | D2: =주택공사양식내역서!$H$33 -> 131596423 | E2: =주택공사양식내역서!$J$33 -> 89713169 | F2: =주택공사양식내역서!$L$33 -> 360822159 | G2: A01 | H2: C | I2: H
B3: 지장물 철거공사 | C3: =주택공사양식내역서!$F$65 -> -120818341 | D3: =주택공사양식내역서!$H$65 -> 417716985 | E3: =주택공사양식내역서!$J$65 -> 201709754 | F3: =주택공사양식내역서!$L$65 -> 498608398 | G3: A04 | H3: C | I3: H
B4: 배수공사 | C4: =주택공사양식내역서!$F$79 -> 52696129 | D4: =주택공사양식내역서!$H$79 -> 90625792 | E4: =주택공사양식내역서!$J$79 -> 6900858 | F4: =주택공사양식내역서!$L$79 -> 150222779 | G4: A05 | H4: C | I4: H
B5: 포장공사 | C5: =주택공사양식내역서!$F$114 -> 991760199 | D5: =주택공사양식내역서!$H$114 -> 143190500 | E5: =주택공사양식내역서!$J$114 -> 76316859 | F5: =주택공사양식내역서!$L$114 -> 1211267558 | G5: A13 | H5: C | I5: H
B6: 지하 차도공사 | C6: =주택공사양식내역서!$F$296 -> 4275702887 | D6: =주택공사양식내역서!$H$296 -> 3205429366 | E6: =주택공사양식내역서!$J$296 -> 143696023 | F6: =주택공사양식내역서!$L$296 -> 7624828276 | G6: A19 | H6: C | I6: H
B7: 흙막이공사 | C7: =주택공사양식내역서!$F$480 -> 4663904350 | D7: =주택공사양식내역서!$H$480 -> 3242388163 | E7: =주택공사양식내역서!$J$480 -> 650591638 | F7: =주택공사양식내역서!$L$480 -> 8556884151 | G7: A27 | H7: C | I7: H
B8: 부대시설공사 | C8: =주택공사양식내역서!$F$644 -> 456155829 | D8: =주택공사양식내역서!$H$644 -> 405758552 | E8: =주택공사양식내역서!$J$644 -> 31131612 | F8: =주택공사양식내역서!$L$644 -> 893045993 | G8: A35 | H8: C | I8: H
B9: 기타공사 | C9: =주택공사양식내역서!$F$692 -> 162082771 | D9: =주택공사양식내역서!$H$692 -> 352174831 | E9: =주택공사양식내역서!$J$692 -> 67129820 | F9: =주택공사양식내역서!$L$692 -> 581387422 | G9: A71 | H9: C | I9: H
B10: 품질시험 | C10: =주택공사양식내역서!$F$716 -> 0 | D10: =주택공사양식내역서!$H$716 -> 0 | E10: =주택공사양식내역서!$J$716 -> 9374655 | F10: =주택공사양식내역서!$L$716 -> 9374655 | G10: A73 | H10: C | I10: H
B11: 중기운반 | C11: =주택공사양식내역서!$F$724 -> 1105128 | D11: =주택공사양식내역서!$H$724 -> 1385426 | E11: =주택공사양식내역서!$J$724 -> 1537527 | F11: =주택공사양식내역서!$L$724 -> 4028081 | G11: A75 | H11: C | I11: H
B12: 구조물터파기공사 | C12: =주택공사양식내역서!$F$744 -> 235837817 | D12: =주택공사양식내역서!$H$744 -> 230698105 | E12: =주택공사양식내역서!$J$744 -> 187965588 | F12: =주택공사양식내역서!$L$744 -> 654501510 | G12: A77 | H12: C | I12: H
B13: 주요자재 | C13: =주택공사양식내역서!$F$767 -> 495896298 | D13: =주택공사양식내역서!$H$767 -> 3725889 | E13: =주택공사양식내역서!$J$767 -> 52322273 | F13: =주택공사양식내역서!$L$767 -> 551944460 | G13: A79 | H13: C | I13: H
B14: 소계 | C14: =SUBTOTAL(9,C2:C13) -> 11353835634 | D14: =SUBTOTAL(9,D2:D13) -> 8224690032 | E14: =SUBTOTAL(9,E2:E13) -> 1518389776 | F14: =SUBTOTAL(9,F2:F13) -> 21096915442
A15: 토목설비공사 | B15: 급수간선공사 | C15: =주택공사양식내역서!$F$790 -> 9005883 | D15: =주택공사양식내역서!$H$790 -> 4221249 | E15: =주택공사양식내역서!$J$790 -> 348794 | F15: =주택공사양식내역서!$L$790 -> 13575926 | G15: C09 | H15: C | I15: H
B16: 소계 | C16: =SUBTOTAL(9,C15:C15) -> 9005883 | D16: =SUBTOTAL(9,D15:D15) -> 4221249 | E16: =SUBTOTAL(9,E15:E15) -> 348794 | F16: =SUBTOTAL(9,F15:F15) -> 13575926
B17: 합계 | C17: =SUBTOTAL(9,C2:C16) -> 11362841517 | D17: =SUBTOTAL(9,D2:D16) -> 8228911281 | E17: =SUBTOTAL(9,E2:E16) -> 1518738570 | F17: =SUBTOTAL(9,F2:F16) -> 21110491368

Sheet 주택공사양식내역서
A1: 품 명 | B1: 규 격 | C1: 수 량 | D1: 단 위 | E1: 자 재 비 | G1: 인 건 비 | I1: 경 비 | K1: 합 계 | M1: 비 고
E2: 단 가 | F2: 금 액 | G2: 단 가 | H2: 금 액 | I2: 단 가 | J2: 금 액 | K2: 단 가 | L2: 금 액
A3: 대지조성공사 | K3: =SUM(E3,G3,I3) -> 0 | L3: =SUM(F3,H3,J3) -> 0 | R3: =M3-K3 -> 0
A4: 토공사 | K4: =SUM(E4,G4,I4) -> 0 | L4: =SUM(F4,H4,J4) -> 0 | N4: C | O4: H | P4: A01 | R4: =M4-K4 -> 0
A5: ( 절 토 ) ---- | C5: 21363 | D5: m3 | E5: =단가표!F3 -> 0 | F5: =IF(ISERROR(TRUNC($C5*E5)),,(TRUNC($C5*E5))) -> 0 | G5: =단가표!H3 -> 0 | H5: =IF(ISERROR(TRUNC($C5*G5)),,(TRUNC($C5*G5))) -> 0 | I5: =단가표!J3 -> 0 | J5: =IF(ISERROR(TRUNC($C5*I5)),,(TRUNC($C5*I5))) -> 0 | K5: =SUM(E5,G5,I5) -> 0 | L5: =SUM(F5,H5,J5) -> 0 | M5: 0 | N5: C | O5: H | P5: A01 | Q5: BCB01010 | R5: =M5-K5 -> 0
A6: 절취 및 상차(사질토) | B6: 90도, 양호 | C6: 18123 | D6: m3 | E6: =단가표!F164 -> 247 | F6: =IF(ISERROR(TRUNC($C6*E6)),,(TRUNC($C6*E6))) -> 4476381 | G6: =단가표!H164 -> 186 | H6: =IF(ISERROR(TRUNC($C6*G6)),,(TRUNC($C6*G6))) -> 3370878 | I6: =단가표!J164 -> 200 | J6: =IF(ISERROR(TRUNC($C6*I6)),,(TRUNC($C6*I6))) -> 3624600 | K6: =SUM(E6,G6,I6) -> 633 | L6: =SUM(F6,H6,J6) -> 11471859 | M6: 633 | N6: C | O6: H | P6: A01 | Q6: QAD31212 | R6: =M6-K6 -> 0
A7: 줄파기 | B7: 보통토사 | C7: 3240 | D7: m3 | E7: =단가표!F194 -> 0 | F7: =IF(ISERROR(TRUNC($C7*E7)),,(TRUNC($C7*E7))) -> 0 | G7: =단가표!H194 -> 12756 | H7: =IF(ISERROR(TRUNC($C7*G7)),,(TRUNC($C7*G7))) -> 41329440 | I7: =단가표!J194 -> 0 | J7: =IF(ISERROR(TRUNC($C7*I7)),,(TRUNC($C7*I7))) -> 0 | K7: =SUM(E7,G7,I7) -> 12756 | L7: =SUM(F7,H7,J7) -> 41329440 | M7: 12756 | N7: C | O7: H | P7: A01 | Q7: SCZ00095 | R7: =M7-K7 -> 0
A8: 집토 (사질토 ) | B8: 양호 | C8: 3240 | D8: m3 | E8: =단가표!F157 -> 251 | F8: =IF(ISERROR(TRUNC($C8*E8)),,(TRUNC($C8*E8))) -> 813240 | G8: =단가표!H157 -> 155 | H8: =IF(ISERROR(TRUNC($C8*G8)),,(TRUNC($C8*G8))) -> 502200 | I8: =단가표!J157 -> 179 | J8: =IF(ISERROR(TRUNC($C8*I8)),,(TRUNC($C8*I8))) -> 579960 | K8: =SUM(E8,G8,I8) -> 585 | L8: =SUM(F8,H8,J8) -> 1895400 | M8: 585 | N8: C | O8: H | P8: A01 | Q8: QAA22210 | R8: =M8-K8 -> 0
A9: 상차(산적사질토) | B9: 양호 | C9: 3240 | D9: m3 | E9: =단가표!F165 -> 130 | F9: =IF(ISERROR(TRUNC($C9*E9)),,(TRUNC($C9*E9))) -> 421200 | G9: =단가표!H165 -> 125 | H9: =IF(ISERROR(TRUNC($C9*G9)),,(TRUNC($C9*G9))) -> 405000 | I9: =단가표!J165 -> 143 | J9: =IF(ISERROR(TRUNC($C9*I9)),,(TRUNC($C9*I9))) -> 463320 | K9: =SUM(E9,G9,I9) -> 398 | L9: =SUM(F9,H9,J9) -> 1289520 | M9: 398 | N9: C | O9: H | P9: A01 | Q9: QAH42210 | R9: =M9-K9 -> 0
A10: ( 성 토 ) ---- | C10: 6887 | D10: m3 | E10: =단가표!F4 -> 0 | F10: =IF(ISERROR(TRUNC($C10*E10)),,(TRUNC($C10*E10))) -> 0 | G10: =단가표!H4 -> 0 | H10: =IF(ISERROR(TRUNC($C10*G10)),,(TRUNC($C10*G10))) -> 0 | I10: =단가표!J4 -> 0 | J10: =IF(ISERROR(TRUNC($C10*I10)),,(TRUNC($C10*I10))) -> 0 | K10: =SUM(E10,G10,I10) -> 0 | L10: =SUM(F10,H10,J10) -> 0 | M10: 0 | N10: C | O10: H | P10: A01 | Q10: BCB01020 | R10: =M10-K10 -> 0
A11: 노반준비공 | B11: 중기,보통 | C11: 6603 | D11: m2 | E11: =단가표!F557 -> 53 | F11: =IF(ISERROR(TRUNC($C11*E11)),,(TRUNC($C11*E11))) -> 349959 | G11: =단가표!H557 -> 59 | H11: =IF(ISERROR(TRUNC($C11*G11)),,(TRUNC($C11*G11))) -> 389577 | I11: =단가표!J557 -> 43 | J11: =IF(ISERROR(TRUNC($C11*I11)),,(TRUNC($C11*I11))) -> 283929 | K11: =SUM(E11,G11,I11) -> 155 | L11: =SUM(F11,H11,J11) -> 1023465 | M11: 155 | N11: C | O11: H | P11: A01 | Q11: SCZT0002 | R11: =M11-K11 -> 0
A12: 노상 ( 다짐) | C12: 4553 | D12: m3 | E12: =단가표!F558 -> 176 | F12: =IF(ISERROR(TRUNC($C12*E12)),,(TRUNC($C12*E12))) -> 801328 | G12: =단가표!H558 -> 226 | H12: =IF(ISERROR(TRUNC($C12*G12)),,(TRUNC($C12*G12))) -> 1028978 | I12: =단가표!J558 -> 147 | J12: =IF(ISERROR(TRUNC($C12*I12)),,(TRUNC($C12*I12))) -> 669291 | K12: =SUM(E12,G12,I12) -> 549 | L12: =SUM(F12,H12,J12) -> 2499597 | M12: 549 | N12: C | O12: H | P12: A01 | Q12: SCZT0003 | R12: =M12-K12 -> 0
A13: 부설 | B13: 노상 (모터그레이더 3.6M) | C13: 6120 | D13: m3 | E13: =단가표!F167 -> 76 | F13: =IF(ISERROR(TRUNC($C13*E13)),,(TRUNC($C13*E13))) -> 465120 | G13: =단가표!H167 -> 60 | H13: =IF(ISERROR(TRUNC($C13*G13)),,(TRUNC($C13*G13))) -> 367200 | I13: =단가표!J167 -> 60 | J13: =IF(ISERROR(TRUNC($C13*I13)),,(TRUNC($C13*I13))) -> 367200 | K13: =SUM(E13,G13,I13) -> 196 | L13: =SUM(F13,H13,J13) -> 1199520 | M13: 196 | N13: C | O13: H | P13: A01 | Q13: QAI99990 | R13: =M13-K13 -> 0
A14: 노체 (다짐) | C14: 1877 | D14: m3 | E14: =단가표!F559 -> 117 | F14: =IF(ISERROR(TRUNC($C14*E14)),,(TRUNC($C14*E14))) -> 219609 | G14: =단가표!H559 -> 151 | H14: =IF(ISERROR(TRUNC($C14*G14)),,(TRUNC($C14*G14))) -> 283427 | I14: =단가표!J559 -> 98 | J14: =IF(ISERROR(TRUNC($C14*I14)),,(TRUNC($C14*I14))) -> 183946 | K14: =SUM(E14,G14,I14) -> 366 | L14: =SUM(F14,H14,J14) -> 686982 | M14: 366 | N14: C | O14: H | P14: A01 | Q14: SCZT0004 | R14: =M14-K14 -> 0
A15: 부설 | B15: 노체 (모터그레이더 3.6M) | C15: 2394 | D15: m3 | E15: =단가표!F166 -> 76 | F15: =IF(ISERROR(TRUNC($C15*E15)),,(TRUNC($C15*E15))) -> 181944 | G15: =단가표!H166 -> 60 | H15: =IF(ISERROR(TRUNC($C15*G15)),,(TRUNC($C15*G15))) -> 143640 | I15: =단가표!J166 -> 60 | J15: =IF(ISERROR(TRUNC($C15*I15)),,(TRUNC($C15*I15))) -> 143640 | K15: =SUM(E15,G15,I15) -> 196 | L15: =SUM(F15,H15,J15) -> 469224 | M15: 196 | N15: C | O15: H | P15: A01 | Q15: QAI99980 | R15: =M15-K15 -> 0
A16: ===이하 외부반출토=== | B16: 되메우기, 성토량 포함 | C16: 90000 | D16: m3 | E16: =단가표!F11 -> 0 | F16: =IF(ISERROR(TRUNC($C16*E16)),,(TRUNC($C16*E16))) -> 0 | G16: =단가표!H11 -> 0 | H16: =IF(ISERROR(TRUNC($C16*G16)),,(TRUNC($C16*G16))) -> 0 | I16: =단가표!J11 -> 0 | J16: =IF(ISERROR(TRUNC($C16*I16)),,(TRUNC($C16*I16))) -> 0 | K16: =SUM(E16,G16,I16) -> 0 | L16: =SUM(F16,H16,J16) -> 0 | M16: 0 | N16: C | O16: H | P16: A01 | Q16: BCB01Z09 | R16: =M16-K16 -> 0
A17: 외부반출토 (성토부,현장==>역세권) | B17: L = 7.0 KM | C17: 3240 | D17: m3 | E17: =단가표!F170 -> 1807 | F17: =IF(ISERROR(TRUNC($C17*E17)),,(TRUNC($C17*E17))) -> 5854680 | G17: =단가표!H170 -> 982 | H17: =IF(ISERROR(TRUNC($C17*G17)),,(TRUNC($C17*G17))) -> 3181680 | I17: =단가표!J170 -> 1144 | J17: =IF(ISERROR(TRUNC($C17*I17)),,(TRUNC($C17*I17))) -> 3706560 | K17: =SUM(E17,G17,I17) -> 3933 | L17: =SUM(F17,H17,J17) -> 12742920 | M17: 3933 | N17: C | O17: H | P17: A01 | Q17: QAJ22671 | R17: =M17-K17 -> 0
A18: 절취반출토 (성토부, 현장==>역세권) | B18: L = 7.0 KM | C18: 3647 | D18: m3 | E18: =단가표!F169 -> 1910 | F18: =IF(ISERROR(TRUNC($C18*E18)),,(TRUNC($C18*E18))) -> 6965770 | G18: =단가표!H169 -> 1038 | H18: =IF(ISERROR(TRUNC($C18*G18)),,(TRUNC($C18*G18))) -> 3785586 | I18: =단가표!J169 -> 1209 | J18: =IF(ISERROR(TRUNC($C18*I18)),,(TRUNC($C18*I18))) -> 4409223 | K18: =SUM(E18,G18,I18) -> 4157 | L18: =SUM(F18,H18,J18) -> 15160579 | M18: 4157 | N18: C | O18: H | P18: A01 | Q18: QAJ12625 | R18: =M18-K18 -> 0
A19: 운반토의 정지 (사질토 ) | B19: 양호 | C19: 6887 | D19: m3 | E19: =단가표!F158 -> 68 | F19: =IF(ISERROR(TRUNC($C19*E19)),,(TRUNC($C19*E19))) -> 468316 | G19: =단가표!H158 -> 42 | H19: =IF(ISERROR(TRUNC($C19*G19)),,(TRUNC($C19*G19))) -> 289254 | I19: =단가표!J158 -> 48 | J19: =IF(ISERROR(TRUNC($C19*I19)),,(TRUNC($C19*I19))) -> 330576 | K19: =SUM(E19,G19,I19) -> 158 | L19: =SUM(F19,H19,J19) -> 1088146 | M19: 158 | N19: C | O19: H | P19: A01 | Q19: QAA26210 | R19: =M19-K19 -> 0
A20: 외부반출토 (절취토, 현장==>서창2지구) | B20: L = 17.2 KM | C20: 14476 | D20: m3 | E20: =단가표!F168 -> 3849 | F20: =IF(ISERROR(TRUNC($C20*E20)),,(TRUNC($C20*E20))) -> 55718124 | G20: =단가표!H168 -> 2091 | H20: =IF(ISERROR(TRUNC($C20*G20)),,(TRUNC($C20*G20))) -> 30269316 | I20: =단가표!J168 -> 2436 | J20: =IF(ISERROR(TRUNC($C20*I20)),,(TRUNC($C20*I20))) -> 35263536 | K20: =SUM(E20,G20,I20) -> 8376 | L20: =SUM(F20,H20,J20) -> 121250976 | M20: 8376 | N20: C | O20: H | P20: A01 | Q20: QAJ12621 | R20: =M20-K20 -> 0
A21: 구조물잔토 외부반출 | B21: 별 산 | C21: 68637 | D21: m3 | E21: =단가표!F21 -> 0 | F21: =IF(ISERROR(TRUNC($C21*E21)),,(TRUNC($C21*E21))) -> 0 | G21: =단가표!H21 -> 0 | H21: =IF(ISERROR(TRUNC($C21*G21)),,(TRUNC($C21*G21))) -> 0 | I21: =단가표!J21 -> 0 | J21: =IF(ISERROR(TRUNC($C21*I21)),,(TRUNC($C21*I21))) -> 0 | K21: =SUM(E21,G21,I21) -> 0 | L21: =SUM(F21,H21,J21) -> 0 | M21: 0 | N21: C | O21: H | P21: A01 | Q21: BCB01Z36 | R21: =M21-K21 -> 0
A22: ===이하 외부반입토 === | B22: 광명역세권==>현장(성토,되메우기용) | C22: 30836 | D22: m3 | E22: =단가표!F10 -> 0 | F22: =IF(ISERROR(TRUNC($C22*E22)),,(TRUNC($C22*E22))) -> 0 | G22: =단가표!H10 -> 0 | H22: =IF(ISERROR(TRUNC($C22*G22)),,(TRUNC($C22*G22))) -> 0 | I22: =단가표!J10 -> 0 | J22: =IF(ISERROR(TRUNC($C22*I22)),,(TRUNC($C22*I22))) -> 0 | K22: =SUM(E22,G22,I22) -> 0 | L22: =SUM(F22,H22,J22) -> 0 | M22: 0 | N22: C | O22: H | P22: A01 | Q22: BCB01Z08 | R22: =M22-K22 -> 0
A23: 상차(산적사질토) | B23: 양호 | C23: 30836 | D23: m3 | E23: =단가표!F165 -> 130 | F23: =IF(ISERROR(TRUNC($C23*E23)),,(TRUNC($C23*E23))) -> 4008680 | G23: =단가표!H165 -> 125 | H23: =IF(ISERROR(TRUNC($C23*G23)),,(TRUNC($C23*G23))) -> 3854500 | I23: =단가표!J165 -> 143 | J23: =IF(ISERROR(TRUNC($C23*I23)),,(TRUNC($C23*I23))) -> 4409548 | K23: =SUM(E23,G23,I23) -> 398 | L23: =SUM(F23,H23,J23) -> 12272728 | M23: 398 | N23: C | O23: H | P23: A01 | Q23: QAH42210 | R23: =M23-K23 -> 0
A24: 외부반입토 (역세권==>현장) | B24: L = 7.0 KM | C24: 30836 | D24: m3 | E24: =단가표!F171 -> 1807 | F24: =IF(ISERROR(TRUNC($C24*E24)),,(TRUNC($C24*E24))) -> 55720652 | G24: =단가표!H171 -> 982 | H24: =IF(ISERROR(TRUNC($C24*G24)),,(TRUNC($C24*G24))) -> 30280952 | I24: =단가표!J171 -> 1144 | J24: =IF(ISERROR(TRUNC($C24*I24)),,(TRUNC($C24*I24))) -> 35276384 | K24: =SUM(E24,G24,I24) -> 3933 | L24: =SUM(F24,H24,J24) -> 121277988 | M24: 3933 | N24: C | O24: H | P24: A01 | Q24: QAJ22672 | R24: =M24-K24 -> 0
A25: ===이하 토공사부대시설 === | C25: 0 | E25: =단가표!F7 -> 0 | F25: =IF(ISERROR(TRUNC($C25*E25)),,(TRUNC($C25*E25))) -> 0 | G25: =단가표!H7 -> 0 | H25: =IF(ISERROR(TRUNC($C25*G25)),,(TRUNC($C25*G25))) -> 0 | I25: =단가표!J7 -> 0 | J25: =IF(ISERROR(TRUNC($C25*I25)),,(TRUNC($C25*I25))) -> 0 | K25: =SUM(E25,G25,I25) -> 0 | L25: =SUM(F25,H25,J25) -> 0 | M25: 0 | N25: C | O25: H | P25: A01 | Q25: BCB01Z05 | R25: =M25-K25 -> 0
A26: 토공비탈규준틀 | B26: 성토고3.0M이상 | C26: 86 | D26: 개소 | E26: =단가표!F639 -> 1664 | F26: =IF(ISERROR(TRUNC($C26*E26)),,(TRUNC($C26*E26))) -> 143104 | G26: =단가표!H639 -> 31447 | H26: =IF(ISERROR(TRUNC($C26*G26)),,(TRUNC($C26*G26))) -> 2704442 | I26: =단가표!J639 -> 0 | J26: =IF(ISERROR(TRUNC($C26*I26)),,(TRUNC($C26*I26))) -> 0 | K26: =SUM(E26,G26,I26) -> 33111 | L26: =SUM(F26,H26,J26) -> 2847546 | M26: 33111 | N26: C | O26: H | P26: A01 | Q26: UCA60410 | R26: =M26-K26 -> 0
A27: 토공수평규준틀 | C27: 19 | D27: 개소 | E27: =단가표!F640 -> 736 | F27: =IF(ISERROR(TRUNC($C27*E27)),,(TRUNC($C27*E27))) -> 13984 | G27: =단가표!H640 -> 31447 | H27: =IF(ISERROR(TRUNC($C27*G27)),,(TRUNC($C27*G27))) -> 597493 | I27: =단가표!J640 -> 0 | J27: =IF(ISERROR(TRUNC($C27*I27)),,(TRUNC($C27*I27))) -> 0 | K27: =SUM(E27,G27,I27) -> 32183 | L27: =SUM(F27,H27,J27) -> 611477 | M27: 32183 | N27: C | O27: H | P27: A01 | Q27: UCA60420 | R27: =M27-K27 -> 0
A28: 잔디(줄떼) 식재 | B28: 0.3X0.15X0.03 | C28: 767 | D28: m2 | E28: =단가표!F677 -> 1925 | F28: =IF(ISERROR(TRUNC($C28*E28)),,(TRUNC($C28*E28))) -> 1476475 | G28: =단가표!H677 -> 3984 | H28: =IF(ISERROR(TRUNC($C28*G28)),,(TRUNC($C28*G28))) -> 3055728 | I28: =단가표!J677 -> 0 | J28: =IF(ISERROR(TRUNC($C28*I28)),,(TRUNC($C28*I28))) -> 0 | K28: =SUM(E28,G28,I28) -> 5909 | L28: =SUM(F28,H28,J28) -> 4532203 | M28: 5909 | N28: C | O28: H | P28: A01 | Q28: ULB60504 | R28: =M28-K28 -> 0
A29: 잔디(평떼) 식재 | B29: 0.3X0.3X0.03 | C29: 367 | D29: m2 | E29: =단가표!F676 -> 3850 | F29: =IF(ISERROR(TRUNC($C29*E29)),,(TRUNC($C29*E29))) -> 1412950 | G29: =단가표!H676 -> 3984 | H29: =IF(ISERROR(TRUNC($C29*G29)),,(TRUNC($C29*G29))) -> 1462128 | I29: =단가표!J676 -> 0 | J29: =IF(ISERROR(TRUNC($C29*I29)),,(TRUNC($C29*I29))) -> 0 | K29: =SUM(E29,G29,I29) -> 7834 | L29: =SUM(F29,H29,J29) -> 2875078 | M29: 7834 | N29: C | O29: H | P29: A01 | Q29: ULB60502 | R29: =M29-K29 -> 0
A30: ==== 이하 지장수목 폐기물처리공사 ==== | C30: 0 | E30: =단가표!F15 -> 0 | F30: =IF(ISERROR(TRUNC($C30*E30)),,(TRUNC($C30*E30))) -> 0 | G30: =단가표!H15 -> 0 | H30: =IF(ISERROR(TRUNC($C30*G30)),,(TRUNC($C30*G30))) -> 0 | I30: =단가표!J15 -> 0 | J30: =IF(ISERROR(TRUNC($C30*I30)),,(TRUNC($C30*I30))) -> 0 | K30: =SUM(E30,G30,I30) -> 0 | L30: =SUM(F30,H30,J30) -> 0 | M30: 0 | N30: C | O30: H | P30: A01 | Q30: BCB01Z15 | R30: =M30-K30 -> 0
A31: 뿌리뽑기 | B31: 수경10CM이하 잡목100% | C31: 56.1 | D31: a | E31: =단가표!F384 -> 0 | F31: =IF(ISERROR(TRUNC($C31*E31)),,(TRUNC($C31*E31))) -> 0 | G31: =단가표!H384 -> 76536 | H31: =IF(ISERROR(TRUNC($C31*G31)),,(TRUNC($C31*G31))) -> 4293669 | I31: =단가표!J384 -> 0 | J31: =IF(ISERROR(TRUNC($C31*I31)),,(TRUNC($C31*I31))) -> 0 | K31: =SUM(E31,G31,I31) -> 76536 | L31: =SUM(F31,H31,J31) -> 4293669 | M31: 76536 | N31: C | O31: H | P31: A01 | Q31: SCZJK440 | R31: =M31-K31 -> 0
A32: 집목(나무뿌리) | B32: 백호(0.7m3)+ 부착용집계 | C32: 1.18 | D32: m3 | E32: =단가표!F392 -> 891 | F32: =IF(ISERROR(TRUNC($C32*E32)),,(TRUNC($C32*E32))) -> 1051 | G32: =단가표!H392 -> 1132 | H32: =IF(ISERROR(TRUNC($C32*G32)),,(TRUNC($C32*G32))) -> 1335 | I32: =단가표!J392 -> 1234 | J32: =IF(ISERROR(TRUNC($C32*I32)),,(TRUNC($C32*I32))) -> 1456 | K32: =SUM(E32,G32,I32) -> 3257 | L32: =SUM(F32,H32,J32) -> 3842 | M32: 3257 | N32: C | O32: H | P32: A01 | Q32: SCZJK600 | R32: =M32-K32 -> 0
A33: 합 계 | F33: =SUM(F3:F32) -> 139512567 | H33: =SUM(H3:H32) -> 131596423 | J33: =SUM(J3:J32) -> 89713169 | K33: =SUM(E33,G33,I33) -> 0 | L33: =SUM(F33,H33,J33) -> 360822159 | M33: 0 | N33: C | O33: H | P33: A01 | R33: =M33-K33 -> 0
A34: 지장물 철거공사 | K34: =SUM(E34,G34,I34) -> 0 | L34: =SUM(F34,H34,J34) -> 0 | N34: C | O34: H | P34: A04 | R34: =M34-K34 -> 0
A35: ===이하 토목구조물 철거공사=== | C35: 0 | E35: =단가표!F12 -> 0 | F35: =IF(ISERROR(TRUNC($C35*E35)),,(TRUNC($C35*E35))) -> 0 | G35: =단가표!H12 -> 0 | H35: =IF(ISERROR(TRUNC($C35*G35)),,(TRUNC($C35*G35))) -> 0 | I35: =단가표!J12 -> 0 | J35: =IF(ISERROR(TRUNC($C35*I35)),,(TRUNC($C35*I35))) -> 0 | K35: =SUM(E35,G35,I35) -> 0 | L35: =SUM(F35,H35,J35) -> 0 | N35: C | O35: H | P35: A04 | Q35: BCB01Z11 | R35: =M35-K35 -> 0
A36: 구조물헐기(소형브레이커+공기압축기) | B36: 철근구조물 | C36: 23.7 | D36: m3 | E36: =단가표!F282 -> 14580 | F36: =IF(ISERROR(TRUNC($C36*E36)),,(TRUNC($C36*E36))) -> 345546 | G36: =단가표!H282 -> 100452 | H36: =IF(ISERROR(TRUNC($C36*G36)),,(TRUNC($C36*G36))) -> 2380712 | I36: =단가표!J282 -> 3827 | J36: =IF(ISERROR(TRUNC($C36*I36)),,(TRUNC($C36*I36))) -> 90699 | K36: =SUM(E36,G36,I36) -> 118859 | L36: =SUM(F36,H36,J36) -> 2816957 | M36: 118859 | N36: C | O36: H | P36: A04 | Q36: SCZGJ212 | R36: =M36-K36 -> 0
A37: 구조물헐기(BREAKER) | B37: 철근구조물 30CM이상 | C37: 8118.09 | D37: m3 | E37: =단가표!F636 -> 11384 | F37: =IF(ISERROR(TRUNC($C37*E37)),,(TRUNC($C37*E37))) -> 92416336 | G37: =단가표!H636 -> 25981 | H37: =IF(ISERROR(TRUNC($C37*G37)),,(TRUNC($C37*G37))) -> 210916096 | I37: =단가표!J636 -> 14029 | J37: =IF(ISERROR(TRUNC($C37*I37)),,(TRUNC($C37*I37))) -> 113888684 | K37: =SUM(E37,G37,I37) -> 51394 | L37: =SUM(F37,H37,J37) -> 417221116 | M37: 51394 | N37: C | O37: H | P37: A04 | Q37: UCA12535 | R37: =M37-K37 -> 0
A38: 구조물헐기(BREAKER) | B38: 철근구조물 30CM미만 | C38: 564.63 | D38: m3 | E38: =단가표!F635 -> 9865 | F38: =IF(ISERROR(TRUNC($C38*E38)),,(TRUNC($C38*E38))) -> 5570074 | G38: =단가표!H635 -> 23650 | H38: =IF(ISERROR(TRUNC($C38*G38)),,(TRUNC($C38*G38))) -> 13353499 | I38: =단가표!J635 -> 11737 | J38: =IF(ISERROR(TRUNC($C38*I38)),,(TRUNC($C38*I38))) -> 6627062 | K38: =SUM(E38,G38,I38) -> 45252 | L38: =SUM(F38,H38,J38) -> 25550635 | M38: 45252 | N38: C | O38: H | P38: A04 | Q38: UCA12530 | R38: =M38-K38 -> 0
A39: 구조물헐기(BREAKER) | B39: 무근구조물 30CM미만 | C39: 1418.08 | D39: m3 | E39: =단가표!F634 -> 4145 | F39: =IF(ISERROR(TRUNC($C39*E39)),,(TRUNC($C39*E39))) -> 5877941 | G39: =단가표!H634 -> 6352 | H39: =IF(ISERROR(TRUNC($C39*G39)),,(TRUNC($C39*G39))) -> 9007644 | I39: =단가표!J634 -> 6249 | J39: =IF(ISERROR(TRUNC($C39*I39)),,(TRUNC($C39*I39))) -> 8861581 | K39: =SUM(E39,G39,I39) -> 16746 | L39: =SUM(F39,H39,J39) -> 23747166 | M39: 16746 | N39: C | O39: H | P39: A04 | Q39: UCA12430 | R39: =M39-K39 -> 0
A40: 구조물헐기시 철근절단 | C40: 8706.42 | D40: m3 | E40: =단가표!F368 -> 2092 | F40: =IF(ISERROR(TRUNC($C40*E40)),,(TRUNC($C40*E40))) -> 18213830 | G40: =단가표!H368 -> 11725 | H40: =IF(ISERROR(TRUNC($C40*G40)),,(TRUNC($C40*G40))) -> 102082774 | I40: =단가표!J368 -> 117 | J40: =IF(ISERROR(TRUNC($C40*I40)),,(TRUNC($C40*I40))) -> 1018651 | K40: =SUM(E40,G40,I40) -> 13934 | L40: =SUM(F40,H40,J40) -> 121315255 | M40: 13934 | N40: C | O40: H | P40: A04 | Q40: SCZJK190 | R40: =M40-K40 -> 0
...

Sheet 단가표
A1: 자재코드 | B1: 품 명 | C1: 규 격 | D1: 수 량 | E1: 단 위 | F1: 자 재 비 | H1: 노 무 비 | J1: 경 비
F2: 자 재 단 가 | G2: 자 재 금 액 | H2: 노 임 단 가 | I2: 노 임 금 액 | J2: 경 비 단 가 | K2: 경 비 금 액
A3: BCB01010 | B3: ( 절 토 ) ---- | D3: 21363 | E3: m3 | F3: =VLOOKUP(A3,Sheet1!$B$2:$G$761,4,0) -> 0 | G3: =TRUNC($D3*F3) -> 0 | H3: =VLOOKUP(A3,Sheet1!$B$2:$G$761,5,0) -> 0 | I3: =TRUNC($D3*H3) -> 0 | J3: =VLOOKUP(A3,Sheet1!$B$2:$G$761,6,0) -> 0 | K3: =TRUNC($D3*J3) -> 0
A4: BCB01020 | B4: ( 성 토 ) ---- | D4: 6887 | E4: m3 | F4: =VLOOKUP(A4,Sheet1!$B$2:$G$761,4,0) -> 0 | G4: =TRUNC($D4*F4) -> 0 | H4: =VLOOKUP(A4,Sheet1!$B$2:$G$761,5,0) -> 0 | I4: =TRUNC($D4*H4) -> 0 | J4: =VLOOKUP(A4,Sheet1!$B$2:$G$761,6,0) -> 0 | K4: =TRUNC($D4*J4) -> 0
A5: BCB01Z01 | B5: ===이하 폐기물반출 관리요원 === | D5: 0 | F5: =VLOOKUP(A5,Sheet1!$B$2:$G$761,4,0) -> 0 | G5: =TRUNC($D5*F5) -> 0 | H5: =VLOOKUP(A5,Sheet1!$B$2:$G$761,5,0) -> 0 | I5: =TRUNC($D5*H5) -> 0 | J5: =VLOOKUP(A5,Sheet1!$B$2:$G$761,6,0) -> 0 | K5: =TRUNC($D5*J5) -> 0
A6: BCB01Z03 | B6: ===이하 수목식재공사 === | D6: 0 | F6: =VLOOKUP(A6,Sheet1!$B$2:$G$761,4,0) -> 0 | G6: =TRUNC($D6*F6) -> 0 | H6: =VLOOKUP(A6,Sheet1!$B$2:$G$761,5,0) -> 0 | I6: =TRUNC($D6*H6) -> 0 | J6: =VLOOKUP(A6,Sheet1!$B$2:$G$761,6,0) -> 0 | K6: =TRUNC($D6*J6) -> 0
A7: BCB01Z05 | B7: ===이하 토공사부대시설 === | D7: 0 | F7: =VLOOKUP(A7,Sheet1!$B$2:$G$761,4,0) -> 0 | G7: =TRUNC($D7*F7) -> 0 | H7: =VLOOKUP(A7,Sheet1!$B$2:$G$761,5,0) -> 0 | I7: =TRUNC($D7*H7) -> 0 | J7: =VLOOKUP(A7,Sheet1!$B$2:$G$761,6,0) -> 0 | K7: =TRUNC($D7*J7) -> 0
A8: BCB01Z06 | B8: ===이하 신축이음설치 === | D8: 0 | F8: =VLOOKUP(A8,Sheet1!$B$2:$G$761,4,0) -> 0 | G8: =TRUNC($D8*F8) -> 0 | H8: =VLOOKUP(A8,Sheet1!$B$2:$G$761,5,0) -> 0 | I8: =TRUNC($D8*H8) -> 0 | J8: =VLOOKUP(A8,Sheet1!$B$2:$G$761,6,0) -> 0 | K8: =TRUNC($D8*J8) -> 0
A9: BCB01Z07 | B9: ===이하 주요자재 === | D9: 0 | F9: =VLOOKUP(A9,Sheet1!$B$2:$G$761,4,0) -> 0 | G9: =TRUNC($D9*F9) -> 0 | H9: =VLOOKUP(A9,Sheet1!$B$2:$G$761,5,0) -> 0 | I9: =TRUNC($D9*H9) -> 0 | J9: =VLOOKUP(A9,Sheet1!$B$2:$G$761,6,0) -> 0 | K9: =TRUNC($D9*J9) -> 0
A10: BCB01Z08 | B10: ===이하 외부반입토 === | C10: 광명역세권==>현장(성토,되메우기용) | D10: 30836 | E10: m3 | F10: =VLOOKUP(A10,Sheet1!$B$2:$G$761,4,0) -> 0 | G10: =TRUNC($D10*F10) -> 0 | H10: =VLOOKUP(A10,Sheet1!$B$2:$G$761,5,0) -> 0 | I10: =TRUNC($D10*H10) -> 0 | J10: =VLOOKUP(A10,Sheet1!$B$2:$G$761,6,0) -> 0 | K10: =TRUNC($D10*J10) -> 0
A11: BCB01Z09 | B11: ===이하 외부반출토=== | C11: 되메우기, 성토량 포함 | D11: 158637 | E11: m3 | F11: =VLOOKUP(A11,Sheet1!$B$2:$G$761,4,0) -> 0 | G11: =TRUNC($D11*F11) -> 0 | H11: =VLOOKUP(A11,Sheet1!$B$2:$G$761,5,0) -> 0 | I11: =TRUNC($D11*H11) -> 0 | J11: =VLOOKUP(A11,Sheet1!$B$2:$G$761,6,0) -> 0 | K11: =TRUNC($D11*J11) -> 0
A12: BCB01Z11 | B12: ===이하 토목구조물 철거공사=== | D12: 0 | F12: =VLOOKUP(A12,Sheet1!$B$2:$G$761,4,0) -> 0 | G12: =TRUNC($D12*F12) -> 0 | H12: =VLOOKUP(A12,Sheet1!$B$2:$G$761,5,0) -> 0 | I12: =TRUNC($D12*H12) -> 0 | J12: =VLOOKUP(A12,Sheet1!$B$2:$G$761,6,0) -> 0 | K12: =TRUNC($D12*J12) -> 0
A13: BCB01Z12 | B13: ===이하 공사중발생 폐기물처리=== | D13: 0 | F13: =VLOOKUP(A13,Sheet1!$B$2:$G$761,4,0) -> 0 | G13: =TRUNC($D13*F13) -> 0 | H13: =VLOOKUP(A13,Sheet1!$B$2:$G$761,5,0) -> 0 | I13: =TRUNC($D13*H13) -> 0 | J13: =VLOOKUP(A13,Sheet1!$B$2:$G$761,6,0) -> 0 | K13: =TRUNC($D13*J13) -> 0
A14: BCB01Z14 | B14: ==== 이하 강재손료 ==== | D14: 0 | F14: =VLOOKUP(A14,Sheet1!$B$2:$G$761,4,0) -> 0 | G14: =TRUNC($D14*F14) -> 0 | H14: =VLOOKUP(A14,Sheet1!$B$2:$G$761,5,0) -> 0 | I14: =TRUNC($D14*H14) -> 0 | J14: =VLOOKUP(A14,Sheet1!$B$2:$G$761,6,0) -> 0 | K14: =TRUNC($D14*J14) -> 0
A15: BCB01Z15 | B15: ==== 이하 지장수목 폐기물처리공사 ==== | D15: 0 | F15: =VLOOKUP(A15,Sheet1!$B$2:$G$761,4,0) -> 0 | G15: =TRUNC($D15*F15) -> 0 | H15: =VLOOKUP(A15,Sheet1!$B$2:$G$761,5,0) -> 0 | I15: =TRUNC($D15*H15) -> 0 | J15: =VLOOKUP(A15,Sheet1!$B$2:$G$761,6,0) -> 0 | K15: =TRUNC($D15*J15) -> 0
A16: BCB01Z16 | B16: ==== 이하 관보호 공사 ==== | D16: 0 | F16: =VLOOKUP(A16,Sheet1!$B$2:$G$761,4,0) -> 0 | G16: =TRUNC($D16*F16) -> 0 | H16: =VLOOKUP(A16,Sheet1!$B$2:$G$761,5,0) -> 0 | I16: =TRUNC($D16*H16) -> 0 | J16: =VLOOKUP(A16,Sheet1!$B$2:$G$761,6,0) -> 0 | K16: =TRUNC($D16*J16) -> 0
A17: BCB01Z17 | B17: ==== 이하 가설방음벽 공사 ==== | D17: 0 | F17: =VLOOKUP(A17,Sheet1!$B$2:$G$761,4,0) -> 0 | G17: =TRUNC($D17*F17) -> 0 | H17: =VLOOKUP(A17,Sheet1!$B$2:$G$761,5,0) -> 0 | I17: =TRUNC($D17*H17) -> 0 | J17: =VLOOKUP(A17,Sheet1!$B$2:$G$761,6,0) -> 0 | K17: =TRUNC($D17*J17) -> 0
A18: BCB01Z18 | B18: ==== 이하 TIE-CABLE 설치공사 ==== | D18: 0 | F18: =VLOOKUP(A18,Sheet1!$B$2:$G$761,4,0) -> 0 | G18: =TRUNC($D18*F18) -> 0 | H18: =VLOOKUP(A18,Sheet1!$B$2:$G$761,5,0) -> 0 | I18: =TRUNC($D18*H18) -> 0 | J18: =VLOOKUP(A18,Sheet1!$B$2:$G$761,6,0) -> 0 | K18: =TRUNC($D18*J18) -> 0
A19: BCB01Z19 | B19: ===이하 외부반입토 === | C19: 광명역세권==>현장(되메우기용) | D19: 23949 | E19: m3 | F19: =VLOOKUP(A19,Sheet1!$B$2:$G$761,4,0) -> 0 | G19: =TRUNC($D19*F19) -> 0 | H19: =VLOOKUP(A19,Sheet1!$B$2:$G$761,5,0) -> 0 | I19: =TRUNC($D19*H19) -> 0 | J19: =VLOOKUP(A19,Sheet1!$B$2:$G$761,6,0) -> 0 | K19: =TRUNC($D19*J19) -> 0
A20: BCB01Z23 | B20: ===이하 기계설비공사=== | D20: 0 | F20: =VLOOKUP(A20,Sheet1!$B$2:$G$761,4,0) -> 0 | G20: =TRUNC($D20*F20) -> 0 | H20: =VLOOKUP(A20,Sheet1!$B$2:$G$761,5,0) -> 0 | I20: =TRUNC($D20*H20) -> 0 | J20: =VLOOKUP(A20,Sheet1!$B$2:$G$761,6,0) -> 0 | K20: =TRUNC($D20*J20) -> 0
A21: BCB01Z36 | B21: 구조물잔토 외부반출 | C21: 별 산 | D21: 68637 | E21: m3 | F21: =VLOOKUP(A21,Sheet1!$B$2:$G$761,4,0) -> 0 | G21: =TRUNC($D21*F21) -> 0 | H21: =VLOOKUP(A21,Sheet1!$B$2:$G$761,5,0) -> 0 | I21: =TRUNC($D21*H21) -> 0 | J21: =VLOOKUP(A21,Sheet1!$B$2:$G$761,6,0) -> 0 | K21: =TRUNC($D21*J21) -> 0
A22: BCB01Z43 | B22: === 이하 부력방지 앵커공사=== | D22: 0 | F22: =VLOOKUP(A22,Sheet1!$B$2:$G$761,4,0) -> 0 | G22: =TRUNC($D22*F22) -> 0 | H22: =VLOOKUP(A22,Sheet1!$B$2:$G$761,5,0) -> 0 | I22: =TRUNC($D22*H22) -> 0 | J22: =VLOOKUP(A22,Sheet1!$B$2:$G$761,6,0) -> 0 | K22: =TRUNC($D22*J22) -> 0
A23: BCB01Z50 | B23: ===이하 H-PILE+토류공사=== | D23: 0 | F23: =VLOOKUP(A23,Sheet1!$B$2:$G$761,4,0) -> 0 | G23: =TRUNC($D23*F23) -> 0 | H23: =VLOOKUP(A23,Sheet1!$B$2:$G$761,5,0) -> 0 | I23: =TRUNC($D23*H23) -> 0 | J23: =VLOOKUP(A23,Sheet1!$B$2:$G$761,6,0) -> 0 | K23: =TRUNC($D23*J23) -> 0
A24: BCB01Z51 | B24: ===이하 어스앵카 공사=== | D24: 0 | F24: =VLOOKUP(A24,Sheet1!$B$2:$G$761,4,0) -> 0 | G24: =TRUNC($D24*F24) -> 0 | H24: =VLOOKUP(A24,Sheet1!$B$2:$G$761,5,0) -> 0 | I24: =TRUNC($D24*H24) -> 0 | J24: =VLOOKUP(A24,Sheet1!$B$2:$G$761,6,0) -> 0 | K24: =TRUNC($D24*J24) -> 0
A25: BCB01Z53 | B25: ===이하 차수공사(S.Q.J)=== | D25: 0 | F25: =VLOOKUP(A25,Sheet1!$B$2:$G$761,4,0) -> 0 | G25: =TRUNC($D25*F25) -> 0 | H25: =VLOOKUP(A25,Sheet1!$B$2:$G$761,5,0) -> 0 | I25: =TRUNC($D25*H25) -> 0 | J25: =VLOOKUP(A25,Sheet1!$B$2:$G$761,6,0) -> 0 | K25: =TRUNC($D25*J25) -> 0
A26: BCB01Z54 | B26: ===이하 계측관리=== | D26: 0 | F26: =VLOOKUP(A26,Sheet1!$B$2:$G$761,4,0) -> 0 | G26: =TRUNC($D26*F26) -> 0 | H26: =VLOOKUP(A26,Sheet1!$B$2:$G$761,5,0) -> 0 | I26: =TRUNC($D26*H26) -> 0 | J26: =VLOOKUP(A26,Sheet1!$B$2:$G$761,6,0) -> 0 | K26: =TRUNC($D26*J26) -> 0
A27: BCB01Z59 | B27: ===이하 공사중 안내표지판 === | D27: 0 | F27: =VLOOKUP(A27,Sheet1!$B$2:$G$761,4,0) -> 0 | G27: =TRUNC($D27*F27) -> 0 | H27: =VLOOKUP(A27,Sheet1!$B$2:$G$761,5,0) -> 0 | I27: =TRUNC($D27*H27) -> 0 | J27: =VLOOKUP(A27,Sheet1!$B$2:$G$761,6,0) -> 0 | K27: =TRUNC($D27*J27) -> 0
A28: BCB01Z77 | B28: ===이하 방음벽설치공사=== | D28: 0 | F28: =VLOOKUP(A28,Sheet1!$B$2:$G$761,4,0) -> 0 | G28: =TRUNC($D28*F28) -> 0 | H28: =VLOOKUP(A28,Sheet1!$B$2:$G$761,5,0) -> 0 | I28: =TRUNC($D28*H28) -> 0 | J28: =VLOOKUP(A28,Sheet1!$B$2:$G$761,6,0) -> 0 | K28: =TRUNC($D28*J28) -> 0
A29: BCB01Z78 | B29: ===이하 수목이식공사 === | C29: 현장이식 | D29: 0 | F29: =VLOOKUP(A29,Sheet1!$B$2:$G$761,4,0) -> 0 | G29: =TRUNC($D29*F29) -> 0 | H29: =VLOOKUP(A29,Sheet1!$B$2:$G$761,5,0) -> 0 | I29: =TRUNC($D29*H29) -> 0 | J29: =VLOOKUP(A29,Sheet1!$B$2:$G$761,6,0) -> 0 | K29: =TRUNC($D29*J29) -> 0
A30: BCB01Z79 | B30: ===이하 수목이식공사 === | C30: 현장-->가식장 | D30: 0 | F30: =VLOOKUP(A30,Sheet1!$B$2:$G$761,4,0) -> 0 | G30: =TRUNC($D30*F30) -> 0 | H30: =VLOOKUP(A30,Sheet1!$B$2:$G$761,5,0) -> 0 | I30: =TRUNC($D30*H30) -> 0 | J30: =VLOOKUP(A30,Sheet1!$B$2:$G$761,6,0) -> 0 | K30: =TRUNC($D30*J30) -> 0
A31: BCB01Z81 | B31: ===이하 수목이식공사 === | C31: 가식장-->현장 | D31: 0 | F31: =VLOOKUP(A31,Sheet1!$B$2:$G$761,4,0) -> 0 | G31: =TRUNC($D31*F31) -> 0 | H31: =VLOOKUP(A31,Sheet1!$B$2:$G$761,5,0) -> 0 | I31: =TRUNC($D31*H31) -> 0 | J31: =VLOOKUP(A31,Sheet1!$B$2:$G$761,6,0) -> 0 | K31: =TRUNC($D31*J31) -> 0
A32: BCB01Z87 | B32: 외부반입토 (사질토,되메우기토) | C32: 별 산 | D32: 23949 | E32: m3 | F32: =VLOOKUP(A32,Sheet1!$B$2:$G$761,4,0) -> 0 | G32: =TRUNC($D32*F32) -> 0 | H32: =VLOOKUP(A32,Sheet1!$B$2:$G$761,5,0) -> 0 | I32: =TRUNC($D32*H32) -> 0 | J32: =VLOOKUP(A32,Sheet1!$B$2:$G$761,6,0) -> 0 | K32: =TRUNC($D32*J32) -> 0
A33: BCB01Z93 | B33: ===이하 방음벽 기초공사=== | D33: 0 | F33: =VLOOKUP(A33,Sheet1!$B$2:$G$761,4,0) -> 0 | G33: =TRUNC($D33*F33) -> 0 | H33: =VLOOKUP(A33,Sheet1!$B$2:$G$761,5,0) -> 0 | I33: =TRUNC($D33*H33) -> 0 | J33: =VLOOKUP(A33,Sheet1!$B$2:$G$761,6,0) -> 0 | K33: =TRUNC($D33*J33) -> 0
A34: BCB01Z96 | B34: ===이하 준공도서=== | D34: 0 | F34: =VLOOKUP(A34,Sheet1!$B$2:$G$761,4,0) -> 0 | G34: =TRUNC($D34*F34) -> 0 | H34: =VLOOKUP(A34,Sheet1!$B$2:$G$761,5,0) -> 0 | I34: =TRUNC($D34*H34) -> 0 | J34: =VLOOKUP(A34,Sheet1!$B$2:$G$761,6,0) -> 0 | K34: =TRUNC($D34*J34) -> 0
A35: BCB01ZA2 | B35: ===이하 신축이음=== | D35: 0 | F35: =VLOOKUP(A35,Sheet1!$B$2:$G$761,4,0) -> 0 | G35: =TRUNC($D35*F35) -> 0 | H35: =VLOOKUP(A35,Sheet1!$B$2:$G$761,5,0) -> 0 | I35: =TRUNC($D35*H35) -> 0 | J35: =VLOOKUP(A35,Sheet1!$B$2:$G$761,6,0) -> 0 | K35: =TRUNC($D35*J35) -> 0
A36: BCB01ZC3 | B36: ===이하 하수관준설공사=== | D36: 0 | F36: =VLOOKUP(A36,Sheet1!$B$2:$G$761,4,0) -> 0 | G36: =TRUNC($D36*F36) -> 0 | H36: =VLOOKUP(A36,Sheet1!$B$2:$G$761,5,0) -> 0 | I36: =TRUNC($D36*H36) -> 0 | J36: =VLOOKUP(A36,Sheet1!$B$2:$G$761,6,0) -> 0 | K36: =TRUNC($D36*J36) -> 0
A37: BCB01ZF1 | B37: 1. 배수펌프설치공사 | D37: 0 | F37: =VLOOKUP(A37,Sheet1!$B$2:$G$761,4,0) -> 0 | G37: =TRUNC($D37*F37) -> 0 | H37: =VLOOKUP(A37,Sheet1!$B$2:$G$761,5,0) -> 0 | I37: =TRUNC($D37*H37) -> 0 | J37: =VLOOKUP(A37,Sheet1!$B$2:$G$761,6,0) -> 0 | K37: =TRUNC($D37*J37) -> 0
A38: BCB01ZF2 | B38: 1). 환기설비공사 | D38: 0 | F38: =VLOOKUP(A38,Sheet1!$B$2:$G$761,4,0) -> 0 | G38: =TRUNC($D38*F38) -> 0 | H38: =VLOOKUP(A38,Sheet1!$B$2:$G$761,5,0) -> 0 | I38: =TRUNC($D38*H38) -> 0 | J38: =VLOOKUP(A38,Sheet1!$B$2:$G$761,6,0) -> 0 | K38: =TRUNC($D38*J38) -> 0
A39: BCB01ZF3 | B39: 2). 배수설비공사 | D39: 0 | F39: =VLOOKUP(A39,Sheet1!$B$2:$G$761,4,0) -> 0 | G39: =TRUNC($D39*F39) -> 0 | H39: =VLOOKUP(A39,Sheet1!$B$2:$G$761,5,0) -> 0 | I39: =TRUNC($D39*H39) -> 0 | J39: =VLOOKUP(A39,Sheet1!$B$2:$G$761,6,0) -> 0 | K39: =TRUNC($D39*J39) -> 0
A40: BCB01ZF4 | B40: 3). 자동제어설치공사 | D40: 0 | F40: =VLOOKUP(A40,Sheet1!$B$2:$G$761,4,0) -> 0 | G40: =TRUNC($D40*F40) -> 0 | H40: =VLOOKUP(A40,Sheet1!$B$2:$G$761,5,0) -> 0 | I40: =TRUNC($D40*H40) -> 0 | J40: =VLOOKUP(A40,Sheet1!$B$2:$G$761,6,0) -> 0 | K40: =TRUNC($D40*J40) -> 0
...

Sheet Sheet1
A1: gs_nm | B1: ilwi_cd | C1: v_nm | D1: v_gyukuk | E1: jajaebi | F1: ingunbi | G1: kyoungbi | H1: sul_cd | I1: unban_cd | J1: gs_nm | K1: compute_0015 | L1: nm | M1: gun_gubun
A2: 토공사 | B2: BCB01010 | C2: ( 절 토 ) ---- | H2: 00000 | I2: 00 | J2: 대지조성공사 | L2: 도시기반시설공사(택지개발) | M2: H | N2: =+E2+F2+G2 -> 0
A3: 토공사 | B3: QAD31212 | C3: 절취 및 상차(사질토) | D3: 90도, 양호 | E3: 247 | F3: 186 | G3: 200 | H3: 00000 | I3: 00 | J3: 대지조성공사 | L3: 도시기반시설공사(택지개발) | M3: H | N3: =+E3+F3+G3 -> 633
A4: 토공사 | B4: SCZ00095 | C4: 줄파기 | D4: 보통토사 | E4: 0 | F4: 12756 | G4: 0 | H4: 00000 | I4: 00 | J4: 대지조성공사 | L4: 도시기반시설공사(택지개발) | M4: H | N4: =+E4+F4+G4 -> 12756
A5: 토공사 | B5: QAA22210 | C5: 집토 (사질토 ) | D5: 양호 | E5: 251 | F5: 155 | G5: 179 | H5: 00000 | I5: 00 | J5: 대지조성공사 | L5: 도시기반시설공사(택지개발) | M5: H | N5: =+E5+F5+G5 -> 585
A6: 토공사 | B6: QAH42210 | C6: 상차(산적사질토) | D6: 양호 | E6: 130 | F6: 125 | G6: 143 | H6: 00000 | I6: 00 | J6: 대지조성공사 | L6: 도시기반시설공사(택지개발) | M6: H | N6: =+E6+F6+G6 -> 398
A7: 토공사 | B7: BCB01020 | C7: ( 성 토 ) ---- | H7: 00000 | I7: 00 | J7: 대지조성공사 | L7: 도시기반시설공사(택지개발) | M7: H | N7: =+E7+F7+G7 -> 0
A8: 토공사 | B8: SCZT0002 | C8: 노반준비공 | D8: 중기,보통 | E8: 53 | F8: 59 | G8: 43 | H8: 00000 | I8: 00 | J8: 대지조성공사 | L8: 도시기반시설공사(택지개발) | M8: H | N8: =+E8+F8+G8 -> 155
A9: 토공사 | B9: SCZT0003 | C9: 노상 ( 다짐) | E9: 176 | F9: 226 | G9: 147 | H9: 00000 | I9: 00 | J9: 대지조성공사 | L9: 도시기반시설공사(택지개발) | M9: H | N9: =+E9+F9+G9 -> 549
A10: 토공사 | B10: QAI99990 | C10: 부설 | D10: 노상 (모터그레이더 3.6M) | E10: 76 | F10: 60 | G10: 60 | H10: 00000 | I10: 00 | J10: 대지조성공사 | L10: 도시기반시설공사(택지개발) | M10: H | N10: =+E10+F10+G10 -> 196
A11: 토공사 | B11: SCZT0004 | C11: 노체 (다짐) | E11: 117 | F11: 151 | G11: 98 | H11: 00000 | I11: 00 | J11: 대지조성공사 | L11: 도시기반시설공사(택지개발) | M11: H | N11: =+E11+F11+G11 -> 366
A12: 토공사 | B12: QAI99980 | C12: 부설 | D12: 노체 (모터그레이더 3.6M) | E12: 76 | F12: 60 | G12: 60 | H12: 00000 | I12: 00 | J12: 대지조성공사 | L12: 도시기반시설공사(택지개발) | M12: H | N12: =+E12+F12+G12 -> 196
A13: 토공사 | B13: BCB01Z09 | C13: ===이하 외부반출토=== | D13: 되메우기, 성토량 포함 | H13: 00000 | I13: 00 | J13: 대지조성공사 | L13: 도시기반시설공사(택지개발) | M13: H | N13: =+E13+F13+G13 -> 0
A14: 토공사 | B14: QAJ22671 | C14: 외부반출토 (성토부,현장==>역세권) | D14: L = 7.0 KM | E14: 1807 | F14: 982 | G14: 1144 | H14: 00000 | I14: 00 | J14: 대지조성공사 | L14: 도시기반시설공사(택지개발) | M14: H | N14: =+E14+F14+G14 -> 3933
A15: 토공사 | B15: QAJ12625 | C15: 절취반출토 (성토부, 현장==>역세권) | D15: L = 7.0 KM | E15: 1910 | F15: 1038 | G15: 1209 | H15: 00000 | I15: 00 | J15: 대지조성공사 | L15: 도시기반시설공사(택지개발) | M15: H | N15: =+E15+F15+G15 -> 4157
A16: 토공사 | B16: QAA26210 | C16: 운반토의 정지 (사질토 ) | D16: 양호 | E16: 68 | F16: 42 | G16: 48 | H16: 00000 | I16: 00 | J16: 대지조성공사 | L16: 도시기반시설공사(택지개발) | M16: H | N16: =+E16+F16+G16 -> 158
A17: 토공사 | B17: QAJ12621 | C17: 외부반출토 (절취토, 현장==>서창2지구) | D17: L = 17.2 KM | E17: 3849 | F17: 2091 | G17: 2436 | H17: 00000 | I17: 00 | J17: 대지조성공사 | L17: 도시기반시설공사(택지개발) | M17: H | N17: =+E17+F17+G17 -> 8376
A18: 토공사 | B18: BCB01Z36 | C18: 구조물잔토 외부반출 | D18: 별 산 | H18: 00000 | I18: 00 | J18: 대지조성공사 | L18: 도시기반시설공사(택지개발) | M18: H | N18: =+E18+F18+G18 -> 0
A19: 토공사 | B19: BCB01Z08 | C19: ===이하 외부반입토 === | D19: 광명역세권==>현장(성토,되메우기용) | H19: 00000 | I19: 00 | J19: 대지조성공사 | L19: 도시기반시설공사(택지개발) | M19: H | N19: =+E19+F19+G19 -> 0
A20: 토공사 | B20: QAH42210 | C20: 상차(산적사질토) | D20: 양호 | E20: 130 | F20: 125 | G20: 143 | H20: 00000 | I20: 00 | J20: 대지조성공사 | L20: 도시기반시설공사(택지개발) | M20: H | N20: =+E20+F20+G20 -> 398
A21: 토공사 | B21: QAJ22672 | C21: 외부반입토 (역세권==>현장) | D21: L = 7.0 KM | E21: 1807 | F21: 982 | G21: 1144 | H21: 00000 | I21: 00 | J21: 대지조성공사 | L21: 도시기반시설공사(택지개발) | M21: H | N21: =+E21+F21+G21 -> 3933
A22: 토공사 | B22: BCB01Z05 | C22: ===이하 토공사부대시설 === | H22: 00000 | I22: 00 | J22: 대지조성공사 | L22: 도시기반시설공사(택지개발) | M22: H | N22: =+E22+F22+G22 -> 0
A23: 토공사 | B23: UCA60410 | C23: 토공비탈규준틀 | D23: 성토고3.0M이상 | E23: 1664 | F23: 31447 | G23: 0 | H23: 00000 | I23: 00 | J23: 대지조성공사 | L23: 도시기반시설공사(택지개발) | M23: H | N23: =+E23+F23+G23 -> 33111
A24: 토공사 | B24: UCA60420 | C24: 토공수평규준틀 | E24: 736 | F24: 31447 | G24: 0 | H24: 00000 | I24: 00 | J24: 대지조성공사 | L24: 도시기반시설공사(택지개발) | M24: H | N24: =+E24+F24+G24 -> 32183
A25: 토공사 | B25: ULB60504 | C25: 잔디(줄떼) 식재 | D25: 0.3X0.15X0.03 | E25: 1925 | F25: 3984 | G25: 0 | H25: 00000 | I25: 00 | J25: 대지조성공사 | L25: 도시기반시설공사(택지개발) | M25: H | N25: =+E25+F25+G25 -> 5909
A26: 토공사 | B26: ULB60502 | C26: 잔디(평떼) 식재 | D26: 0.3X0.3X0.03 | E26: 3850 | F26: 3984 | G26: 0 | H26: 00000 | I26: 00 | J26: 대지조성공사 | L26: 도시기반시설공사(택지개발) | M26: H | N26: =+E26+F26+G26 -> 7834
A27: 토공사 | B27: BCB01Z15 | C27: ==== 이하 지장수목 폐기물처리공사 ==== | H27: 00000 | I27: 00 | J27: 대지조성공사 | L27: 도시기반시설공사(택지개발) | M27: H | N27: =+E27+F27+G27 -> 0
A28: 토공사 | B28: SCZJK440 | C28: 뿌리뽑기 | D28: 수경10CM이하 잡목100% | E28: 0 | F28: 76536 | G28: 0 | H28: 00000 | I28: 00 | J28: 대지조성공사 | L28: 도시기반시설공사(택지개발) | M28: H | N28: =+E28+F28+G28 -> 76536
A29: 토공사 | B29: SCZJK600 | C29: 집목(나무뿌리) | D29: 백호(0.7m3)+ 부착용집계 | E29: 891 | F29: 1132 | G29: 1234 | H29: 00000 | I29: 00 | J29: 대지조성공사 | L29: 도시기반시설공사(택지개발) | M29: H | N29: =+E29+F29+G29 -> 3257
A30: 지장물 철거공사 | B30: BCB01Z11 | C30: ===이하 토목구조물 철거공사=== | H30: 00000 | I30: 00 | J30: 대지조성공사 | L30: 도시기반시설공사(택지개발) | M30: H | N30: =+E30+F30+G30 -> 0
A31: 지장물 철거공사 | B31: SCZGJ212 | C31: 구조물헐기(소형브레이커+공기압축기) | D31: 철근구조물 | E31: 14580 | F31: 100452 | G31: 3827 | H31: 00000 | I31: 00 | J31: 대지조성공사 | L31: 도시기반시설공사(택지개발) | M31: H | N31: =+E31+F31+G31 -> 118859
A32: 지장물 철거공사 | B32: UCA12535 | C32: 구조물헐기(BREAKER) | D32: 철근구조물 30CM이상 | E32: 11384 | F32: 25981 | G32: 14029 | H32: 00000 | I32: 00 | J32: 대지조성공사 | L32: 도시기반시설공사(택지개발) | M32: H | N32: =+E32+F32+G32 -> 51394
A33: 지장물 철거공사 | B33: UCA12530 | C33: 구조물헐기(BREAKER) | D33: 철근구조물 30CM미만 | E33: 9865 | F33: 23650 | G33: 11737 | H33: 00000 | I33: 00 | J33: 대지조성공사 | L33: 도시기반시설공사(택지개발) | M33: H | N33: =+E33+F33+G33 -> 45252
A34: 지장물 철거공사 | B34: UCA12430 | C34: 구조물헐기(BREAKER) | D34: 무근구조물 30CM미만 | E34: 4145 | F34: 6352 | G34: 6249 | H34: 00000 | I34: 00 | J34: 대지조성공사 | L34: 도시기반시설공사(택지개발) | M34: H | N34: =+E34+F34+G34 -> 16746
A35: 지장물 철거공사 | B35: SCZJK190 | C35: 구조물헐기시 철근절단 | E35: 2092 | F35: 11725 | G35: 117 | H35: 00000 | I35: 00 | J35: 대지조성공사 | L35: 도시기반시설공사(택지개발) | M35: H | N35: =+E35+F35+G35 -> 13934
A36: 지장물 철거공사 | B36: QCZZ0021 | C36: 집토(콘크리트,블럭류) | D36: 백호 | E36: 951 | F36: 718 | G36: 771 | H36: 00000 | I36: 00 | J36: 대지조성공사 | L36: 도시기반시설공사(택지개발) | M36: H | N36: =+E36+F36+G36 -> 2440
A37: 지장물 철거공사 | B37: SCZJ0010 | C37: 절단용천공 | D37: D50, L=0.2m | E37: 2704 | F37: 5117 | G37: 780 | H37: 00000 | I37: 00 | J37: 대지조성공사 | L37: 도시기반시설공사(택지개발) | M37: H | N37: =+E37+F37+G37 -> 8601
A38: 지장물 철거공사 | B38: SCZJ0012 | C38: 절단용천공 | D38: D50, L=0.3m | E38: 4056 | F38: 7676 | G38: 1170 | H38: 00000 | I38: 00 | J38: 대지조성공사 | L38: 도시기반시설공사(택지개발) | M38: H | N38: =+E38+F38+G38 -> 12902
A39: 지장물 철거공사 | B39: SCZJ0014 | C39: 절단용천공 | D39: D50, L=0.35m | E39: 4732 | F39: 8955 | G39: 1365 | H39: 00000 | I39: 00 | J39: 대지조성공사 | L39: 도시기반시설공사(택지개발) | M39: H | N39: =+E39+F39+G39 -> 15052
A40: 지장물 철거공사 | B40: SCZGJ542 | C40: WHEEL SAW절단 | E40: 30375 | F40: 20250 | G40: 16875 | H40: 00000 | I40: 00 | J40: 대지조성공사 | L40: 도시기반시설공사(택지개발) | M40: H | N40: =+E40+F40+G40 -> 67500
...

Sheet Sheet2

Sheet Sheet3
