Workbook
Name _1_3_0Crite: #REF!
Name _15A: [1]금액내역서!$D$3:$D$10
Name _2_3_0Criteria: #REF!
Name _3G_0Extr: #REF!
Name _4G_0Extract: #REF!
Name _A01: #REF!
Name _A02: #REF!
Name _A03: #REF!
Name _A04: #REF!
Name _A05: #REF!
Name _B02: #REF!
Name _b03: #REF!
Name _b05: #REF!
Name _b06: #REF!
Name _b07: #REF!
Name _b08: #REF!
Name _B10: #REF!
Name _B11: #REF!
Name _b12: #REF!
Name _b13: #REF!
Name _B14: #REF!
Name _b15: #REF!
Name _b17: #REF!
Name _b18: #REF!
Name _b19: #REF!
Name _B20: #REF!
Name _B21: #REF!
Name _B22: [2]일위대가!$A$1400:$IV$1413=[2]일위대가!$A$1400
Name _B23: #REF!
Name _B24: #REF!
Name _B25: #REF!
Name _B37: #REF!
Name _B38: #REF!
Name _C01: #REF!
Name _c02: #REF!
Name _D01: #REF!
Name _D02: #REF!
Name _DAN1: #REF!
Name _DAN10: #REF!
Name _DAN100: #REF!
Name _DAN101: #REF!
Name _DAN102: #REF!
Name _DAN103: #REF!
Name _DAN104: #REF!
Name _DAN105: #REF!
Name _DAN106: #REF!
Name _DAN107: #REF!
Name _DAN108: #REF!
Name _DAN109: #REF!
Name _DAN11: #REF!
Name _DAN110: #REF!
Name _DAN111: #REF!
Name _DAN112: #REF!
Name _DAN113: #REF!
Name _DAN114: #REF!
Name _DAN115: #REF!
Name _DAN116: #REF!
Name _DAN117: #REF!
Name _DAN118: #REF!
Name _DAN119: #REF!

Sheet 내역서
J1: 자재코드 | L1: 품 명 | M1: 규 격 | N1: 수 량 | O1: 단위 | P1: 자재단가 | Q1: 노임단가 | R1: 경비단가
A2: X073 | B2: C | C2: 02 | D2: 1998000000 | E2: H | F2: 00000 | G2: 00 | H2: 0000 | I2: A01 | J2: BCB01010 | K2: 1 | L2: ( 절 토 ) ---- | N2: 21363 | O2: m3 | P2: 0 | Q2: 0 | R2: 0
A3: X073 | B3: C | C3: 02 | D3: 1998000000 | E3: H | F3: 00000 | G3: 00 | H3: 0000 | I3: A01 | J3: QAD31212 | K3: 2 | L3: 절취 및 상차(사질토) | M3: 90도, 양호 | N3: 18123 | O3: m3 | P3: 0 | Q3: 0 | R3: 0
A4: X073 | B4: C | C4: 02 | D4: 1998000000 | E4: H | F4: 00000 | G4: 00 | H4: 0000 | I4: A01 | J4: SCZ00095 | K4: 3 | L4: 줄파기 | M4: 보통토사 | N4: 3240 | O4: m3 | P4: 0 | Q4: 0 | R4: 0
A5: X073 | B5: C | C5: 02 | D5: 1998000000 | E5: H | F5: 00000 | G5: 00 | H5: 0000 | I5: A01 | J5: QAA22210 | K5: 4 | L5: 집토 (사질토 ) | M5: 양호 | N5: 3240 | O5: m3 | P5: 0 | Q5: 0 | R5: 0
A6: X073 | B6: C | C6: 02 | D6: 1998000000 | E6: H | F6: 00000 | G6: 00 | H6: 0000 | I6: A01 | J6: QAH42210 | K6: 5 | L6: 상차(산적사질토) | M6: 양호 | N6: 3240 | O6: m3 | P6: 0 | Q6: 0 | R6: 0
A7: X073 | B7: C | C7: 02 | D7: 1998000000 | E7: H | F7: 00000 | G7: 00 | H7: 0000 | I7: A01 | J7: BCB01020 | K7: 6 | L7: ( 성 토 ) ---- | N7: 6887 | O7: m3 | P7: 0 | Q7: 0 | R7: 0
A8: X073 | B8: C | C8: 02 | D8: 1998000000 | E8: H | F8: 00000 | G8: 00 | H8: 0000 | I8: A01 | J8: SCZT0002 | K8: 7 | L8: 노반준비공 | M8: 중기,보통 | N8: 6603 | O8: m2 | P8: 0 | Q8: 0 | R8: 0
A9: X073 | B9: C | C9: 02 | D9: 1998000000 | E9: H | F9: 00000 | G9: 00 | H9: 0000 | I9: A01 | J9: SCZT0003 | K9: 8 | L9: 노상 ( 다짐) | N9: 4553 | O9: m3 | P9: 0 | Q9: 0 | R9: 0
A10: X073 | B10: C | C10: 02 | D10: 1998000000 | E10: H | F10: 00000 | G10: 00 | H10: 0000 | I10: A01 | J10: QAI99990 | K10: 9 | L10: 부설 | M10: 노상 (모터그레이더 3.6M) | N10: 6120 | O10: m3 | P10: 0 | Q10: 0 | R10: 0
A11: X073 | B11: C | C11: 02 | D11: 1998000000 | E11: H | F11: 00000 | G11: 00 | H11: 0000 | I11: A01 | J11: SCZT0004 | K11: 10 | L11: 노체 (다짐) | N11: 1877 | O11: m3 | P11: 0 | Q11: 0 | R11: 0
A12: X073 | B12: C | C12: 02 | D12: 1998000000 | E12: H | F12: 00000 | G12: 00 | H12: 0000 | I12: A01 | J12: QAI99980 | K12: 11 | L12: 부설 | M12: 노체 (모터그레이더 3.6M) | N12: 2394 | O12: m3 | P12: 0 | Q12: 0 | R12: 0
A13: X073 | B13: C | C13: 02 | D13: 1998000000 | E13: H | F13: 00000 | G13: 00 | H13: 0000 | I13: A01 | J13: BCB01Z09 | K13: 12 | L13: ===이하 외부반출토=== | M13: 되메우기, 성토량 포함 | N13: 90000 | O13: m3 | P13: 0 | Q13: 0 | R13: 0
A14: X073 | B14: C | C14: 02 | D14: 1998000000 | E14: H | F14: 00000 | G14: 00 | H14: 0000 | I14: A01 | J14: QAJ22671 | K14: 13 | L14: 외부반출토 (성토부,현장==>역세권) | M14: L = 7.0 KM | N14: 3240 | O14: m3 | P14: 0 | Q14: 0 | R14: 0
A15: X073 | B15: C | C15: 02 | D15: 1998000000 | E15: H | F15: 00000 | G15: 00 | H15: 0000 | I15: A01 | J15: QAJ12625 | K15: 14 | L15: 절취반출토 (성토부, 현장==>역세권) | M15: L = 7.0 KM | N15: 3647 | O15: m3 | P15: 0 | Q15: 0 | R15: 0
A16: X073 | B16: C | C16: 02 | D16: 1998000000 | E16: H | F16: 00000 | G16: 00 | H16: 0000 | I16: A01 | J16: QAA26210 | K16: 15 | L16: 운반토의 정지 (사질토 ) | M16: 양호 | N16: 6887 | O16: m3 | P16: 0 | Q16: 0 | R16: 0
A17: X073 | B17: C | C17: 02 | D17: 1998000000 | E17: H | F17: 00000 | G17: 00 | H17: 0000 | I17: A01 | J17: QAJ12621 | K17: 16 | L17: 외부반출토 (절취토, 현장==>서창2지구) | M17: L = 17.2 KM | N17: 14476 | O17: m3 | P17: 0 | Q17: 0 | R17: 0
A18: X073 | B18: C | C18: 02 | D18: 1998000000 | E18: H | F18: 00000 | G18: 00 | H18: 0000 | I18: A01 | J18: BCB01Z36 | K18: 17 | L18: 구조물잔토 외부반출 | M18: 별 산 | N18: 68637 | O18: m3 | P18: 0 | Q18: 0 | R18: 0
A19: X073 | B19: C | C19: 02 | D19: 1998000000 | E19: H | F19: 00000 | G19: 00 | H19: 0000 | I19: A01 | J19: BCB01Z08 | K19: 18 | L19: ===이하 외부반입토 === | M19: 광명역세권==>현장(성토,되메우기용) | N19: 30836 | O19: m3 | P19: 0 | Q19: 0 | R19: 0
A20: X073 | B20: C | C20: 02 | D20: 1998000000 | E20: H | F20: 00000 | G20: 00 | H20: 0000 | I20: A01 | J20: QAH42210 | K20: 19 | L20: 상차(산적사질토) | M20: 양호 | N20: 30836 | O20: m3 | P20: 0 | Q20: 0 | R20: 0
A21: X073 | B21: C | C21: 02 | D21: 1998000000 | E21: H | F21: 00000 | G21: 00 | H21: 0000 | I21: A01 | J21: QAJ22672 | K21: 20 | L21: 외부반입토 (역세권==>현장) | M21: L = 7.0 KM | N21: 30836 | O21: m3 | P21: 0 | Q21: 0 | R21: 0
A22: X073 | B22: C | C22: 02 | D22: 1998000000 | E22: H | F22: 00000 | G22: 00 | H22: 0000 | I22: A01 | J22: BCB01Z05 | K22: 21 | L22: ===이하 토공사부대시설 === | N22: 0 | P22: 0 | Q22: 0 | R22: 0
A23: X073 | B23: C | C23: 02 | D23: 1998000000 | E23: H | F23: 00000 | G23: 00 | H23: 0000 | I23: A01 | J23: UCA60410 | K23: 22 | L23: 토공비탈규준틀 | M23: 성토고3.0M이상 | N23: 86 | O23: 개소 | P23: 0 | Q23: 0 | R23: 0
A24: X073 | B24: C | C24: 02 | D24: 1998000000 | E24: H | F24: 00000 | G24: 00 | H24: 0000 | I24: A01 | J24: UCA60420 | K24: 23 | L24: 토공수평규준틀 | N24: 19 | O24: 개소 | P24: 0 | Q24: 0 | R24: 0
A25: X073 | B25: C | C25: 02 | D25: 1998000000 | E25: H | F25: 00000 | G25: 00 | H25: 0000 | I25: A01 | J25: ULB60504 | K25: 24 | L25: 잔디(줄떼) 식재 | M25: 0.3X0.15X0.03 | N25: 767 | O25: m2 | P25: 0 | Q25: 0 | R25: 0
A26: X073 | B26: C | C26: 02 | D26: 1998000000 | E26: H | F26: 00000 | G26: 00 | H26: 0000 | I26: A01 | J26: ULB60502 | K26: 25 | L26: 잔디(평떼) 식재 | M26: 0.3X0.3X0.03 | N26: 367 | O26: m2 | P26: 0 | Q26: 0 | R26: 0
A27: X073 | B27: C | C27: 02 | D27: 1998000000 | E27: H | F27: 00000 | G27: 00 | H27: 0000 | I27: A01 | J27: BCB01Z15 | K27: 26 | L27: ==== 이하 지장수목 폐기물처리공사 ==== | N27: 0 | P27: 0 | Q27: 0 | R27: 0
A28: X073 | B28: C | C28: 02 | D28: 1998000000 | E28: H | F28: 00000 | G28: 00 | H28: 0000 | I28: A01 | J28: SCZJK440 | K28: 27 | L28: 뿌리뽑기 | M28: 수경10CM이하 잡목100% | N28: 56.1 | O28: a | P28: 0 | Q28: 0 | R28: 0
A29: X073 | B29: C | C29: 02 | D29: 1998000000 | E29: H | F29: 00000 | G29: 00 | H29: 0000 | I29: A01 | J29: SCZJK600 | K29: 28 | L29: 집목(나무뿌리) | M29: 백호(0.7m3)+ 부착용집계 | N29: 1.18 | O29: m3 | P29: 0 | Q29: 0 | R29: 0
A30: X073 | B30: C | C30: 02 | D30: 1998000000 | E30: H | F30: 00000 | G30: 00 | H30: 0000 | I30: A04 | J30: BCB01Z11 | K30: 1 | L30: ===이하 토목구조물 철거공사=== | N30: 0 | P30: 0 | Q30: 0 | R30: 0
A31: X073 | B31: C | C31: 02 | D31: 1998000000 | E31: H | F31: 00000 | G31: 00 | H31: 0000 | I31: A04 | J31: SCZGJ212 | K31: 2 | L31: 구조물헐기(소형브레이커+공기압축기) | M31: 철근구조물 | N31: 23.7 | O31: m3 | P31: 0 | Q31: 0 | R31: 0
A32: X073 | B32: C | C32: 02 | D32: 1998000000 | E32: H | F32: 00000 | G32: 00 | H32: 0000 | I32: A04 | J32: UCA12535 | K32: 3 | L32: 구조물헐기(BREAKER) | M32: 철근구조물 30CM이상 | N32: 8118.09 | O32: m3 | P32: 0 | Q32: 0 | R32: 0
A33: X073 | B33: C | C33: 02 | D33: 1998000000 | E33: H | F33: 00000 | G33: 00 | H33: 0000 | I33: A04 | J33: UCA12530 | K33: 4 | L33: 구조물헐기(BREAKER) | M33: 철근구조물 30CM미만 | N33: 564.63 | O33: m3 | P33: 0 | Q33: 0 | R33: 0
A34: X073 | B34: C | C34: 02 | D34: 1998000000 | E34: H | F34: 00000 | G34: 00 | H34: 0000 | I34: A04 | J34: UCA12430 | K34: 5 | L34: 구조물헐기(BREAKER) | M34: 무근구조물 30CM미만 | N34: 1418.08 | O34: m3 | P34: 0 | Q34: 0 | R34: 0
A35: X073 | B35: C | C35: 02 | D35: 1998000000 | E35: H | F35: 00000 | G35: 00 | H35: 0000 | I35: A04 | J35: SCZJK190 | K35: 6 | L35: 구조물헐기시 철근절단 | N35: 8706.42 | O35: m3 | P35: 0 | Q35: 0 | R35: 0
A36: X073 | B36: C | C36: 02 | D36: 1998000000 | E36: H | F36: 00000 | G36: 00 | H36: 0000 | I36: A04 | J36: QCZZ0021 | K36: 7 | L36: 집토(콘크리트,블럭류) | M36: 백호 | N36: 757.91 | O36: m3 | P36: 0 | Q36: 0 | R36: 0
A37: X073 | B37: C | C37: 02 | D37: 1998000000 | E37: H | F37: 00000 | G37: 00 | H37: 0000 | I37: A04 | J37: SCZJ0010 | K37: 8 | L37: 절단용천공 | M37: D50, L=0.2m | N37: 34 | O37: 공 | P37: 0 | Q37: 0 | R37: 0
A38: X073 | B38: C | C38: 02 | D38: 1998000000 | E38: H | F38: 00000 | G38: 00 | H38: 0000 | I38: A04 | J38: SCZJ0012 | K38: 9 | L38: 절단용천공 | M38: D50, L=0.3m | N38: 14 | O38: 공 | P38: 0 | Q38: 0 | R38: 0
A39: X073 | B39: C | C39: 02 | D39: 1998000000 | E39: H | F39: 00000 | G39: 00 | H39: 0000 | I39: A04 | J39: SCZJ0014 | K39: 10 | L39: 절단용천공 | M39: D50, L=0.35m | N39: 82 | O39: 공 | P39: 0 | Q39: 0 | R39: 0
A40: X073 | B40: C | C40: 02 | D40: 1998000000 | E40: H | F40: 00000 | G40: 00 | H40: 0000 | I40: A04 | J40: SCZGJ542 | K40: 11 | L40: WHEEL SAW절단 | N40: 263.88 | O40: m | P40: 0 | Q40: 0 | R40: 0
A41: X073 | B41: C | C41: 02 | D41: 1998000000 | E41: H | F41: 00000 | G41: 00 | H41: 0000 | I41: A04 | J41: SCZGJ540 | K41: 12 | L41: D.W.S 절단 | N41: 22.14 | O41: m2 | P41: 0 | Q41: 0 | R41: 0
A42: X073 | B42: C | C42: 02 | D42: 1998000000 | E42: H | F42: 00000 | G42: 00 | H42: 0000 | I42: A04 | J42: SCZJK502 | K42: 13 | L42: 운반 및 적재 | M42: PL 1.72 (TRACK), 하수BOX철거, 불량 | N42: 9366.59 | O42: m3 | P42: 0 | Q42: 0 | R42: 0
A43: X073 | B43: C | C43: 02 | D43: 1998000000 | E43: H | F43: 00000 | G43: 00 | H43: 0000 | I43: A04 | J43: SCZJK512 | K43: 14 | L43: 지하차도부 폐콘크리트 상차 | M43: 무한궤도 크레인30TON+1.15M3 크램쉘 | N43: 9366.59 | O43: m3 | P43: 0 | Q43: 0 | R43: 0
A44: X073 | B44: C | C44: 02 | D44: 1998000000 | E44: H | F44: 00000 | G44: 00 | H44: 0000 | I44: A04 | J44: UCL02020 | K44: 15 | L44: 아스콘포장 절단 | M44: 포장카타기 | N44: 4741 | O44: m | P44: 0 | Q44: 0 | R44: 0
A45: X073 | B45: C | C45: 02 | D45: 1998000000 | E45: H | F45: 00000 | G45: 00 | H45: 0000 | I45: A04 | J45: SCZZ0031 | K45: 16 | L45: 아스콘굴삭(BREAKER) | M45: 파쇄 | N45: 4952.91 | O45: m3 | P45: 0 | Q45: 0 | R45: 0
A46: X073 | B46: C | C46: 02 | D46: 1998000000 | E46: H | F46: 00000 | G46: 00 | H46: 0000 | I46: A04 | J46: QCZZ0022 | K46: 17 | L46: 집토 (아스콘) | M46: 백호 | N46: 4952.91 | O46: m3 | P46: 0 | Q46: 0 | R46: 0
A47: X073 | B47: C | C47: 02 | D47: 1998000000 | E47: H | F47: 00000 | G47: 00 | H47: 0000 | I47: A04 | J47: QCZZ0050 | K47: 18 | L47: 보도블럭철거 | M47: 백호우1.0M3 | N47: 348.18 | O47: m3 | P47: 0 | Q47: 0 | R47: 0
A48: X073 | B48: C | C48: 02 | D48: 1998000000 | E48: H | F48: 00000 | G48: 00 | H48: 0000 | I48: A04 | J48: SCZGJ400 | K48: 19 | L48: 흄관철거(설치품의 50%) | M48: D-300MM | N48: 55 | O48: m | P48: 0 | Q48: 0 | R48: 0
A49: X073 | B49: C | C49: 02 | D49: 1998000000 | E49: H | F49: 00000 | G49: 00 | H49: 0000 | I49: A04 | J49: SCZGJ401 | K49: 20 | L49: 흄관철거(설치품의 50%) | M49: D-450MM | N49: 341 | O49: m | P49: 0 | Q49: 0 | R49: 0
A50: X073 | B50: C | C50: 02 | D50: 1998000000 | E50: H | F50: 00000 | G50: 00 | H50: 0000 | I50: A04 | J50: SCZGJ510 | K50: 21 | L50: 방음벽철거 | M50: H=4.0m, B=2.0m | N50: 243.5 | O50: m | P50: 0 | Q50: 0 | R50: 0
A51: X073 | B51: C | C51: 02 | D51: 1998000000 | E51: H | F51: 00000 | G51: 00 | H51: 0000 | I51: A04 | J51: SCZGJ601 | K51: 22 | L51: 난간 철거 | M51: H=1.1M | N51: 268.4 | O51: m | P51: 0 | Q51: 0 | R51: 0
A52: X073 | B52: C | C52: 02 | D52: 1998000000 | E52: H | F52: 00000 | G52: 00 | H52: 0000 | I52: A04 | J52: MGM60105 | K52: 23 | L52: 고 자 재 | M52: 철(중량) | N52: -852.78 | O52: t | P52: 0 | Q52: 0 | R52: 0
A53: X073 | B53: C | C53: 02 | D53: 1998000000 | E53: H | F53: 00000 | G53: 00 | H53: 0000 | I53: A04 | J53: SCZJK322 | K53: 24 | L53: 고 자 재 | M53: 스테인리스 | N53: -4.53 | O53: t | P53: 0 | Q53: 0 | R53: 0
A54: X073 | B54: C | C54: 02 | D54: 1998000000 | E54: H | F54: 00000 | G54: 00 | H54: 0000 | I54: A04 | J54: BCB01Z12 | K54: 25 | L54: ===이하 공사중발생 폐기물처리=== | N54: 0 | P54: 0 | Q54: 0 | R54: 0
A55: X073 | B55: C | C55: 02 | D55: 1998000000 | E55: H | F55: 00000 | G55: 00 | H55: 0000 | I55: A04 | J55: UCA12530 | K55: 26 | L55: 구조물헐기(BREAKER) | M55: 철근구조물 30CM미만 | N55: 26.06 | O55: m3 | P55: 0 | Q55: 0 | R55: 0
A56: X073 | B56: C | C56: 02 | D56: 1998000000 | E56: H | F56: 00000 | G56: 00 | H56: 0000 | I56: A04 | J56: UCA12430 | K56: 27 | L56: 구조물헐기(BREAKER) | M56: 무근구조물 30CM미만 | N56: 41.68 | O56: m3 | P56: 0 | Q56: 0 | R56: 0
A57: X073 | B57: C | C57: 02 | D57: 1998000000 | E57: H | F57: 00000 | G57: 00 | H57: 0000 | I57: A04 | J57: QCZZ0021 | K57: 28 | L57: 집토(콘크리트,블럭류) | M57: 백호 | N57: 67.74 | O57: m3 | P57: 0 | Q57: 0 | R57: 0
A58: X073 | B58: C | C58: 02 | D58: 1998000000 | E58: H | F58: 00000 | G58: 00 | H58: 0000 | I58: A04 | J58: BCB01Z01 | K58: 29 | L58: ===이하 폐기물반출 관리요원 === | N58: 0 | P58: 0 | Q58: 0 | R58: 0
A59: X073 | B59: C | C59: 02 | D59: 1998000000 | E59: H | F59: 00000 | G59: 00 | H59: 0000 | I59: A04 | J59: SCZ00055 | K59: 30 | L59: 폐기물 반출감시 및 계근 관리 | M59: 인부 2인/일 | N59: 12 | O59: 일 | P59: 0 | Q59: 0 | R59: 0
A60: X073 | B60: C | C60: 02 | D60: 1998000000 | E60: H | F60: 00000 | G60: 00 | H60: 0000 | I60: A05 | J60: UCB04060 | K60: 1 | L60: 흄관매설,소켓식 | M60: D-600MM,콘크리트기초(90도),보통토 | N60: 938.2 | O60: m | P60: 0 | Q60: 0 | R60: 0
A61: X073 | B61: C | C61: 02 | D61: 1998000000 | E61: H | F61: 00000 | G61: 00 | H61: 0000 | I61: A05 | J61: UCB05060 | K61: 2 | L61: 접속흄관매설,소켓식 | M61: D-600MM,콘크리트기초(90도),보통토 | N61: 152.5 | O61: m | P61: 0 | Q61: 0 | R61: 0
A62: X073 | B62: C | C62: 02 | D62: 1998000000 | E62: H | F62: 00000 | G62: 00 | H62: 0000 | I62: A05 | J62: SCZBS000 | K62: 3 | L62: 연락관 설치 | M62: D-300MM | N62: 472.2 | O62: m | P62: 0 | Q62: 0 | R62: 0
A63: X073 | B63: C | C63: 02 | D63: 1998000000 | E63: H | F63: 00000 | G63: 00 | H63: 0000 | I63: A05 | J63: SCZBS120 | K63: 4 | L63: 원형맨홀(pe거푸집),주철제뚜껑 | M63: D1200 (h=2.94m) | N63: 9 | O63: 개소 | P63: 0 | Q63: 0 | R63: 0
A64: X073 | B64: C | C64: 02 | D64: 1998000000 | E64: H | F64: 00000 | G64: 00 | H64: 0000 | I64: A05 | J64: SCZBS122 | K64: 5 | L64: 원형맨홀(pe거푸집),칼라콘크리트뚜껑 | M64: D1200 (h=2.94m) | N64: 11 | O64: 개소 | P64: 0 | Q64: 0 | R64: 0
A65: X073 | B65: C | C65: 02 | D65: 1998000000 | E65: H | F65: 00000 | G65: 00 | H65: 0000 | I65: A05 | J65: SCZBS150 | K65: 6 | L65: 원형맨홀(pe거푸집),주철제뚜껑 | M65: D1500 (h=2.67m) | N65: 1 | O65: 개소 | P65: 0 | Q65: 0 | R65: 0
A66: X073 | B66: C | C66: 02 | D66: 1998000000 | E66: H | F66: 00000 | G66: 00 | H66: 0000 | I66: A05 | J66: SCZBS151 | K66: 7 | L66: 원형맨홀(pe거푸집),칼라콘크리트뚜껑 | M66: D1500 (h=2.67m) | N66: 5 | O66: 개소 | P66: 0 | Q66: 0 | R66: 0
A67: X073 | B67: C | C67: 02 | D67: 1998000000 | E67: H | F67: 00000 | G67: 00 | H67: 0000 | I67: A05 | J67: UCA64320 | K67: 8 | L67: 잡석부설 | M67: 인력 | N67: 22.24 | O67: m3 | P67: 0 | Q67: 0 | R67: 0
A68: X073 | B68: C | C68: 02 | D68: 1998000000 | E68: H | F68: 00000 | G68: 00 | H68: 0000 | I68: A05 | J68: UCB52410 | K68: 9 | L68: 콘크리트 빗물받이(일반용) | M68: 0.3X0.4X1.08 | N68: 82 | O68: 개소 | P68: 0 | Q68: 0 | R68: 0
A69: X073 | B69: C | C69: 02 | D69: 1998000000 | E69: H | F69: 00000 | G69: 00 | H69: 0000 | I69: A05 | J69: MCD20918 | K69: 10 | L69: 흄관용 고무링 | M69: D- 300 | N69: 143 | O69: 개 | P69: 0 | Q69: 0 | R69: 0
A70: X073 | B70: C | C70: 02 | D70: 1998000000 | E70: H | F70: 00000 | G70: 00 | H70: 0000 | I70: A05 | J70: MCD20930 | K70: 11 | L70: 흄관용 고무링 | M70: D- 600 | N70: 49 | O70: 개 | P70: 0 | Q70: 0 | R70: 0
A71: X073 | B71: C | C71: 02 | D71: 1998000000 | E71: H | F71: 00000 | G71: 00 | H71: 0000 | I71: A05 | J71: UAJ14481 | K71: 12 | L71: 접속부몰탈바르기 (토목,조경) | N71: 0.54 | O71: m3 | P71: 0 | Q71: 0 | R71: 0
A72: X073 | B72: C | C72: 02 | D72: 1998000000 | E72: H | F72: 00000 | G72: 00 | H72: 0000 | I72: A13 | J72: UCP10210 | K72: 1 | L72: 일반아스팔트포장 표층 | M72: 기계시공, T=7CM이하 | N72: 18534.09 | O72: m2 | P72: 0 | Q72: 0 | R72: 0
A73: X073 | B73: C | C73: 02 | D73: 1998000000 | E73: H | F73: 00000 | G73: 00 | H73: 0000 | I73: A13 | J73: SCZPJ800 | K73: 2 | L73: 일반아스팔트포장 표층 | M73: 기계시공, T=7CM이상 | N73: 6189.2 | O73: m2 | P73: 0 | Q73: 0 | R73: 0
A74: X073 | B74: C | C74: 02 | D74: 1998000000 | E74: H | F74: 00000 | G74: 00 | H74: 0000 | I74: A13 | J74: SCZPJ900 | K74: 3 | L74: 일반아스팔트포장 표층 덧씌우기 | M74: 기계시공, T=7CM이하 | N74: 8947.76 | O74: m2 | P74: 0 | Q74: 0 | R74: 0
A75: X073 | B75: C | C75: 02 | D75: 1998000000 | E75: H | F75: 00000 | G75: 00 | H75: 0000 | I75: A13 | J75: UCP08110 | K75: 4 | L75: ASPALT살포비(아스팔트디스트리뷰티 ) | M75: 택코팅 | N75: 36765.82 | O75: m2 | P75: 0 | Q75: 0 | R75: 0
A76: X073 | B76: C | C76: 02 | D76: 1998000000 | E76: H | F76: 00000 | G76: 00 | H76: 0000 | I76: A13 | J76: MCF10313 | K76: 5 | L76: 아스콘 | M76: # 78(표층용) | N76: 4385.2 | O76: t | P76: 0 | Q76: 0 | R76: 0
A77: X073 | B77: C | C77: 02 | D77: 1998000000 | E77: H | F77: 00000 | G77: 00 | H77: 0000 | I77: A13 | J77: UCP10100 | K77: 6 | L77: 일반아스팔트포장 중간층 | M77: 기계시공, T=7CM이하 | N77: 18534.09 | O77: m2 | P77: 0 | Q77: 0 | R77: 0
A78: X073 | B78: C | C78: 02 | D78: 1998000000 | E78: H | F78: 00000 | G78: 00 | H78: 0000 | I78: A13 | J78: UCP08110 | K78: 7 | L78: ASPALT살포비(아스팔트디스트리뷰티 ) | M78: 택코팅 | N78: 18534.09 | O78: m2 | P78: 0 | Q78: 0 | R78: 0
A79: X073 | B79: C | C79: 02 | D79: 1998000000 | E79: H | F79: 00000 | G79: 00 | H79: 0000 | I79: A13 | J79: MCF10314 | K79: 8 | L79: 아스콘 | M79: # 67(중간층용) | N79: 2620.2 | O79: t | P79: 0 | Q79: 0 | R79: 0
A80: X073 | B80: C | C80: 02 | D80: 1998000000 | E80: H | F80: 00000 | G80: 00 | H80: 0000 | I80: A13 | J80: UCP10000 | K80: 9 | L80: 포장하부 아스팔트 기층(BB층) | M80: T=10CM이상 | N80: 31861.71 | O80: m2 | P80: 0 | Q80: 0 | R80: 0
A81: X073 | B81: C | C81: 02 | D81: 1998000000 | E81: H | F81: 00000 | G81: 00 | H81: 0000 | I81: A13 | J81: UCP08110 | K81: 10 | L81: ASPALT살포비(아스팔트디스트리뷰티 ) | M81: 택코팅 | N81: 31861.71 | O81: m2 | P81: 0 | Q81: 0 | R81: 0
A82: X073 | B82: C | C82: 02 | D82: 1998000000 | E82: H | F82: 00000 | G82: 00 | H82: 0000 | I82: A13 | J82: UCP08100 | K82: 11 | L82: ASPALT살포비(아스팔트디스트리뷰티 ) | M82: 프라임코팅 | N82: 30413 | O82: m2 | P82: 0 | Q82: 0 | R82: 0
A83: X073 | B83: C | C83: 02 | D83: 1998000000 | E83: H | F83: 00000 | G83: 00 | H83: 0000 | I83: A13 | J83: MCF10315 | K83: 12 | L83: 아스콘 | M83: #467(기층용) | N83: 10646.6 | O83: t | P83: 0 | Q83: 0 | R83: 0
... A104: X073 | B104: C | C104: 02 | D104: 1998000000 | E104: H | F104: 00000 | G104: 00 | H104: 0000 | I104: A13 | J104: UCP26110 | K104: 33 | L104: 차선도색(실선,파선 일괄시공) | M104: 백색,상온기계식 | N104: 4035.3 | O104: m2 | P104: 0 | Q104: 0 | R104: 0
A105: X073 | B105: C | C105: 02 | D105: 1998000000 | E105: H | F105: 00000 | G105: 00 | H105: 0000 | I105: A19 | J105: BCB01ZY7 | K105: 1 | L105: ===이하 구체공사=== | N105: 0 | P105: 0 | Q105: 0 | R105: 0
A106: X073 | B106: C | C106: 02 | D106: 1998000000 | E106: H | F106: 00000 | G106: 00 | H106: 0000 | I106: A19 | J106: UAC31315 | K106: 2 | L106: 펌프카타설(100M3이상, 철근구조물) (토목) | N106: 21199.8 | O106: m3 | P106: 0 | Q106: 0 | R106: 0
A107: X073 | B107: C | C107: 02 | D107: 1998000000 | E107: H | F107: 00000 | G107: 00 | H107: 0000 | I107: A19 | J107: UAC31305 | K107: 3 | L107: 펌프카타설(100M3이상,무근구조물) (토목) | N107: 1227.71 | O107: m3 | P107: 0 | Q107: 0 | R107: 0
A108: X073 | B108: C | C108: 02 | D108: 1998000000 | E108: H | F108: 00000 | G108: 00 | H108: 0000 | I108: A19 | J108: UAC31220 | K108: 4 | L108: 레미콘타설(버림콘크리트) (토목,조경) | N108: 1445.75 | O108: m3 | P108: 0 | Q108: 0 | R108: 0
A109: X073 | B109: C | C109: 02 | D109: 1998000000 | E109: H | F109: 00000 | G109: 00 | H109: 0000 | I109: A19 | J109: UAC10351 | K109: 5 | L109: 유로폼 (토목,조경) | M109: 바닥 | N109: 13933.35 | O109: m2 | P109: 0 | Q109: 0 | R109: 0
A110: X073 | B110: C | C110: 02 | D110: 1998000000 | E110: H | F110: 00000 | G110: 00 | H110: 0000 | I110: A19 | J110: UAC10355 | K110: 6 | L110: 유로폼 (토목,조경) | M110: 벽 | N110: 15002.15 | O110: m2 | P110: 0 | Q110: 0 | R110: 0
A111: X073 | B111: C | C111: 02 | D111: 1998000000 | E111: H | F111: 00000 | G111: 00 | H111: 0000 | I111: A19 | J111: UAC10059 | K111: 7 | L111: 거푸집 (토목,조경) | M111: 합판3회 | N111: 1788.96 | O111: m2 | P111: 0 | Q111: 0 | R111: 0
A112: X073 | B112: C | C112: 02 | D112: 1998000000 | E112: H | F112: 00000 | G112: 00 | H112: 0000 | I112: A19 | J112: UAC10065 | K112: 8 | L112: 거푸집 (토목,조경) | M112: 합판4회 | N112: 1523.3 | O112: m2 | P112: 0 | Q112: 0 | R112: 0
A113: X073 | B113: C | C113: 02 | D113: 1998000000 | E113: H | F113: 00000 | G113: 00 | H113: 0000 | I113: A19 | J113: UAC10451 | K113: 9 | L113: 문양거푸집 (토목,조경) | M113: 합판4회+문양스티로폴1회 | N113: 1541.9 | O113: m2 | P113: 0 | Q113: 0 | R113: 0
A114: X073 | B114: C | C114: 02 | D114: 1998000000 | E114: H | F114: 00000 | G114: 00 | H114: 0000 | I114: A19 | J114: UAC10071 | K114: 10 | L114: 거푸집 (토목,조경) | M114: 합판6회 | N114: 227.21 | O114: m2 | P114: 0 | Q114: 0 | R114: 0
A115: X073 | B115: C | C115: 02 | D115: 1998000000 | E115: H | F115: 00000 | G115: 00 | H115: 0000 | I115: A19 | J115: UAC20030 | K115: 11 | L115: 철근가공 및 조립 (보통) | M115: 토목공사 | N115: 3212.68 | O115: t | P115: 0 | Q115: 0 | R115: 0
A116: X073 | B116: C | C116: 02 | D116: 1998000000 | E116: H | F116: 00000 | G116: 00 | H116: 0000 | I116: A19 | J116: UAC20020 | K116: 12 | L116: 철근가공 및 조립 (간단) | M116: 토목공사 | N116: 18.56 | O116: t | P116: 0 | Q116: 0 | R116: 0
A117: X073 | B117: C | C117: 02 | D117: 1998000000 | E117: H | F117: 00000 | G117: 00 | H117: 0000 | I117: A19 | J117: SCZLE105 | K117: 13 | L117: 스페이셔 | M117: 슬래브 및 기초 | N117: 25392.31 | O117: m2 | P117: 0 | Q117: 0 | R117: 0
A118: X073 | B118: C | C118: 02 | D118: 1998000000 | E118: H | F118: 00000 | G118: 00 | H118: 0000 | I118: A19 | J118: SCZLE106 | K118: 14 | L118: 스페이셔 | M118: 벽체 및 기둥 | N118: 19060.05 | O118: m2 | P118: 0 | Q118: 0 | R118: 0
A119: X073 | B119: C | C119: 02 | D119: 1998000000 | E119: H | F119: 00000 | G119: 00 | H119: 0000 | I119: A19 | J119: UAA20360 | K119: 15 | L119: 강관틀 비계 (3개월) (토목,조경) | N119: 5182.53 | O119: m2 | P119: 0 | Q119: 0 | R119: 0
A120: X073 | B120: C | C120: 02 | D120: 1998000000 | E120: H | F120: 00000 | G120: 00 | H120: 0000 | I120: A19 | J120: UAA25435 | K120: 16 | L120: 강관동바리(교량구조물, H=4.2M)(토목) | N120: 2508.35 | O120: 10공M3 | P120: 0 | Q120: 0 | R120: 0
...

Sheet 토목총괄표
A1: 총괄표
A2: 공사명 : 광명시 대2-1호선 금천지하차도공사[금천지하차도]
A3: 지구/공구 :
A4: 구분 | B4: 합계 | D4: 도시기반시설공사(택지개발)
A5: 1. 재료비 | B5: =SUM(D5:F5) -> 11362841517 | D5: =공사별금액집계표!$C2+공사별금액집계표!$C3+공사별금액집계표!$C4+공사별금액집계표!$C5+공사별금액집계표!$C6+공사별금액집계표!$C7+공사별금액집계표!$C8+공사별금액집계표!$C9+공사별금액집계표!$C10+공사별금액집계표!$C11+공사별금액집계표!$C12+공사별금액집계표!$C13+공사별금액집계표!$C15 -> 11362841517
A6: 2. 노무비 | B6: =SUM(D6:F6) -> 0
A7: 직접노무비 | B7: =SUM(D7:F7) -> 8228911281 | D7: =공사별금액집계표!$D2+공사별금액집계표!$D3+공사별금액집계표!$D4+공사별금액집계표!$D5+공사별금액집계표!$D6+공사별금액집계표!$D7+공사별금액집계표!$D8+공사별금액집계표!$D9+공사별금액집계표!$D10+공사별금액집계표!$D11+공사별금액집계표!$D12+공사별금액집계표!$D13+공사별금액집계표!$D15 -> 8228911281
A8: 간접노무비 | B8: =SUM(D8:F8) -> 859098337 | D8: =TRUNC(D7*비율!$C$2) -> 859098337 | F8: =TRUNC(F7*비율!$C$2) -> 0
A9: 소 계 | B9: =SUM(D9:F9) -> 9088009618 | D9: =SUM(D7:D8) -> 9088009618 | F9: =SUM(F7:F8) -> 0
A10: 3. 경비 | B10: =SUM(D10:F10) -> 0
A11: 직접경비 | B11: =SUM(D11:F11) -> 1518738570 | D11: =공사별금액집계표!$E2+공사별금액집계표!$E3+공사별금액집계표!$E4+공사별금액집계표!$E5+공사별금액집계표!$E6+공사별금액집계표!$E7+공사별금액집계표!$E8+공사별금액집계표!$E9+공사별금액집계표!$E10+공사별금액집계표!$E11+공사별금액집계표!$E12+공사별금액집계표!$E13+공사별금액집계표!$E15 -> 1518738570
A12: 기타경비 | B12: =SUM(D12:F12) -> 1083895110 | D12: =TRUNC(SUM(D$5,D$9)*비율!$C$3) -> 1083895110 | F12: =TRUNC(SUM(F$5,F$9)*비율!$C$3) -> 0
A13: 산재보험료 | B13: =SUM(D13:F13) -> 327168346 | D13: =TRUNC(D9*비율!$C$4) -> 327168346 | F13: =TRUNC(F9*비율!$C$4) -> 0
A14: 안전관리비기초액 | B14: =SUM(D14:F14) -> 0
A15: 안전관리비 | B15: =SUM(D15:F15) -> 368324952 | D15: =IF($F$32>0,TRUNC(SUM(D5,D7,$F$32)*비율!$C6),TRUNC(SUM(D5,D7,TRUNC($F$34/1.1))*비율!$C6)) -> 368324952 | F15: =IF($F$32>0,TRUNC(SUM(F5,F7,$F$32)*비율!$C6),TRUNC(SUM(F5,F7,TRUNC($F$34/1.1))*비율!$C6)) -> 0
A16: 퇴직공제 부금비 | B16: =SUM(D16:F16) -> 189264959 | D16: =TRUNC(D$7*비율!$C7) -> 189264959 | F16: =TRUNC(F$7*비율!$C7) -> 0
A17: 고용보험료 | B17: =SUM(D17:F17) -> 64524868 | D17: =TRUNC(D$9*비율!$C8) -> 64524868 | F17: =TRUNC(F$9*비율!$C8) -> 0
A18: 국민건강보험료 | B18: =SUM(D18:F18) -> 122610778 | D18: =TRUNC(D$7*비율!$C9) -> 122610778 | F18: =TRUNC(F$7*비율!$C9) -> 0
A19: 국민연금보험료 | B19: =SUM(D19:F19) -> 199962544 | D19: =TRUNC(D$7*비율!$C10) -> 199962544 | F19: =TRUNC(F$7*비율!$C10) -> 0
A20: 이행보증수수료 | B20: =SUM(D20:F20) -> 0 | D20: =TRUNC(SUM(D5,D7,D11)*비율!$C11) -> 0 | F20: =TRUNC(SUM(F5,F7,F11)*비율!$C11) -> 0
A21: 하도급지급수수료 | B21: =SUM(D21:F21) -> 5488727 | D21: =TRUNC(SUM(D5,D7,D11)*비율!$C12) -> 5488727 | F21: =TRUNC(SUM(F5,F7,F11)*비율!$C12) -> 0
A22: 소 계 | B22: =SUM(D22:F22) -> 3879978854 | D22: =SUM(D11:D21) -> 3879978854 | F22: =SUM(F11:F21) -> 0
A23: 4. 일반관리비 | B23: =SUM(D23:F23) -> 851579049 | D23: =TRUNC(SUM(D5,D9,D22)*비율!$C13) -> 851579049 | F23: =TRUNC(SUM(F5,F9,F22)*비율!$C13) -> 0
A24: 5. 이윤 | B24: =SUM(D24:F24) -> 769749910 | D24: =TRUNC(SUM(D9,D22,D23)*비율!$C14) -> 769749910 | F24: =TRUNC(SUM(F9,F22,F23)*비율!$C14) -> 0
A25: 손해보험료 | B25: =SUM(D25:F25) -> 0 | D25: =TRUNC(SUM(D5,D9,D22,D23:D24)*비율!$C15) -> 0 | F25: =TRUNC(SUM(F5,F9,F22,F23:F24)*비율!$C15) -> 0
A26: 6. 부가가치세 | B26: =SUM(D26:F26) -> 0
A27: 면세 : (재료비*0.1*면적비) | B27: =SUM(D27:F27) -> 0 | D27: =ROUNDDOWN((D$5*0.1*$C27),-3) -> 0 | F27: =ROUNDDOWN((F$5*0.1*$C27),-3) -> 0
A28: 과세 : (1+..+5)*0.1*면적비 | B28: =SUM(D28:F28) -> 2595215000 | C28: 1 | D28: =ROUNDDOWN((SUM(D5,D9,D22:D25)*0.1*$C28),-3) -> 2595215000 | F28: =ROUNDDOWN((SUM(F5,F9,F22:F25)*0.1*$C28),-3) -> 0
A29: 총계 | B29: =SUM(D29:F29) -> 28547373948 | D29: =SUM(D5,D9,D22:D28) -> 28547373948 | F29: =SUM(F5,F9,F22:F28) -> 0
A32: 지급자재비
A34: 지급자재납품도

Sheet 비율
A1: CODE | B1: 계정 | C1: 적용율
A2: B2 | B2: 간접노무비 | C2: 0.1044
A3: C5 | B3: 기타경비 | C3: 0.053
A4: C2 | B4: 산재보험료 | C4: 0.036
A5: C3 | B5: 안전관리비기초액 | C5: 0
A6: C4 | B6: 안전관리비 | C6: 0.0188
A7: C6 | B7: 퇴직공제 부금비 | C7: 0.023
A8: F1 | B8: 고용보험료 | C8: 0.0071
A9: F3 | B9: 국민건강보험료 | C9: 0.0149
A10: F4 | B10: 국민연금보험료 | C10: 0.0243
A11: F6 | B11: 이행보증수수료 | C11: 0
A12: F7 | B12: 하도급지급수수료 | C12: 0.00026
A13: D0 | B13: 일반관리비 | C13: 0.035
... A15: F0 | B15: 손해보험료 | C15: 0

Sheet Factor
A1: 설계가격 공종별보합 및 재료비율과 노무비율
A3: 공사명 :
A4: 구 분 | B4: 공종보합 | C4: 내역분합 | D4: 차이(0.5%) | E4: 금액비율 | K4: 비고 | M4: FACTOR
E5: 기준재료비율 | F5: 내역상비율 | G5: 편차(0.1%) | H5: 기준노무비율 | I5: 내역상비율 | J5: 편차(0.1%) | M5: 재+노+경 | N5: 자재비 | O5: 인건비 | P5: 경비
D6: =B6-C6 -> 0 | G6: =E6-F6 -> 0 | J6: =H6-I6 -> 0
A8: 소계 | B8: =SUM(B6:B7) -> 0 | C8: =SUM(C6:C7) -> 0 | D8: =B8-C8 -> 0
J10: 평점 (8*a값)
A11: 구 분 | B11: 재료비 | C11: 노무비 | D11: 경비 | E11: 계(경비제외) | F11: 계 | G11: 투찰재료 *입찰노무(A) | H11: 투찰노무 *입찰재료(B) | I11: A/B | J11: 투찰 공종별 보합기준 | K11: 입찰 공종별 보합기준
E12: =SUM(B12:C12) -> 0 | F12: =SUM(B12:D12) -> 0 | G12: =(E6*I6) -> 0 | H12: =(H6*F6) -> 0 | I12: =IF(G12=0,0,IF(G12<H12,G12/H12,H12/G12)) -> 0 | J12: =ROUND(B6*I12,4)*8 -> 0 | K12: =ROUND(C6*I12,4)*8 -> 0
A14: 소계 | B14: =SUM(B12:B13) -> 0 | C14: =SUM(C12:C13) -> 0 | D14: =SUM(D12:D13) -> 0 | E14: =SUM(E12:E13) -> 0 | F14: =SUM(F12:F13) -> 0 | J14: =SUM(J12:J13) -> 0 | K14: =SUM(K12:K13) -> 0

Sheet 공사별금액집계표
A1: 건물구분 | B1: 공사구분 | C1: 자재비 | D1: 노무비 | E1: 경비 | F1: 계
A2: 대지조성공사 | B2: 토공사 | C2: =주택공사양식내역서!$F$33 -> 139512567 | D2: =주택공사양식내역서!$H$33 -> 131596423 | E2: =주택공사양식내역서!$J$33 -> 89713169 | F2: =주택공사양식내역서!$L$33 -> 360822159 | G2: A01 | H2: C | I2: H
B3: 지장물 철거공사 | C3: =주택공사양식내역서!$F$65 -> -120818341 | D3: =주택공사양식내역서!$H$65 -> 417716985 | E3: =주택공사양식내역서!$J$65 -> 201709754 | F3: =주택공사양식내역서!$L$65 -> 498608398 | G3: A04 | H3: C | I3: H
B4: 배수공사 | C4: =주택공사양식내역서!$F$79 -> 52696129 | D4: =주택공사양식내역서!$H$79 -> 90625792 | E4: =주택공사양식내역서!$J$79 -> 6900858 | F4: =주택공사양식내역서!$L$79 -> 150222779 | G4: A05 | H4: C | I4: H
B5: 포장공사 | C5: =주택공사양식내역서!$F$114 -> 991760199 | D5: =주택공사양식내역서!$H$114 -> 143190500 | E5: =주택공사양식내역서!$J$114 -> 76316859 | F5: =주택공사양식내역서!$L$114 -> 1211267558 | G5: A13 | H5: C | I5: H
B6: 지하 차도공사 | C6: =주택공사양식내역서!$F$296 -> 4275702887 | D6: =주택공사양식내역서!$H$296 -> 3205429366 | E6: =주택공사양식내역서!$J$296 -> 143696023 | F6: =주택공사양식내역서!$L$296 -> 7624828276 | G6: A19 | H6: C | I6: H
B7: 흙막이공사 | C7: =주택공사양식내역서!$F$480 -> 4663904350 | D7: =주택공사양식내역서!$H$480 -> 3242388163 | E7: =주택공사양식내역서!$J$480 -> 650591638 | F7: =주택공사양식내역서!$L$480 -> 8556884151 | G7: A27 | H7: C | I7: H
B8: 부대시설공사 | C8: =주택공사양식내역서!$F$644 -> 456155829 | D8: =주택공사양식내역서!$H$644 -> 405758552 | E8: =주택공사양식내역서!$J$644 -> 31131612 | F8: =주택공사양식내역서!$L$644 -> 893045993 | G8: A35 | H8: C | I8: H
B9: 기타공사 | C9: =주택공사양식내역서!$F$692 -> 162082771 | D9: =주택공사양식내역서!$H$692 -> 352174831 | E9: =주택공사양식내역서!$J$692 -> 67129820 | F9: =주택공사양식내역서!$L$692 -> 581387422 | G9: A71 | H9: C | I9: H
B10: 품질시험 | C10: =주택공사양식내역서!$F$716 -> 0 | D10: =주택공사양식내역서!$H$716 -> 0 | E10: =주택공사양식내역서!$J$716 -> 9374655 | F10: =주택공사양식내역서!$L$716 -> 9374655 | G10: A73 | H10: C | I10: H
B11: 중기운반 | C11: =주택공사양식내역서!$F$724 -> 1105128 | D11: =주택공사양식내역서!$H$724 -> 1385426 | E11: =주택공사양식내역서!$J$724 -> 1537527 | F11: =주택공사양식내역서!$L$724 -> 4028081 | G11: A75 | H11: C | I11: H
B12: 구조물터파기공사 | C12: =주택공사양식내역서!$F$744 -> 235837817 | D12: =주택공사양식내역서!$H$744 -> 230698105 | E12: =주택공사양식내역서!$J$744 -> 187965588 | F12: =주택공사양식내역서!$L$744 -> 654501510 | G12: A77 | H12: C | I12: H
B13: 주요자재 | C13: =주택공사양식내역서!$F$767 -> 495896298 | D13: =주택공사양식내역서!$H$767 -> 3725889 | E13: =주택공사양식내역서!$J$767 -> 52322273 | F13: =주택공사양식내역서!$L$767 -> 551944460 | G13: A79 | H13: C | I13: H
B14: 소계 | C14: =SUBTOTAL(9,C2:C13) -> 11353835634 | D14: =SUBTOTAL(9,D2:D13) -> 8224690032 | E14: =SUBTOTAL(9,E2:E13) -> 1518389776 | F14: =SUBTOTAL(9,F2:F13) -> 21096915442
A15: 토목설비공사 | B15: 급수간선공사 | C15: =주택공사양식내역서!$F$790 -> 9005883 | D15: =주택공사양식내역서!$H$790 -> 4221249 | E15: =주택공사양식내역서!$J$790 -> 348794 | F15: =주택공사양식내역서!$L$790 -> 13575926 | G15: C09 | H15: C | I15: H
B16: 소계 | C16: =SUBTOTAL(9,C15:C15) -> 9005883 | D16: =SUBTOTAL(9,D15:D15) -> 4221249 | E16: =SUBTOTAL(9,E15:E15) -> 348794 | F16: =SUBTOTAL(9,F15:F15) -> 13575926
B17: 합계 | C17: =SUBTOTAL(9,C2:C16) -> 11362841517 | D17: =SUBTOTAL(9,D2:D16) -> 8228911281 | E17: =SUBTOTAL(9,E2:E16) -> 1518738570 | F17: =SUBTOTAL(9,F2:F16) -> 21110491368

Sheet 주택공사양식내역서
A1: 품 명 | B1: 규 격 | C1: 수 량 | D1: 단 위 | E1: 자 재 비 | G1: 인 건 비 | I1: 경 비 | K1: 합 계 | M1: 비 고
E2: 단 가 | F2: 금 액 | G2: 단 가 | H2: 금 액 | I2: 단 가 | J2: 금 액 | K2: 단 가 | L2: 금 액
A3: 대지조성공사 | K3: =SUM(E3,G3,I3) -> 0 | L3: =SUM(F3,H3,J3) -> 0 | R3: =M3-K3 -> 0
A4: 토공사 | K4: =SUM(E4,G4,I4) -> 0 | L4: =SUM(F4,H4,J4) -> 0 | N4: C | O4: H | P4: A01 | R4: =M4-K4 -> 0
A5: ( 절 토 ) ---- | C5: 21363 | D5: m3 | E5: =단가표!F3 -> 0 | F5: =IF(ISERROR(TRUNC($C5*E5)),,(TRUNC($C5*E5))) -> 0 | G5: =단가표!H3 -> 0 | H5: =IF(ISERROR(TRUNC($C5*G5)),,(TRUNC($C5*G5))) -> 0 | I5: =단가표!J3 -> 0 | J5: =IF(ISERROR(TRUNC($C5*I5)),,(TRUNC($C5*I5))) -> 0 | K5: =SUM(E5,G5,I5) -> 0 | L5: =SUM(F5,H5,J5) -> 0 | M5: 0 | N5: C | O5: H | P5: A01 | Q5: BCB01010 | R5: =M5-K5 -> 0
A6: 절취 및 상차(사질토) | B6: 90도, 양호 | C6: 18123 | D6: m3 | E6: =단가표!F164 -> 247 | F6: =IF(ISERROR(TRUNC($C6*E6)),,(TRUNC($C6*E6))) -> 4476381 | G6: =단가표!H164 -> 186 | H6: =IF(ISERROR(TRUNC($C6*G6)),,(TRUNC($C6*G6))) -> 3370878 | I6: =단가표!J164 -> 200 | J6: =IF(ISERROR(TRUNC($C6*I6)),,(TRUNC($C6*I6))) -> 3624600 | K6: =SUM(E6,G6,I6) -> 633 | L6: =SUM(F6,H6,J6) -> 11471859 | M6: 633 | N6: C | O6: H | P6: A01 | Q6: QAD31212 | R6: =M6-K6 -> 0
A7: 줄파기 | B7: 보통토사 | C7: 3240 | D7: m3 | E7: =단가표!F194 -> 0 | F7: =IF(ISERROR(TRUNC($C7*E7)),,(TRUNC($C7*E7))) -> 0 | G7: =단가표!H194 -> 12756 | H7: =IF(ISERROR(TRUNC($C7*G7)),,(TRUNC($C7*G7))) -> 41329440 | I7: =단가표!J194 -> 0 | J7: =IF(ISERROR(TRUNC($C7*I7)),,(TRUNC($C7*I7))) -> 0 | K7: =SUM(E7,G7,I7) -> 12756 | L7: =SUM(F7,H7,J7) -> 41329440 | M7: 12756 | N7: C | O7: H | P7: A01 | Q7: SCZ00095 | R7: =M7-K7 -> 0
A8: 집토 (사질토 ) | B8: 양호 | C8: 3240 | D8: m3 | E8: =단가표!F157 -> 251 | F8: =IF(ISERROR(TRUNC($C8*E8)),,(TRUNC($C8*E8))) -> 813240 | G8: =단가표!H157 -> 155 | H8: =IF(ISERROR(TRUNC($C8*G8)),,(TRUNC($C8*G8))) -> 502200 | I8: =단가표!J157 -> 179 | J8: =IF(ISERROR(TRUNC($C8*I8)),,(TRUNC($C8*I8))) -> 579960 | K8: =SUM(E8,G8,I8) -> 585 | L8: =SUM(F8,H8,J8) -> 1895400 | M8: 585 | N8: C | O8: H | P8: A01 | Q8: QAA22210 | R8: =M8-K8 -> 0
A9: 상차(산적사질토) | B9: 양호 | C9: 3240 | D9: m3 | E9: =단가표!F165 -> 130 | F9: =IF(ISERROR(TRUNC($C9*E9)),,(TRUNC($C9*E9))) -> 421200 | G9: =단가표!H165 -> 125 | H9: =IF(ISERROR(TRUNC($C9*G9)),,(TRUNC($C9*G9))) -> 405000 | I9: =단가표!J165 -> 143 | J9: =IF(ISERROR(TRUNC($C9*I9)),,(TRUNC($C9*I9))) -> 463320 | K9: =SUM(E9,G9,I9) -> 398 | L9: =SUM(F9,H9,J9) -> 1289520 | M9: 398 | N9: C | O9: H | P9: A01 | Q9: QAH42210 | R9: =M9-K9 -> 0
A10: ( 성 토 ) ---- | C10: 6887 | D10: m3 | E10: =단가표!F4 -> 0 | F10: =IF(ISERROR(TRUNC($C10*E10)),,(TRUNC($C10*E10))) -> 0 | G10: =단가표!H4 -> 0 | H10: =IF(ISERROR(TRUNC($C10*G10)),,(TRUNC($C10*G10))) -> 0 | I10: =단가표!J4 -> 0 | J10: =IF(ISERROR(TRUNC($C10*I10)),,(TRUNC($C10*I10))) -> 0 | K10: =SUM(E10,G10,I10) -> 0 | L10: =SUM(F10,H10,J10) -> 0 | M10: 0 | N10: C | O10: H | P10: A01 | Q10: BCB01020 | R10: =M10-K10 -> 0
A11: 노반준비공 | B11: 중기,보통 | C11: 6603 | D11: m2 | E11: =단가표!F557 -> 53 | F11: =IF(ISERROR(TRUNC($C11*E11)),,(TRUNC($C11*E11))) -> 349959 | G11: =단가표!H557 -> 59 | H11: =IF(ISERROR(TRUNC($C11*G11)),,(TRUNC($C11*G11))) -> 389577 | I11: =단가표!J557 -> 43 | J11: =IF(ISERROR(TRUNC($C11*I11)),,(TRUNC($C11*I11))) -> 283929 | K11: =SUM(E11,G11,I11) -> 155 | L11: =SUM(F11,H11,J11) -> 1023465 | M11: 155 | N11: C | O11: H | P11: A01 | Q11: SCZT0002 | R11: =M11-K11 -> 0
A12: 노상 ( 다짐) | C12: 4553 | D12: m3 | E12: =단가표!F558 -> 176 | F12: =IF(ISERROR(TRUNC($C12*E12)),,(TRUNC($C12*E12))) -> 801328 | G12: =단가표!H558 -> 226 | H12: =IF(ISERROR(TRUNC($C12*G12)),,(TRUNC($C12*G12))) -> 1028978 | I12: =단가표!J558 -> 147 | J12: =IF(ISERROR(TRUNC($C12*I12)),,(TRUNC($C12*I12))) -> 669291 | K12: =SUM(E12,G12,I12) -> 549 | L12: =SUM(F12,H12,J12) -> 2499597 | M12: 549 | N12: C | O12: H | P12: A01 | Q12: SCZT0003 | R12: =M12-K12 -> 0
A13: 부설 | B13: 노상 (모터그레이더 3.6M) | C13: 6120 | D13: m3 | E13: =단가표!F167 -> 76 | F13: =IF(ISERROR(TRUNC($C13*E13)),,(TRUNC($C13*E13))) -> 465120 | G13: =단가표!H167 -> 60 | H13: =IF(ISERROR(TRUNC($C13*G13)),,(TRUNC($C13*G13))) -> 367200 | I13: =단가표!J167 -> 60 | J13: =IF(ISERROR(TRUNC($C13*I13)),,(TRUNC($C13*I13))) -> 367200 | K13: =SUM(E13,G13,I13) -> 196 | L13: =SUM(F13,H13,J13) -> 1199520 | M13: 196 | N13: C | O13: H | P13: A01 | Q13: QAI99990 | R13: =M13-K13 -> 0
A14: 노체 (다짐) | C14: 1877 | D14: m3 | E14: =단가표!F559 -> 117 | F14: =IF(ISERROR(TRUNC($C14*E14)),,(TRUNC($C14*E14))) -> 219609 | G14: =단가표!H559 -> 151 | H14: =IF(ISERROR(TRUNC($C14*G14)),,(TRUNC($C14*G14))) -> 283427 | I14: =단가표!J559 -> 98 | J14: =IF(ISERROR(TRUNC($C14*I14)),,(TRUNC($C14*I14))) -> 183946 | K14: =SUM(E14,G14,I14) -> 366 | L14: =SUM(F14,H14,J14) -> 686982 | M14: 366 | N14: C | O14: H | P14: A01 | Q14: SCZT0004 | R14: =M14-K14 -> 0
A15: 부설 | B15: 노체 (모터그레이더 3.6M) | C15: 2394 | D15: m3 | E15: =단가표!F166 -> 76 | F15: =IF(ISERROR(TRUNC($C15*E15)),,(TRUNC($C15*E15))) -> 181944 | G15: =단가표!H166 -> 60 | H15: =IF(ISERROR(TRUNC($C15*G15)),,(TRUNC($C15*G15))) -> 143640 | I15: =단가표!J166 -> 60 | J15: =IF(ISERROR(TRUNC($C15*I15)),,(TRUNC($C15*I15))) -> 143640 | K15: =SUM(E15,G15,I15) -> 196 | L15: =SUM(F15,H15,J15) -> 469224 | M15: 196 | N15: C | O15: H | P15: A01 | Q15: QAI99980 | R15: =M15-K15 -> 0
A16: ===이하 외부반출토=== | B16: 되메우기, 성토량 포함 | C16: 90000 | D16: m3 | E16: =단가표!F11 -> 0 | F16: =IF(ISERROR(TRUNC($C16*E16)),,(TRUNC($C16*E16))) -> 0 | G16: =단가표!H11 -> 0 | H16: =IF(ISERROR(TRUNC($C16*G16)),,(TRUNC($C16*G16))) -> 0 | I16: =단가표!J11 -> 0 | J16: =IF(ISERROR(TRUNC($C16*I16)),,(TRUNC($C16*I16))) -> 0 | K16: =SUM(E16,G16,I16) -> 0 | L16: =SUM(F16,H16,J16) -> 0 | M16: 0 | N16: C | O16: H | P16: A01 | Q16: BCB01Z09 | R16: =M16-K16 -> 0
A17: 외부반출토 (성토부,현장==>역세권) | B17: L = 7.0 KM | C17: 3240 | D17: m3 | E17: =단가표!F170 -> 1807 | F17: =IF(ISERROR(TRUNC($C17*E17)),,(TRUNC($C17*E17))) -> 5854680 | G17: =단가표!H170 -> 982 | H17: =IF(ISERROR(TRUNC($C17*G17)),,(TRUNC($C17*G17))) -> 3181680 | I17: =단가표!J170 -> 1144 | J17: =IF(ISERROR(TRUNC($C17*I17)),,(TRUNC($C17*I17))) -> 3706560 | K17: =SUM(E17,G17,I17) -> 3933 | L17: =SUM(F17,H17,J17) -> 12742920 | M17: 3933 | N17: C | O17: H | P17: A01 | Q17: QAJ22671 | R17: =M17-K17 -> 0
A18: 절취반출토 (성토부, 현장==>역세권) | B18: L = 7.0 KM | C18: 3647 | D18: m3 | E18: =단가표!F169 -> 1910 | F18: =IF(ISERROR(TRUNC($C18*E18)),,(TRUNC($C18*E18))) -> 6965770 | G18: =단가표!H169 -> 1038 | H18: =IF(ISERROR(TRUNC($C18*G18)),,(TRUNC($C18*G18))) -> 3785586 | I18: =단가표!J169 -> 1209 | J18: =IF(ISERROR(TRUNC($C18*I18)),,(TRUNC($C18*I18))) -> 4409223 | K18: =SUM(E18,G18,I18) -> 4157 | L18: =SUM(F18,H18,J18) -> 15160579 | M18: 4157 | N18: C | O18: H | P18: A01 | Q18: QAJ12625 | R18: =M18-K18 -> 0
A19: 운반토의 정지 (사질토 ) | B19: 양호 | C19: 6887 | D19: m3 | E19: =단가표!F158 -> 68 | F19: =IF(ISERROR(TRUNC($C19*E19)),,(TRUNC($C19*E19))) -> 468316 | G19: =단가표!H158 -> 42 | H19: =IF(ISERROR(TRUNC($C19*G19)),,(TRUNC($C19*G19))) -> 289254 | I19: =단가표!J158 -> 48 | J19: =IF(ISERROR(TRUNC($C19*I19)),,(TRUNC($C19*I19))) -> 330576 | K19: =SUM(E19,G19,I19) -> 158 | L19: =SUM(F19,H19,J19) -> 1088146 | M19: 158 | N19: C | O19: H | P19: A01 | Q19: QAA26210 | R19: =M19-K19 -> 0
A20: 외부반출토 (절취토, 현장==>서창2지구) | B20: L = 17.2 KM | C20: 14476 | D20: m3 | E20: =단가표!F168 -> 3849 | F20: =IF(ISERROR(TRUNC($C20*E20)),,(TRUNC($C20*E20))) -> 55718124 | G20: =단가표!H168 -> 2091 | H20: =IF(ISERROR(TRUNC($C20*G20)),,(TRUNC($C20*G20))) -> 30269316 | I20: =단가표!J168 -> 2436 | J20: =IF(ISERROR(TRUNC($C20*I20)),,(TRUNC($C20*I20))) -> 35263536 | K20: =SUM(E20,G20,I20) -> 8376 | L20: =SUM(F20,H20,J20) -> 121250976 | M20: 8376 | N20: C | O20: H | P20: A01 | Q20: QAJ12621 | R20: =M20-K20 -> 0
A21: 구조물잔토 외부반출 | B21: 별 산 | C21: 68637 | D21: m3 | E21: =단가표!F21 -> 0 | F21: =IF(ISERROR(TRUNC($C21*E21)),,(TRUNC($C21*E21))) -> 0 | G21: =단가표!H21 -> 0 | H21: =IF(ISERROR(TRUNC($C21*G21)),,(TRUNC($C21*G21))) -> 0 | I21: =단가표!J21 -> 0 | J21: =IF(ISERROR(TRUNC($C21*I21)),,(TRUNC($C21*I21))) -> 0 | K21: =SUM(E21,G21,I21) -> 0 | L21: =SUM(F21,H21,J21) -> 0 | M21: 0 | N21: C | O21: H | P21: A01 | Q21: BCB01Z36 | R21: =M21-K21 -> 0
A22: ===이하 외부반입토 === | B22: 광명역세권==>현장(성토,되메우기용) | C22: 30836 | D22: m3 | E22: =단가표!F10 -> 0 | F22: =IF(ISERROR(TRUNC($C22*E22)),,(TRUNC($C22*E22))) -> 0 | G22: =단가표!H10 -> 0 | H22: =IF(ISERROR(TRUNC($C22*G22)),,(TRUNC($C22*G22))) -> 0 | I22: =단가표!J10 -> 0 | J22: =IF(ISERROR(TRUNC($C22*I22)),,(TRUNC($C22*I22))) -> 0 | K22: =SUM(E22,G22,I22) -> 0 | L22: =SUM(F22,H22,J22) -> 0 | M22: 0 | N22: C | O22: H | P22: A01 | Q22: BCB01Z08 | R22: =M22-K22 -> 0
A23: 상차(산적사질토) | B23: 양호 | C23: 30836 | D23: m3 | E23: =단가표!F165 -> 130 | F23: =IF(ISERROR(TRUNC($C23*E23)),,(TRUNC($C23*E23))) -> 4008680 | G23: =단가표!H165 -> 125 | H23: =IF(ISERROR(TRUNC($C23*G23)),,(TRUNC($C23*G23))) -> 3854500 | I23: =단가표!J165 -> 143 | J23: =IF(ISERROR(TRUNC($C23*I23)),,(TRUNC($C23*I23))) -> 4409548 | K23: =SUM(E23,G23,I23) -> 398 | L23: =SUM(F23,H23,J23) -> 12272728 | M23: 398 | N23: C | O23: H | P23: A01 | Q23: QAH42210 | R23: =M23-K23 -> 0
A24: 외부반입토 (역세권==>현장) | B24: L = 7.0 KM | C24: 30836 | D24: m3 | E24: =단가표!F171 -> 1807 | F24: =IF(ISERROR(TRUNC($C24*E24)),,(TRUNC($C24*E24))) -> 55720652 | G24: =단가표!H171 -> 982 | H24: =IF(ISERROR(TRUNC($C24*G24)),,(TRUNC($C24*G24))) -> 30280952 | I24: =단가표!J171 -> 1144 | J24: =IF(ISERROR(TRUNC($C24*I24)),,(TRUNC($C24*I24))) -> 35276384 | K24: =SUM(E24,G24,I24) -> 3933 | L24: =SUM(F24,H24,J24) -> 121277988 | M24: 3933 | N24: C | O24: H | P24: A01 | Q24: QAJ22672 | R24: =M24-K24 -> 0
A25: ===이하 토공사부대시설 === | C25: 0 | E25: =단가표!F7 -> 0 | F25: =IF(ISERROR(TRUNC($C25*E25)),,(TRUNC($C25*E25))) -> 0 | G25: =단가표!H7 -> 0 | H25: =IF(ISERROR(TRUNC($C25*G25)),,(TRUNC($C25*G25))) -> 0 | I25: =단가표!J7 -> 0 | J25: =IF(ISERROR(TRUNC($C25*I25)),,(TRUNC($C25*I25))) -> 0 | K25: =SUM(E25,G25,I25) -> 0 | L25: =SUM(F25,H25,J25) -> 0 | M25: 0 | N25: C | O25: H | P25: A01 | Q25: BCB01Z05 | R25: =M25-K25 -> 0
A26: 토공비탈규준틀 | B26: 성토고3.0M이상 | C26: 86 | D26: 개소 | E26: =단가표!F639 -> 1664 | F26: =IF(ISERROR(TRUNC($C26*E26)),,(TRUNC($C26*E26))) -> 143104 | G26: =단가표!H639 -> 31447 | H26: =IF(ISERROR(TRUNC($C26*G26)),,(TRUNC($C26*G26))) -> 2704442 | I26: =단가표!J639 -> 0 | J26: =IF(ISERROR(TRUNC($C26*I26)),,(TRUNC($C26*I26))) -> 0 | K26: =SUM(E26,G26,I26) -> 33111 | L26: =SUM(F26,H26,J26) -> 2847546 | M26: 33111 | N26: C | O26: H | P26: A01 | Q26: UCA60410 | R26: =M26-K26 -> 0
A27: 토공수평규준틀 | C27: 19 | D27: 개소 | E27: =단가표!F640 -> 736 | F27: =IF(ISERROR(TRUNC($C27*E27)),,(TRUNC($C27*E27))) -> 13984 | G27: =단가표!H640 -> 31447 | H27: =IF(ISERROR(TRUNC($C27*G27)),,(TRUNC($C27*G27))) -> 597493 | I27: =단가표!J640 -> 0 | J27: =IF(ISERROR(TRUNC($C27*I27)),,(TRUNC($C27*I27))) -> 0 | K27: =SUM(E27,G27,I27) -> 32183 | L27: =SUM(F27,H27,J27) -> 611477 | M27: 32183 | N27: C | O27: H | P27: A01 | Q27: UCA60420 | R27: =M27-K27 -> 0
A28: 잔디(줄떼) 식재 | B28: 0.3X0.15X0.03 | C28: 767 | D28: m2 | E28: =단가표!F677 -> 1925 | F28: =IF(ISERROR(TRUNC($C28*E28)),,(TRUNC($C28*E28))) -> 1476475 | G28: =단가표!H677 -> 3984 | H28: =IF(ISERROR(TRUNC($C28*G28)),,(TRUNC($C28*G28))) -> 3055728 | I28: =단가표!J677 -> 0 | J28: =IF(ISERROR(TRUNC($C28*I28)),,(TRUNC($C28*I28))) -> 0 | K28: =SUM(E28,G28,I28) -> 5909 | L28: =SUM(F28,H28,J28) -> 4532203 | M28: 5909 | N28: C | O28: H | P28: A01 | Q28: ULB60504 | R28: =M28-K28 -> 0
A29: 잔디(평떼) 식재 | B29: 0.3X0.3X0.03 | C29: 367 | D29: m2 | E29: =단가표!F676 -> 3850 | F29: =IF(ISERROR(TRUNC($C29*E29)),,(TRUNC($C29*E29))) -> 1412950 | G29: =단가표!H676 -> 3984 | H29: =IF(ISERROR(TRUNC($C29*G29)),,(TRUNC($C29*G29))) -> 1462128 | I29: =단가표!J676 -> 0 | J29: =IF(ISERROR(TRUNC($C29*I29)),,(TRUNC($C29*I29))) -> 0 | K29: =SUM(E29,G29,I29) -> 7834 | L29: =SUM(F29,H29,J29) -> 2875078 | M29: 7834 | N29: C | O29: H | P29: A01 | Q29: ULB60502 | R29: =M29-K29 -> 0
A30: ==== 이하 지장수목 폐기물처리공사 ==== | C30: 0 | E30: =단가표!F15 -> 0 | F30: =IF(ISERROR(TRUNC($C30*E30)),,(TRUNC($C30*E30))) -> 0 | G30: =단가표!H15 -> 0 | H30: =IF(ISERROR(TRUNC($C30*G30)),,(TRUNC($C30*G30))) -> 0 | I30: =단가표!J15 -> 0 | J30: =IF(ISERROR(TRUNC($C30*I30)),,(TRUNC($C30*I30))) -> 0 | K30: =SUM(E30,G30,I30) -> 0 | L30: =SUM(F30,H30,J30) -> 0 | M30: 0 | N30: C | O30: H | P30: A01 | Q30: BCB01Z15 | R30: =M30-K30 -> 0
A31: 뿌리뽑기 | B31: 수경10CM이하 잡목100% | C31: 56.1 | D31: a | E31: =단가표!F384 -> 0 | F31: =IF(ISERROR(TRUNC($C31*E31)),,(TRUNC($C31*E31))) -> 0 | G31: =단가표!H384 -> 76536 | H31: =IF(ISERROR(TRUNC($C31*G31)),,(TRUNC($C31*G31))) -> 4293669 | I31: =단가표!J384 -> 0 | J31: =IF(ISERROR(TRUNC($C31*I31)),,(TRUNC($C31*I31))) -> 0 | K31: =SUM(E31,G31,I31) -> 76536 | L31: =SUM(F31,H31,J31) -> 4293669 | M31: 76536 | N31: C | O31: H | P31: A01 | Q31: SCZJK440 | R31: =M31-K31 -> 0
A32: 집목(나무뿌리) | B32: 백호(0.7m3)+ 부착용집계 | C32: 1.18 | D32: m3 | E32: =단가표!F392 -> 891 | F32: =IF(ISERROR(TRUNC($C32*E32)),,(TRUNC($C32*E32))) -> 1051 | G32: =단가표!H392 -> 1132 | H32: =IF(ISERROR(TRUNC($C32*G32)),,(TRUNC($C32*G32))) -> 1335 | I32: =단가표!J392 -> 1234 | J32: =IF(ISERROR(TRUNC($C32*I32)),,(TRUNC($C32*I32))) -> 1456 | K32: =SUM(E32,G32,I32) -> 3257 | L32: =SUM(F32,H32,J32) -> 3842 | M32: 3257 | N32: C | O32: H | P32: A01 | Q32: SCZJK600 | R32: =M32-K32 -> 0
A33: 합 계 | F33: =SUM(F3:F32) -> 139512567 | H33: =SUM(H3:H32) -> 131596423 | J33: =SUM(J3:J32) -> 89713169 | K33: =SUM(E33,G33,I33) -> 0 | L33: =SUM(F33,H33,J33) -> 360822159 | M33: 0 | N33: C | O33: H | P33: A01 | R33: =M33-K33 -> 0
A34: 지장물 철거공사 | K34: =SUM(E34,G34,I34) -> 0 | L34: =SUM(F34,H34,J34) -> 0 | N34: C | O34: H | P34: A04 | R34: =M34-K34 -> 0
A35: ===이하 토목구조물 철거공사=== | C35: 0 | E35: =단가표!F12 -> 0 | F35: =IF(ISERROR(TRUNC($C35*E35)),,(TRUNC($C35*E35))) -> 0 | G35: =단가표!H12 -> 0 | H35: =IF(ISERROR(TRUNC($C35*G35)),,(TRUNC($C35*G35))) -> 0 | I35: =단가표!J12 -> 0 | J35: =IF(ISERROR(TRUNC($C35*I35)),,(TRUNC($C35*I35))) -> 0 | K35: =SUM(E35,G35,I35) -> 0 | L35: =SUM(F35,H35,J35) -> 0 | N35: C | O35: H | P35: A04 | Q35: BCB01Z11 | R35: =M35-K35 -> 0
A36: 구조물헐기(소형브레이커+공기압축기) | B36: 철근구조물 | C36: 23.7 | D36: m3 | E36: =단가표!F282 -> 14580 | F36: =IF(ISERROR(TRUNC($C36*E36)),,(TRUNC($C36*E36))) -> 345546 | G36: =단가표!H282 -> 100452 | H36: =IF(ISERROR(TRUNC($C36*G36)),,(TRUNC($C36*G36))) -> 2380712 | I36: =단가표!J282 -> 3827 | J36: =IF(ISERROR(TRUNC($C36*I36)),,(TRUNC($C36*I36))) -> 90699 | K36: =SUM(E36,G36,I36) -> 118859 | L36: =SUM(F36,H36,J36) -> 2816957 | M36: 118859 | N36: C | O36: H | P36: A04 | Q36: SCZGJ212 | R36: =M36-K36 -> 0
A37: 구조물헐기(BREAKER) | B37: 철근구조물 30CM이상 | C37: 8118.09 | D37: m3 | E37: =단가표!F636 -> 11384 | F37: =IF(ISERROR(TRUNC($C37*E37)),,(TRUNC($C37*E37))) -> 92416336 | G37: =단가표!H636 -> 25981 | H37: =IF(ISERROR(TRUNC($C37*G37)),,(TRUNC($C37*G37))) -> 210916096 | I37: =단가표!J636 -> 14029 | J37: =IF(ISERROR(TRUNC($C37*I37)),,(TRUNC($C37*I37))) -> 113888684 | K37: =SUM(E37,G37,I37) -> 51394 | L37: =SUM(F37,H37,J37) -> 417221116 | M37: 51394 | N37: C | O37: H | P37: A04 | Q37: UCA12535 | R37: =M37-K37 -> 0
A38: 구조물헐기(BREAKER) | B38: 철근구조물 30CM미만 | C38: 564.63 | D38: m3 | E38: =단가표!F635 -> 9865 | F38: =IF(ISERROR(TRUNC($C38*E38)),,(TRUNC($C38*E38))) -> 5570074 | G38: =단가표!H635 -> 23650 | H38: =IF(ISERROR(TRUNC($C38*G38)),,(TRUNC($C38*G38))) -> 13353499 | I38: =단가표!J635 -> 11737 | J38: =IF(ISERROR(TRUNC($C38*I38)),,(TRUNC($C38*I38))) -> 6627062 | K38: =SUM(E38,G38,I38) -> 45252 | L38: =SUM(F38,H38,J38) -> 25550635 | M38: 45252 | N38: C | O38: H | P38: A04 | Q38: UCA12530 | R38: =M38-K38 -> 0
A39: 구조물헐기(BREAKER) | B39: 무근구조물 30CM미만 | C39: 1418.08 | D39: m3 | E39: =단가표!F634 -> 4145 | F39: =IF(ISERROR(TRUNC($C39*E39)),,(TRUNC($C39*E39))) -> 5877941 | G39: =단가표!H634 -> 6352 | H39: =IF(ISERROR(TRUNC($C39*G39)),,(TRUNC($C39*G39))) -> 9007644 | I39: =단가표!J634 -> 6249 | J39: =IF(ISERROR(TRUNC($C39*I39)),,(TRUNC($C39*I39))) -> 8861581 | K39: =SUM(E39,G39,I39) -> 16746 | L39: =SUM(F39,H39,J39) -> 23747166 | M39: 16746 | N39: C | O39: H | P39: A04 | Q39: UCA12430 | R39: =M39-K39 -> 0
A40: 구조물헐기시 철근절단 | C40: 8706.42 | D40: m3 | E40: =단가표!F368 -> 2092 | F40: =IF(ISERROR(TRUNC($C40*E40)),,(TRUNC($C40*E40))) -> 18213830 | G40: =단가표!H368 -> 11725 | H40: =IF(ISERROR(TRUNC($C40*G40)),,(TRUNC($C40*G40))) -> 102082774 | I40: =단가표!J368 -> 117 | J40: =IF(ISERROR(TRUNC($C40*I40)),,(TRUNC($C40*I40))) -> 1018651 | K40: =SUM(E40,G40,I40) -> 13934 | L40: =SUM(F40,H40,J40) -> 121315255 | M40: 13934 | N40: C | O40: H | P40: A04 | Q40: SCZJK190 | R40: =M40-K40 -> 0
A41: 집토(콘크리트,블럭류) | B41: 백호 | C41: 757.91 | D41: m3 | E41: =단가표!F180 -> 951 | F41: =IF(ISERROR(TRUNC($C41*E41)),,(TRUNC($C41*E41))) -> 720772 | G41: =단가표!H180 -> 718 | H41: =IF(ISERROR(TRUNC($C41*G41)),,(TRUNC($C41*G41))) -> 544179 | I41: =단가표!J180 -> 771 | J41: =IF(ISERROR(TRUNC($C41*I41)),,(TRUNC($C41*I41))) -> 584348 | K41: =SUM(E41,G41,I41) -> 2440 | L41: =SUM(F41,H41,J41) -> 1849299 | M41: 2440 | N41: C | O41: H | P41: A04 | Q41: QCZZ0021 | R41: =M41-K41 -> 0
A42: 절단용천공 | B42: D50, L=0.2m | C42: 34 | D42: 공 | E42: =단가표!F322 -> 2704 | F42: =IF(ISERROR(TRUNC($C42*E42)),,(TRUNC($C42*E42))) -> 91936 | G42: =단가표!H322 -> 5117 | H42: =IF(ISERROR(TRUNC($C42*G42)),,(TRUNC($C42*G42))) -> 173978 | I42: =단가표!J322 -> 780 | J42: =IF(ISERROR(TRUNC($C42*I42)),,(TRUNC($C42*I42))) -> 26520 | K42: =SUM(E42,G42,I42) -> 8601 | L42: =SUM(F42,H42,J42) -> 292434 | M42: 8601 | N42: C | O42: H | P42: A04 | Q42: SCZJ0010 | R42: =M42-K42 -> 0
A43: 절단용천공 | B43: D50, L=0.3m | C43: 14 | D43: 공 | E43: =단가표!F323 -> 4056 | F43: =IF(ISERROR(TRUNC($C43*E43)),,(TRUNC($C43*E43))) -> 56784 | G43: =단가표!H323 -> 7676 | H43: =IF(ISERROR(TRUNC($C43*G43)),,(TRUNC($C43*G43))) -> 107464 | I43: =단가표!J323 -> 1170 | J43: =IF(ISERROR(TRUNC($C43*I43)),,(TRUNC($C43*I43))) -> 16380 | K43: =SUM(E43,G43,I43) -> 12902 | L43: =SUM(F43,H43,J43) -> 180628 | M43: 12902 | N43: C | O43: H | P43: A04 | Q43: SCZJ0012 | R43: =M43-K43 -> 0
A44: 절단용천공 | B44: D50, L=0.35m | C44: 82 | D44: 공 | E44: =단가표!F324 -> 4732 | F44: =IF(ISERROR(TRUNC($C44*E44)),,(TRUNC($C44*E44))) -> 388024 | G44: =단가표!H324 -> 8955 | H44: =IF(ISERROR(TRUNC($C44*G44)),,(TRUNC($C44*G44))) -> 734310 | I44: =단가표!J324 -> 1365 | J44: =IF(ISERROR(TRUNC($C44*I44)),,(TRUNC($C44*I44))) -> 111930 | K44: =SUM(E44,G44,I44) -> 15052 | L44: =SUM(F44,H44,J44) -> 1234264 | M44: 15052 | N44: C | O44: H | P44: A04 | Q44: SCZJ0014 | R44: =M44-K44 -> 0
A45: WHEEL SAW절단 | C45: 263.88 | D45: m | E45: =단가표!F287 -> 30375 | F45: =IF(ISERROR(TRUNC($C45*E45)),,(TRUNC($C45*E45))) -> 8015355 | G45: =단가표!H287 -> 20250 | H45: =IF(ISERROR(TRUNC($C45*G45)),,(TRUNC($C45*G45))) -> 5343570 | I45: =단가표!J287 -> 16875 | J45: =IF(ISERROR(TRUNC($C45*I45)),,(TRUNC($C45*I45))) -> 4452975 | K45: =SUM(E45,G45,I45) -> 67500 | L45: =SUM(F45,H45,J45) -> 17811900 | M45: 67500 | N45: C | O45: H | P45: A04 | Q45: SCZGJ542 | R45: =M45-K45 -> 0
A46: D.W.S 절단 | C46: 22.14 | D46: m2 | E46: =단가표!F286 -> 246456 | F46: =IF(ISERROR(TRUNC($C46*E46)),,(TRUNC($C46*E46))) -> 5456535 | G46: =단가표!H286 -> 135434 | H46: =IF(ISERROR(TRUNC($C46*G46)),,(TRUNC($C46*G46))) -> 2998508 | I46: =단가표!J286 -> 60526 | J46: =IF(ISERROR(TRUNC($C46*I46)),,(TRUNC($C46*I46))) -> 1340045 | K46: =SUM(E46,G46,I46) -> 442416 | L46: =SUM(F46,H46,J46) -> 9795088 | M46: 442416 | N46: C | O46: H | P46: A04 | Q46: SCZGJ540 | R46: =M46-K46 -> 0
A47: 운반 및 적재 | B47: PL 1.72 (TRACK), 하수BOX철거, 불량 | C47: 9366.59 | D47: m3 | E47: =단가표!F388 -> 1768 | F47: =IF(ISERROR(TRUNC($C47*E47)),,(TRUNC($C47*E47))) -> 16560131 | G47: =단가표!H388 -> 1798 | H47: =IF(ISERROR(TRUNC($C47*G47)),,(TRUNC($C47*G47))) -> 16841128 | I47: =단가표!J388 -> 2042 | J47: =IF(ISERROR(TRUNC($C47*I47)),,(TRUNC($C47*I47))) -> 19126576 | K47: =SUM(E47,G47,I47) -> 5608 | L47: =SUM(F47,H47,J47) -> 52527835 | M47: 5608 | N47: C | O47: H | P47: A04 | Q47: SCZJK502 | R47: =M47-K47 -> 0
A48: 지하차도부 폐콘크리트 상차 | B48: 무한궤도 크레인30TON+1.15M3 크램쉘 | C48: 9366.59 | D48: m3 | E48: =단가표!F390 -> 574 | F48: =IF(ISERROR(TRUNC($C48*E48)),,(TRUNC($C48*E48))) -> 5376422 | G48: =단가표!H390 -> 818 | H48: =IF(ISERROR(TRUNC($C48*G48)),,(TRUNC($C48*G48))) -> 7661870 | I48: =단가표!J390 -> 1184 | J48: =IF(ISERROR(TRUNC($C48*I48)),,(TRUNC($C48*I48))) -> 11090042 | K48: =SUM(E48,G48,I48) -> 2576 | L48: =SUM(F48,H48,J48) -> 24128334 | M48: 2576 | N48: C | O48: H | P48: A04 | Q48: SCZJK512 | R48: =M48-K48 -> 0
A49: 아스콘포장 절단 | B49: 포장카타기 | C49: 4741 | D49: m | E49: =단가표!F652 -> 844 | F49: =IF(ISERROR(TRUNC($C49*E49)),,(TRUNC($C49*E49))) -> 4001404 | G49: =단가표!H652 -> 915 | H49: =IF(ISERROR(TRUNC($C49*G49)),,(TRUNC($C49*G49))) -> 4338015 | I49: =단가표!J652 -> 48 | J49: =IF(ISERROR(TRUNC($C49*I49)),,(TRUNC($C49*I49))) -> 227568 | K49: =SUM(E49,G49,I49) -> 1807 | L49: =SUM(F49,H49,J49) -> 8566987 | M49: 1807 | N49: C | O49: H | P49: A04 | Q49: UCL02020 | R49: =M49-K49 -> 0
A50: 아스콘굴삭(BREAKER) | B50: 파쇄 | C50: 4952.91 | D50: m3 | E50: =단가표!F563 -> 3650 | F50: =IF(ISERROR(TRUNC($C50*E50)),,(TRUNC($C50*E50))) -> 18078121 | G50: =단가표!H563 -> 4330 | H50: =IF(ISERROR(TRUNC($C50*G50)),,(TRUNC($C50*G50))) -> 21446100 | I50: =단가표!J563 -> 5752 | J50: =IF(ISERROR(TRUNC($C50*I50)),,(TRUNC($C50*I50))) -> 28489138 | K50: =SUM(E50,G50,I50) -> 13732 | L50: =SUM(F50,H50,J50) -> 68013359 | M50: 13732 | N50: C | O50: H | P50: A04 | Q50: SCZZ0031 | R50: =M50-K50 -> 0
A51: 집토 (아스콘) | B51: 백호 | C51: 4952.91 | D51: m3 | E51: =단가표!F181 -> 747 | F51: =IF(ISERROR(TRUNC($C51*E51)),,(TRUNC($C51*E51))) -> 3699823 | G51: =단가표!H181 -> 564 | H51: =IF(ISERROR(TRUNC($C51*G51)),,(TRUNC($C51*G51))) -> 2793441 | I51: =단가표!J181 -> 605 | J51: =IF(ISERROR(TRUNC($C51*I51)),,(TRUNC($C51*I51))) -> 2996510 | K51: =SUM(E51,G51,I51) -> 1916 | L51: =SUM(F51,H51,J51) -> 9489774 | M51: 1916 | N51: C | O51: H | P51: A04 | Q51: QCZZ0022 | R51: =M51-K51 -> 0
A52: 보도블럭철거 | B52: 백호우1.0M3 | C52: 348.18 | D52: m3 | E52: =단가표!F182 -> 676 | F52: =IF(ISERROR(TRUNC($C52*E52)),,(TRUNC($C52*E52))) -> 235369 | G52: =단가표!H182 -> 510 | H52: =IF(ISERROR(TRUNC($C52*G52)),,(TRUNC($C52*G52))) -> 177571 | I52: =단가표!J182 -> 548 | J52: =IF(ISERROR(TRUNC($C52*I52)),,(TRUNC($C52*I52))) -> 190802 | K52: =SUM(E52,G52,I52) -> 1734 | L52: =SUM(F52,H52,J52) -> 603742 | M52: 1734 | N52: C | O52: H | P52: A04 | Q52: QCZZ0050 | R52: =M52-K52 -> 0
A53: 흄관철거(설치품의 50%) | B53: D-300MM | C53: 55 | D53: m | E53: =단가표!F283 -> 0 | F53: =IF(ISERROR(TRUNC($C53*E53)),,(TRUNC($C53*E53))) -> 0 | G53: =단가표!H283 -> 11503 | H53: =IF(ISERROR(TRUNC($C53*G53)),,(TRUNC($C53*G53))) -> 632665 | I53: =단가표!J283 -> 0 | J53: =IF(ISERROR(TRUNC($C53*I53)),,(TRUNC($C53*I53))) -> 0 | K53: =SUM(E53,G53,I53) -> 11503 | L53: =SUM(F53,H53,J53) -> 632665 | M53: 11503 | N53: C | O53: H | P53: A04 | Q53: SCZGJ400 | R53: =M53-K53 -> 0
A54: 흄관철거(설치품의 50%) | B54: D-450MM | C54: 341 | D54: m | E54: =단가표!F284 -> 636 | F54: =IF(ISERROR(TRUNC($C54*E54)),,(TRUNC($C54*E54))) -> 216876 | G54: =단가표!H284 -> 7796 | H54: =IF(ISERROR(TRUNC($C54*G54)),,(TRUNC($C54*G54))) -> 2658436 | I54: =단가표!J284 -> 2343 | J54: =IF(ISERROR(TRUNC($C54*I54)),,(TRUNC($C54*I54))) -> 798963 | K54: =SUM(E54,G54,I54) -> 10775 | L54: =SUM(F54,H54,J54) -> 3674275 | M54: 10775 | N54: C | O54: H | P54: A04 | Q54: SCZGJ401 | R54: =M54-K54 -> 0
A55: 방음벽철거 | B55: H=4.0m, B=2.0m | C55: 243.5 | D55: m | E55: =단가표!F285 -> 2976 | F55: =IF(ISERROR(TRUNC($C55*E55)),,(TRUNC($C55*E55))) -> 724656 | G55: =단가표!H285 -> 40935 | H55: =IF(ISERROR(TRUNC($C55*G55)),,(TRUNC($C55*G55))) -> 9967672 | I55: =단가표!J285 -> 4734 | J55: =IF(ISERROR(TRUNC($C55*I55)),,(TRUNC($C55*I55))) -> 1152729 | K55: =SUM(E55,G55,I55) -> 48645 | L55: =SUM(F55,H55,J55) -> 11845057 | M55: 48645 | N55: C | O55: H | P55: A04 | Q55: SCZGJ510 | R55: =M55-K55 -> 0
A56: 난간 철거 | B56: H=1.1M | C56: 268.4 | D56: m | E56: =단가표!F288 -> 650 | F56: =IF(ISERROR(TRUNC($C56*E56)),,(TRUNC($C56*E56))) -> 174460 | G56: =단가표!H288 -> 4376 | H56: =IF(ISERROR(TRUNC($C56*G56)),,(TRUNC($C56*G56))) -> 1174518 | I56: =단가표!J288 -> 0 | J56: =IF(ISERROR(TRUNC($C56*I56)),,(TRUNC($C56*I56))) -> 0 | K56: =SUM(E56,G56,I56) -> 5026 | L56: =SUM(F56,H56,J56) -> 1348978 | M56: 5026 | N56: C | O56: H | P56: A04 | Q56: SCZGJ601 | R56: =M56-K56 -> 0
A57: 고 자 재 | B57: 철(중량) | C57: -852.78 | D57: t | E57: =단가표!F149 -> 350000 | F57: =IF(ISERROR(TRUNC($C57*E57)),,(TRUNC($C57*E57))) -> -298473000 | G57: =단가표!H149 -> 0 | H57: =IF(ISERROR(TRUNC($C57*G57)),,(TRUNC($C57*G57))) -> 0 | I57: =단가표!J149 -> 0 | J57: =IF(ISERROR(TRUNC($C57*I57)),,(TRUNC($C57*I57))) -> 0 | K57: =SUM(E57,G57,I57) -> 350000 | L57: =SUM(F57,H57,J57) -> -298473000 | M57: 350000 | N57: C | O57: H | P57: A04 | Q57: MGM60105 | R57: =M57-K57 -> 0
A58: 고 자 재 | B58: 스테인리스 | C58: -4.53 | D58: t | E58: =단가표!F369 -> 2000000 | F58: =IF(ISERROR(TRUNC($C58*E58)),,(TRUNC($C58*E58))) -> -9060000 | G58: =단가표!H369 -> 0 | H58: =IF(ISERROR(TRUNC($C58*G58)),,(TRUNC($C58*G58))) -> 0 | I58: =단가표!J369 -> 0 | J58: =IF(ISERROR(TRUNC($C58*I58)),,(TRUNC($C58*I58))) -> 0 | K58: =SUM(E58,G58,I58) -> 2000000 | L58: =SUM(F58,H58,J58) -> -9060000 | M58: 2000000 | N58: C | O58: H | P58: A04 | Q58: SCZJK322 | R58: =M58-K58 -> 0
A59: ===이하 공사중발생 폐기물처리=== | C59: 0 | E59: =단가표!F13 -> 0 | F59: =IF(ISERROR(TRUNC($C59*E59)),,(TRUNC($C59*E59))) -> 0 | G59: =단가표!H13 -> 0 | H59: =IF(ISERROR(TRUNC($C59*G59)),,(TRUNC($C59*G59))) -> 0 | I59: =단가표!J13 -> 0 | J59: =IF(ISERROR(TRUNC($C59*I59)),,(TRUNC($C59*I59))) -> 0 | K59: =SUM(E59,G59,I59) -> 0 | L59: =SUM(F59,H59,J59) -> 0 | M59: 0 | N59: C | O59: H | P59: A04 | Q59: BCB01Z12 | R59: =M59-K59 -> 0
A60: 구조물헐기(BREAKER) | B60: 철근구조물 30CM미만 | C60: 26.06 | D60: m3 | E60: =단가표!F635 -> 9865 | F60: =IF(ISERROR(TRUNC($C60*E60)),,(TRUNC($C60*E60))) -> 257081 | G60: =단가표!H635 -> 23650 | H60: =IF(ISERROR(TRUNC($C60*G60)),,(TRUNC($C60*G60))) -> 616319 | I60: =단가표!J635 -> 11737 | J60: =IF(ISERROR(TRUNC($C60*I60)),,(TRUNC($C60*I60))) -> 305866 | K60: =SUM(E60,G60,I60) -> 45252 | L60: =SUM(F60,H60,J60) -> 1179266 | M60: 45252 | N60: C | O60: H | P60: A04 | Q60: UCA12530 | R60: =M60-K60 -> 0
A61: 구조물헐기(BREAKER) | B61: 무근구조물 30CM미만 | C61: 41.68 | D61: m3 | E61: =단가표!F634 -> 4145 | F61: =IF(ISERROR(TRUNC($C61*E61)),,(TRUNC($C61*E61))) -> 172763 | G61: =단가표!H634 -> 6352 | H61: =IF(ISERROR(TRUNC($C61*G61)),,(TRUNC($C61*G61))) -> 264751 | I61: =단가표!J634 -> 6249 | J61: =IF(ISERROR(TRUNC($C61*I61)),,(TRUNC($C61*I61))) -> 260458 | K61: =SUM(E61,G61,I61) -> 16746 | L61: =SUM(F61,H61,J61) -> 697972 | M61: 16746 | N61: C | O61: H | P61: A04 | Q61: UCA12430 | R61: =M61-K61 -> 0
A62: 집토(콘크리트,블럭류) | B62: 백호 | C62: 67.74 | D62: m3 | E62: =단가표!F180 -> 951 | F62: =IF(ISERROR(TRUNC($C62*E62)),,(TRUNC($C62*E62))) -> 64420 | G62: =단가표!H180 -> 718 | H62: =IF(ISERROR(TRUNC($C62*G62)),,(TRUNC($C62*G62))) -> 48637 | I62: =단가표!J180 -> 771 | J62: =IF(ISERROR(TRUNC($C62*I62)),,(TRUNC($C62*I62))) -> 52227 | K62: =SUM(E62,G62,I62) -> 2440 | L62: =SUM(F62,H62,J62) -> 165284 | M62: 2440 | N62: C | O62: H | P62: A04 | Q62: QCZZ0021 | R62: =M62-K62 -> 0
A63: ===이하 폐기물반출 관리요원 === | C63: 0 | E63: =단가표!F5 -> 0 | F63: =IF(ISERROR(TRUNC($C63*E63)),,(TRUNC($C63*E63))) -> 0 | G63: =단가표!H5 -> 0 | H63: =IF(ISERROR(TRUNC($C63*G63)),,(TRUNC($C63*G63))) -> 0 | I63: =단가표!J5 -> 0 | J63: =IF(ISERROR(TRUNC($C63*I63)),,(TRUNC($C63*I63))) -> 0 | K63: =SUM(E63,G63,I63) -> 0 | L63: =SUM(F63,H63,J63) -> 0 | M63: 0 | N63: C | O63: H | P63: A04 | Q63: BCB01Z01 | R63: =M63-K63 -> 0
A64: 폐기물 반출감시 및 계근 관리 | B64: 인부 2인/일 | C64: 12 | D64: 일 | E64: =단가표!F193 -> 0 | F64: =IF(ISERROR(TRUNC($C64*E64)),,(TRUNC($C64*E64))) -> 0 | G64: =단가표!H193 -> 121094 | H64: =IF(ISERROR(TRUNC($C64*G64)),,(TRUNC($C64*G64))) -> 1453128 | I64: =단가표!J193 -> 0 | J64: =IF(ISERROR(TRUNC($C64*I64)),,(TRUNC($C64*I64))) -> 0 | K64: =SUM(E64,G64,I64) -> 121094 | L64: =SUM(F64,H64,J64) -> 1453128 | M64: 121094 | N64: C | O64: H | P64: A04 | Q64: SCZ00055 | R64: =M64-K64 -> 0
A65: 합 계 | F65: =SUM(F34:F64) -> -120818341 | H65: =SUM(H34:H64) -> 417716985 | J65: =SUM(J34:J64) -> 201709754 | K65: =SUM(E65,G65,I65) -> 0 | L65: =SUM(F65,H65,J65) -> 498608398 | N65: C | O65: H | P65: A04 | R65: =M65-K65 -> 0
A66: 배수공사 | K66: =SUM(E66,G66,I66) -> 0 | L66: =SUM(F66,H66,J66) -> 0 | N66: C | O66: H | P66: A05 | R66: =M66-K66 -> 0
A67: 흄관매설,소켓식 | B67: D-600MM,콘크리트기초(90도),보통토 | C67: 938.2 | D67: m | E67: =단가표!F642 -> 29854 | F67: =IF(ISERROR(TRUNC($C67*E67)),,(TRUNC($C67*E67))) -> 28009022 | G67: =단가표!H642 -> 46774 | H67: =IF(ISERROR(TRUNC($C67*G67)),,(TRUNC($C67*G67))) -> 43883366 | I67: =단가표!J642 -> 6327 | J67: =IF(ISERROR(TRUNC($C67*I67)),,(TRUNC($C67*I67))) -> 5935991 | K67: =SUM(E67,G67,I67) -> 82955 | L67: =SUM(F67,H67,J67) -> 77828379 | M67: 82955 | N67: C | O67: H | P67: A05 | Q67: UCB04060 | R67: =M67-K67 -> 0
A68: 접속흄관매설,소켓식 | B68: D-600MM,콘크리트기초(90도),보통토 | C68: 152.5 | D68: m | E68: =단가표!F643 -> 40127 | F68: =IF(ISERROR(TRUNC($C68*E68)),,(TRUNC($C68*E68))) -> 6119367 | G68: =단가표!H643 -> 46774 | H68: =IF(ISERROR(TRUNC($C68*G68)),,(TRUNC($C68*G68))) -> 7133035 | I68: =단가표!J643 -> 6327 | J68: =IF(ISERROR(TRUNC($C68*I68)),,(TRUNC($C68*I68))) -> 964867 | K68: =SUM(E68,G68,I68) -> 93228 | L68: =SUM(F68,H68,J68) -> 14217269 | M68: 93228 | N68: C | O68: H | P68: A05 | Q68: UCB05060 | R68: =M68-K68 -> 0
A69: 연락관 설치 | B69: D-300MM | C69: 472.2 | D69: m | E69: =단가표!F277 -> 13022 | F69: =IF(ISERROR(TRUNC($C69*E69)),,(TRUNC($C69*E69))) -> 6148988 | G69: =단가표!H277 -> 28974 | H69: =IF(ISERROR(TRUNC($C69*G69)),,(TRUNC($C69*G69))) -> 13681522 | I69: =단가표!J277 -> 0 | J69: =IF(ISERROR(TRUNC($C69*I69)),,(TRUNC($C69*I69))) -> 0 | K69: =SUM(E69,G69,I69) -> 41996 | L69: =SUM(F69,H69,J69) -> 19830510 | M69: 41996 | N69: C | O69: H | P69: A05 | Q69: SCZBS000 | R69: =M69-K69 -> 0
A70: 원형맨홀(pe거푸집),주철제뚜껑 | B70: D1200 (h=2.94m) | C70: 9 | D70: 개소 | E70: =단가표!F278 -> 312658 | F70: =IF(ISERROR(TRUNC($C70*E70)),,(TRUNC($C70*E70))) -> 2813922 | G70: =단가표!H278 -> 608676 | H70: =IF(ISERROR(TRUNC($C70*G70)),,(TRUNC($C70*G70))) -> 5478084 | I70: =단가표!J278 -> 0 | J70: =IF(ISERROR(TRUNC($C70*I70)),,(TRUNC($C70*I70))) -> 0 | K70: =SUM(E70,G70,I70) -> 921334 | L70: =SUM(F70,H70,J70) -> 8292006 | M70: 921334 | N70: C | O70: H | P70: A05 | Q70: SCZBS120 | R70: =M70-K70 -> 0
A71: 원형맨홀(pe거푸집),칼라콘크리트뚜껑 | B71: D1200 (h=2.94m) | C71: 11 | D71: 개소 | E71: =단가표!F279 -> 347658 | F71: =IF(ISERROR(TRUNC($C71*E71)),,(TRUNC($C71*E71))) -> 3824238 | G71: =단가표!H279 -> 605649 | H71: =IF(ISERROR(TRUNC($C71*G71)),,(TRUNC($C71*G71))) -> 6662139 | I71: =단가표!J279 -> 0 | J71: =IF(ISERROR(TRUNC($C71*I71)),,(TRUNC($C71*I71))) -> 0 | K71: =SUM(E71,G71,I71) -> 953307 | L71: =SUM(F71,H71,J71) -> 10486377 | M71: 953307 | N71: C | O71: H | P71: A05 | Q71: SCZBS122 | R71: =M71-K71 -> 0
A72: 원형맨홀(pe거푸집),주철제뚜껑 | B72: D1500 (h=2.67m) | C72: 1 | D72: 개소 | E72: =단가표!F280 -> 333650 | F72: =IF(ISERROR(TRUNC($C72*E72)),,(TRUNC($C72*E72))) -> 333650 | G72: =단가표!H280 -> 753039 | H72: =IF(ISERROR(TRUNC($C72*G72)),,(TRUNC($C72*G72))) -> 753039 | I72: =단가표!J280 -> 0 | J72: =IF(ISERROR(TRUNC($C72*I72)),,(TRUNC($C72*I72))) -> 0 | K72: =SUM(E72,G72,I72) -> 1086689 | L72: =SUM(F72,H72,J72) -> 1086689 | M72: 1086689 | N72: C | O72: H | P72: A05 | Q72: SCZBS150 | R72: =M72-K72 -> 0
A73: 원형맨홀(pe거푸집),칼라콘크리트뚜껑 | B73: D1500 (h=2.67m) | C73: 5 | D73: 개소 | E73: =단가표!F281 -> 368650 | F73: =IF(ISERROR(TRUNC($C73*E73)),,(TRUNC($C73*E73))) -> 1843250 | G73: =단가표!H281 -> 750012 | H73: =IF(ISERROR(TRUNC($C73*G73)),,(TRUNC($C73*G73))) -> 3750060 | I73: =단가표!J281 -> 0 | J73: =IF(ISERROR(TRUNC($C73*I73)),,(TRUNC($C73*I73))) -> 0 | K73: =SUM(E73,G73,I73) -> 1118662 | L73: =SUM(F73,H73,J73) -> 5593310 | M73: 1118662 | N73: C | O73: H | P73: A05 | Q73: SCZBS151 | R73: =M73-K73 -> 0
A74: 잡석부설 | B74: 인력 | C74: 22.24 | D74: m3 | E74: =단가표!F641 -> 0 | F74: =IF(ISERROR(TRUNC($C74*E74)),,(TRUNC($C74*E74))) -> 0 | G74: =단가표!H641 -> 36328 | H74: =IF(ISERROR(TRUNC($C74*G74)),,(TRUNC($C74*G74))) -> 807934 | I74: =단가표!J641 -> 0 | J74: =IF(ISERROR(TRUNC($C74*I74)),,(TRUNC($C74*I74))) -> 0 | K74: =SUM(E74,G74,I74) -> 36328 | L74: =SUM(F74,H74,J74) -> 807934 | M74: 36328 | N74: C | O74: H | P74: A05 | Q74: UCA64320 | R74: =M74-K74 -> 0
A75: 콘크리트 빗물받이(일반용) | B75: 0.3X0.4X1.08 | C75: 82 | D75: 개소 | E75: =단가표!F644 -> 38956 | F75: =IF(ISERROR(TRUNC($C75*E75)),,(TRUNC($C75*E75))) -> 3194392 | G75: =단가표!H644 -> 102604 | H75: =IF(ISERROR(TRUNC($C75*G75)),,(TRUNC($C75*G75))) -> 8413528 | I75: =단가표!J644 -> 0 | J75: =IF(ISERROR(TRUNC($C75*I75)),,(TRUNC($C75*I75))) -> 0 | K75: =SUM(E75,G75,I75) -> 141560 | L75: =SUM(F75,H75,J75) -> 11607920 | M75: 141560 | N75: C | O75: H | P75: A05 | Q75: UCB52410 | R75: =M75-K75 -> 0
A76: 흄관용 고무링 | B76: D- 300 | C76: 143 | D76: 개 | E76: =단가표!F97 -> 1800 | F76: =IF(ISERROR(TRUNC($C76*E76)),,(TRUNC($C76*E76))) -> 257400 | G76: =단가표!H97 -> 0 | H76: =IF(ISERROR(TRUNC($C76*G76)),,(TRUNC($C76*G76))) -> 0 | I76: =단가표!J97 -> 0 | J76: =IF(ISERROR(TRUNC($C76*I76)),,(TRUNC($C76*I76))) -> 0 | K76: =SUM(E76,G76,I76) -> 1800 | L76: =SUM(F76,H76,J76) -> 257400 | M76: 1800 | N76: C | O76: H | P76: A05 | Q76: MCD20918 | R76: =M76-K76 -> 0
A77: 흄관용 고무링 | B77: D- 600 | C77: 49 | D77: 개 | E77: =단가표!F98 -> 3100 | F77: =IF(ISERROR(TRUNC($C77*E77)),,(TRUNC($C77*E77))) -> 151900 | G77: =단가표!H98 -> 0 | H77: =IF(ISERROR(TRUNC($C77*G77)),,(TRUNC($C77*G77))) -> 0 | I77: =단가표!J98 -> 0 | J77: =IF(ISERROR(TRUNC($C77*I77)),,(TRUNC($C77*I77))) -> 0 | K77: =SUM(E77,G77,I77) -> 3100 | L77: =SUM(F77,H77,J77) -> 151900 | M77: 3100 | N77: C | O77: H | P77: A05 | Q77: MCD20930 | R77: =M77-K77 -> 0
A78: 접속부몰탈바르기 (토목,조경) | C78: 0.54 | D78: m3 | E78: =단가표!F630 -> 0 | F78: =IF(ISERROR(TRUNC($C78*E78)),,(TRUNC($C78*E78))) -> 0 | G78: =단가표!H630 -> 116825 | H78: =IF(ISERROR(TRUNC($C78*G78)),,(TRUNC($C78*G78))) -> 63085 | I78: =단가표!J630 -> 0 | J78: =IF(ISERROR(TRUNC($C78*I78)),,(TRUNC($C78*I78))) -> 0 | K78: =SUM(E78,G78,I78) -> 116825 | L78: =SUM(F78,H78,J78) -> 63085 | M78: 116825 | N78: C | O78: H | P78: A05 | Q78: UAJ14481 | R78: =M78-K78 -> 0
A79: 합 계 | F79: =SUM(F66:F78) -> 52696129 | H79: =SUM(H66:H78) -> 90625792 | J79: =SUM(J66:J78) -> 6900858 | K79: =SUM(E79,G79,I79) -> 0 | L79: =SUM(F79,H79,J79) -> 150222779 | N79: C | O79: H | P79: A05 | R79: =M79-K79 -> 0
A80: 포장공사 | K80: =SUM(E80,G80,I80) -> 0 | L80: =SUM(F80,H80,J80) -> 0 | N80: C | O80: H | P80: A13 | R80: =M80-K80 -> 0
A81: 일반아스팔트포장 표층 | B81: 기계시공, T=7CM이하 | C81: 18534.09 | D81: m2 | E81: =단가표!F660 -> 110 | F81: =IF(ISERROR(TRUNC($C81*E81)),,(TRUNC($C81*E81))) -> 2038749 | G81: =단가표!H660 -> 245 | H81: =IF(ISERROR(TRUNC($C81*G81)),,(TRUNC($C81*G81))) -> 4540852 | I81: =단가표!J660 -> 108 | J81: =IF(ISERROR(TRUNC($C81*I81)),,(TRUNC($C81*I81))) -> 2001681 | K81: =SUM(E81,G81,I81) -> 463 | L81: =SUM(F81,H81,J81) -> 8581282 | M81: 463 | N81: C | O81: H | P81: A13 | Q81: UCP10210 | R81: =M81-K81 -> 0
A82: 일반아스팔트포장 표층 | B82: 기계시공, T=7CM이상 | C82: 6189.2 | D82: m2 | E82: =단가표!F506 -> 221 | F82: =IF(ISERROR(TRUNC($C82*E82)),,(TRUNC($C82*E82))) -> 1367813 | G82: =단가표!H506 -> 490 | H82: =IF(ISERROR(TRUNC($C82*G82)),,(TRUNC($C82*G82))) -> 3032708 | I82: =단가표!J506 -> 217 | J82: =IF(ISERROR(TRUNC($C82*I82)),,(TRUNC($C82*I82))) -> 1343056 | K82: =SUM(E82,G82,I82) -> 928 | L82: =SUM(F82,H82,J82) -> 5743577 | M82: 928 | N82: C | O82: H | P82: A13 | Q82: SCZPJ800 | R82: =M82-K82 -> 0
A83: 일반아스팔트포장 표층 덧씌우기 | B83: 기계시공, T=7CM이하 | C83: 8947.76 | D83: m2 | E83: =단가표!F512 -> 110 | F83: =IF(ISERROR(TRUNC($C83*E83)),,(TRUNC($C83*E83))) -> 984253 | G83: =단가표!H512 -> 245 | H83: =IF(ISERROR(TRUNC($C83*G83)),,(TRUNC($C83*G83))) -> 2192201 | I83: =단가표!J512 -> 108 | J83: =IF(ISERROR(TRUNC($C83*I83)),,(TRUNC($C83*I83))) -> 966358 | K83: =SUM(E83,G83,I83) -> 463 | L83: =SUM(F83,H83,J83) -> 4142812 | M83: 463 | N83: C | O83: H | P83: A13 | Q83: SCZPJ900 | R83: =M83-K83 -> 0
A84: ASPALT살포비(아스팔트디스트리뷰티 ) | B84: 택코팅 | C84: 36765.82 | D84: m2 | E84: =단가표!F657 -> 116 | F84: =IF(ISERROR(TRUNC($C84*E84)),,(TRUNC($C84*E84))) -> 4264835 | G84: =단가표!H657 -> 3 | H84: =IF(ISERROR(TRUNC($C84*G84)),,(TRUNC($C84*G84))) -> 110297 | I84: =단가표!J657 -> 1 | J84: =IF(ISERROR(TRUNC($C84*I84)),,(TRUNC($C84*I84))) -> 36765 | K84: =SUM(E84,G84,I84) -> 120 | L84: =SUM(F84,H84,J84) -> 4411897 | M84: 120 | N84: C | O84: H | P84: A13 | Q84: UCP08110 | R84: =M84-K84 -> 0
A85: 아스콘 | B85: # 78(표층용) | C85: 4385.2 | D85: t | E85: =단가표!F99 -> 39945 | F85: =IF(ISERROR(TRUNC($C85*E85)),,(TRUNC($C85*E85))) -> 175166814 | G85: =단가표!H99 -> 0 | H85: =IF(ISERROR(TRUNC($C85*G85)),,(TRUNC($C85*G85))) -> 0 | I85: =단가표!J99 -> 0 | J85: =IF(ISERROR(TRUNC($C85*I85)),,(TRUNC($C85*I85))) -> 0 | K85: =SUM(E85,G85,I85) -> 39945 | L85: =SUM(F85,H85,J85) -> 175166814 | M85: 39945 | N85: C | O85: H | P85: A13 | Q85: MCF10313 | R85: =M85-K85 -> 0
A86: 일반아스팔트포장 중간층 | B86: 기계시공, T=7CM이하 | C86: 18534.09 | D86: m2 | E86: =단가표!F659 -> 110 | F86: =IF(ISERROR(TRUNC($C86*E86)),,(TRUNC($C86*E86))) -> 2038749 | G86: =단가표!H659 -> 245 | H86: =IF(ISERROR(TRUNC($C86*G86)),,(TRUNC($C86*G86))) -> 4540852 | I86: =단가표!J659 -> 108 | J86: =IF(ISERROR(TRUNC($C86*I86)),,(TRUNC($C86*I86))) -> 2001681 | K86: =SUM(E86,G86,I86) -> 463 | L86: =SUM(F86,H86,J86) -> 8581282 | M86: 463 | N86: C | O86: H | P86: A13 | Q86: UCP10100 | R86: =M86-K86 -> 0
A87: ASPALT살포비(아스팔트디스트리뷰티 ) | B87: 택코팅 | C87: 18534.09 | D87: m2 | E87: =단가표!F657 -> 116 | F87: =IF(ISERROR(TRUNC($C87*E87)),,(TRUNC($C87*E87))) -> 2149954 | G87: =단가표!H657 -> 3 | H87: =IF(ISERROR(TRUNC($C87*G87)),,(TRUNC($C87*G87))) -> 55602 | I87: =단가표!J657 -> 1 | J87: =IF(ISERROR(TRUNC($C87*I87)),,(TRUNC($C87*I87))) -> 18534 | K87: =SUM(E87,G87,I87) -> 120 | L87: =SUM(F87,H87,J87) -> 2224090 | M87: 120 | N87: C | O87: H | P87: A13 | Q87: UCP08110 | R87: =M87-K87 -> 0
A88: 아스콘 | B88: # 67(중간층용) | C88: 2620.2 | D88: t | E88: =단가표!F100 -> 38500 | F88: =IF(ISERROR(TRUNC($C88*E88)),,(TRUNC($C88*E88))) -> 100877700 | G88: =단가표!H100 -> 0 | H88: =IF(ISERROR(TRUNC($C88*G88)),,(TRUNC($C88*G88))) -> 0 | I88: =단가표!J100 -> 0 | J88: =IF(ISERROR(TRUNC($C88*I88)),,(TRUNC($C88*I88))) -> 0 | K88: =SUM(E88,G88,I88) -> 38500 | L88: =SUM(F88,H88,J88) -> 100877700 | M88: 38500 | N88: C | O88: H | P88: A13 | Q88: MCF10314 | R88: =M88-K88 -> 0
A89: 포장하부 아스팔트 기층(BB층) | B89: T=10CM이상 | C89: 31861.71 | D89: m2 | E89: =단가표!F658 -> 185 | F89: =IF(ISERROR(TRUNC($C89*E89)),,(TRUNC($C89*E89))) -> 5894416 | G89: =단가표!H658 -> 338 | H89: =IF(ISERROR(TRUNC($C89*G89)),,(TRUNC($C89*G89))) -> 10769257 | I89: =단가표!J658 -> 176 | J89: =IF(ISERROR(TRUNC($C89*I89)),,(TRUNC($C89*I89))) -> 5607660 | K89: =SUM(E89,G89,I89) -> 699 | L89: =SUM(F89,H89,J89) -> 22271333 | M89: 699 | N89: C | O89: H | P89: A13 | Q89: UCP10000 | R89: =M89-K89 -> 0
A90: ASPALT살포비(아스팔트디스트리뷰티 ) | B90: 택코팅 | C90: 31861.71 | D90: m2 | E90: =단가표!F657 -> 116 | F90: =IF(ISERROR(TRUNC($C90*E90)),,(TRUNC($C90*E90))) -> 3695958 | G90: =단가표!H657 -> 3 | H90: =IF(ISERROR(TRUNC($C90*G90)),,(TRUNC($C90*G90))) -> 95585 | I90: =단가표!J657 -> 1 | J90: =IF(ISERROR(TRUNC($C90*I90)),,(TRUNC($C90*I90))) -> 31861 | K90: =SUM(E90,G90,I90) -> 120 | L90: =SUM(F90,H90,J90) -> 3823404 | M90: 120 | N90: C | O90: H | P90: A13 | Q90: UCP08110 | R90: =M90-K90 -> 0
A91: ASPALT살포비(아스팔트디스트리뷰티 ) | B91: 프라임코팅 | C91: 30413 | D91: m2 | E91: =단가표!F656 -> 289 | F91: =IF(ISERROR(TRUNC($C91*E91)),,(TRUNC($C91*E91))) -> 8789357 | G91: =단가표!H656 -> 3 | H91: =IF(ISERROR(TRUNC($C91*G91)),,(TRUNC($C91*G91))) -> 91239 | I91: =단가표!J656 -> 1 | J91: =IF(ISERROR(TRUNC($C91*I91)),,(TRUNC($C91*I91))) -> 30413 | K91: =SUM(E91,G91,I91) -> 293 | L91: =SUM(F91,H91,J91) -> 8911009 | M91: 293 | N91: C | O91: H | P91: A13 | Q91: UCP08100 | R91: =M91-K91 -> 0
A92: 아스콘 | B92: #467(기층용) | C92: 10646.6 | D92: t | E92: =단가표!F101 -> 35772 | F92: =IF(ISERROR(TRUNC($C92*E92)),,(TRUNC($C92*E92))) -> 380850175 | G92: =단가표!H101 -> 0 | H92: =IF(ISERROR(TRUNC($C92*G92)),,(TRUNC($C92*G92))) -> 0 | I92: =단가표!J101 -> 0 | J92: =IF(ISERROR(TRUNC($C92*I92)),,(TRUNC($C92*I92))) -> 0 | K92: =SUM(E92,G92,I92) -> 35772 | L92: =SUM(F92,H92,J92) -> 380850175 | M92: 35772 | N92: C | O92: H | P92: A13 | Q92: MCF10315 | R92: =M92-K92 -> 0
A93: 포장하부 보조기층 | B93: 기계시공,본선포장 | C93: 6082.6 | D93: m3 | E93: =단가표!F655 -> 1185 | F93: =IF(ISERROR(TRUNC($C93*E93)),,(TRUNC($C93*E93))) -> 7207881 | G93: =단가표!H655 -> 1518 | H93: =IF(ISERROR(TRUNC($C93*G93)),,(TRUNC($C93*G93))) -> 9233386 | I93: =단가표!J655 -> 944 | J93: =IF(ISERROR(TRUNC($C93*I93)),,(TRUNC($C93*I93))) -> 5741974 | K93: =SUM(E93,G93,I93) -> 3647 | L93: =SUM(F93,H93,J93) -> 22183241 | M93: 3647 | N93: C | O93: H | P93: A13 | Q93: UCP04100 | R93: =M93-K93 -> 0
A94: 포장하부 보조기층 | B94: 기계시공,길어깨 포장 | C94: 279.06 | D94: m3 | E94: =단가표!F654 -> 2861 | F94: =IF(ISERROR(TRUNC($C94*E94)),,(TRUNC($C94*E94))) -> 798390 | G94: =단가표!H654 -> 3653 | H94: =IF(ISERROR(TRUNC($C94*G94)),,(TRUNC($C94*G94))) -> 1019406 | I94: =단가표!J654 -> 2299 | J94: =IF(ISERROR(TRUNC($C94*I94)),,(TRUNC($C94*I94))) -> 641558 | K94: =SUM(E94,G94,I94) -> 8813 | L94: =SUM(F94,H94,J94) -> 2459354 | M94: 8813 | N94: C | O94: H | P94: A13 | Q94: UCP04050 | R94: =M94-K94 -> 0
A95: 포장하부 동상방지층 | B95: 기계시공,본선포장 | C95: 12460.33 | D95: m3 | E95: =단가표!F653 -> 1087 | F95: =IF(ISERROR(TRUNC($C95*E95)),,(TRUNC($C95*E95))) -> 13544378 | G95: =단가표!H653 -> 1260 | H95: =IF(ISERROR(TRUNC($C95*G95)),,(TRUNC($C95*G95))) -> 15700015 | I95: =단가표!J653 -> 866 | J95: =IF(ISERROR(TRUNC($C95*I95)),,(TRUNC($C95*I95))) -> 10790645 | K95: =SUM(E95,G95,I95) -> 3213 | L95: =SUM(F95,H95,J95) -> 40035038 | M95: 3213 | N95: C | O95: H | P95: A13 | Q95: UCP02100 | R95: =M95-K95 -> 0
A96: 혼합골재 | B96: 보조기층용 | C96: 19607.88 | D96: m3 | E96: =단가표!F134 -> 5000 | F96: =IF(ISERROR(TRUNC($C96*E96)),,(TRUNC($C96*E96))) -> 98039400 | G96: =단가표!H134 -> 0 | H96: =IF(ISERROR(TRUNC($C96*G96)),,(TRUNC($C96*G96))) -> 0 | I96: =단가표!J134 -> 0 | J96: =IF(ISERROR(TRUNC($C96*I96)),,(TRUNC($C96*I96))) -> 0 | K96: =SUM(E96,G96,I96) -> 5000 | L96: =SUM(F96,H96,J96) -> 98039400 | M96: 5000 | N96: C | O96: H | P96: A13 | Q96: MGG25101 | R96: =M96-K96 -> 0
A97: 보조기층재운반 | B97: L = 15.2 KM | C97: 19607.88 | D97: m3 | E97: =단가표!F178 -> 3276 | F97: =IF(ISERROR(TRUNC($C97*E97)),,(TRUNC($C97*E97))) -> 64235414 | G97: =단가표!H178 -> 1780 | H97: =IF(ISERROR(TRUNC($C97*G97)),,(TRUNC($C97*G97))) -> 34902026 | I97: =단가표!J178 -> 2074 | J97: =IF(ISERROR(TRUNC($C97*I97)),,(TRUNC($C97*I97))) -> 40666743 | K97: =SUM(E97,G97,I97) -> 7130 | L97: =SUM(F97,H97,J97) -> 139804183 | M97: 7130 | N97: C | O97: H | P97: A13 | Q97: QAJ48671 | R97: =M97-K97 -> 0
A98: 인터록킹블록포장(보통) | B98: T=6+3+10CM | C98: 3983.92 | D98: m2 | E98: =단가표!F507 -> 754 | F98: =IF(ISERROR(TRUNC($C98*E98)),,(TRUNC($C98*E98))) -> 3003875 | G98: =단가표!H507 -> 3254 | H98: =IF(ISERROR(TRUNC($C98*G98)),,(TRUNC($C98*G98))) -> 12963675 | I98: =단가표!J507 -> 767 | J98: =IF(ISERROR(TRUNC($C98*I98)),,(TRUNC($C98*I98))) -> 3055666 | K98: =SUM(E98,G98,I98) -> 4775 | L98: =SUM(F98,H98,J98) -> 19023216 | M98: 4775 | N98: C | O98: H | P98: A13 | Q98: SCZPJ802 | R98: =M98-K98 -> 0
A99: 보차도용 콘크리트 인터록킹블록 | B99: T-6CM,유색(흑,적,갈) | C99: 414.33 | D99: m2 | E99: =단가표!F106 -> 5963 | F99: =IF(ISERROR(TRUNC($C99*E99)),,(TRUNC($C99*E99))) -> 2470649 | G99: =단가표!H106 -> 0 | H99: =IF(ISERROR(TRUNC($C99*G99)),,(TRUNC($C99*G99))) -> 0 | I99: =단가표!J106 -> 0 | J99: =IF(ISERROR(TRUNC($C99*I99)),,(TRUNC($C99*I99))) -> 0 | K99: =SUM(E99,G99,I99) -> 5963 | L99: =SUM(F99,H99,J99) -> 2470649 | M99: 5963 | N99: C | O99: H | P99: A13 | Q99: MCF24101 | R99: =M99-K99 -> 0
A100: 보차도용 콘크리트 인터록킹블록 | B100: T-6CM, 칼라(황,녹,청,백) | C100: 1450.15 | D100: m2 | E100: =단가표!F107 -> 8227 | F100: =IF(ISERROR(TRUNC($C100*E100)),,(TRUNC($C100*E100))) -> 11930384 | G100: =단가표!H107 -> 0 | H100: =IF(ISERROR(TRUNC($C100*G100)),,(TRUNC($C100*G100))) -> 0 | I100: =단가표!J107 -> 0 | J100: =IF(ISERROR(TRUNC($C100*I100)),,(TRUNC($C100*I100))) -> 0 | K100: =SUM(E100,G100,I100) -> 8227 | L100: =SUM(F100,H100,J100) -> 11930384 | M100: 8227 | N100: C | O100: H | P100: A13 | Q100: MCF24105 | R100: =M100-K100 -> 0
...

Sheet 단가표
A1: 자재코드 | B1: 품 명 | C1: 규 격 | D1: 수 량 | E1: 단 위 | F1: 자 재 비 | H1: 노 무 비 | J1: 경 비
F2: 자 재 단 가 | G2: 자 재 금 액 | H2: 노 임 단 가 | I2: 노 임 금 액 | J2: 경 비 단 가 | K2: 경 비 금 액
A3: BCB01010 | B3: ( 절 토 ) ---- | D3: 21363 | E3: m3 | F3: =VLOOKUP(A3,Sheet1!$B$2:$G$761,4,0) -> 0 | G3: =TRUNC($D3*F3) -> 0 | H3: =VLOOKUP(A3,Sheet1!$B$2:$G$761,5,0) -> 0 | I3: =TRUNC($D3*H3) -> 0 | J3: =VLOOKUP(A3,Sheet1!$B$2:$G$761,6,0) -> 0 | K3: =TRUNC($D3*J3) -> 0
A4: BCB01020 | B4: ( 성 토 ) ---- | D4: 6887 | E4: m3 | F4: =VLOOKUP(A4,Sheet1!$B$2:$G$761,4,0) -> 0 | G4: =TRUNC($D4*F4) -> 0 | H4: =VLOOKUP(A4,Sheet1!$B$2:$G$761,5,0) -> 0 | I4: =TRUNC($D4*H4) -> 0 | J4: =VLOOKUP(A4,Sheet1!$B$2:$G$761,6,0) -> 0 | K4: =TRUNC($D4*J4) -> 0
A5: BCB01Z01 | B5: ===이하 폐기물반출 관리요원 === | D5: 0 | F5: =VLOOKUP(A5,Sheet1!$B$2:$G$761,4,0) -> 0 | G5: =TRUNC($D5*F5) -> 0 | H5: =VLOOKUP(A5,Sheet1!$B$2:$G$761,5,0) -> 0 | I5: =TRUNC($D5*H5) -> 0 | J5: =VLOOKUP(A5,Sheet1!$B$2:$G$761,6,0) -> 0 | K5: =TRUNC($D5*J5) -> 0
A6: BCB01Z03 | B6: ===이하 수목식재공사 === | D6: 0 | F6: =VLOOKUP(A6,Sheet1!$B$2:$G$761,4,0) -> 0 | G6: =TRUNC($D6*F6) -> 0 | H6: =VLOOKUP(A6,Sheet1!$B$2:$G$761,5,0) -> 0 | I6: =TRUNC($D6*H6) -> 0 | J6: =VLOOKUP(A6,Sheet1!$B$2:$G$761,6,0) -> 0 | K6: =TRUNC($D6*J6) -> 0
A7: BCB01Z05 | B7: ===이하 토공사부대시설 === | D7: 0 | F7: =VLOOKUP(A7,Sheet1!$B$2:$G$761,4,0) -> 0 | G7: =TRUNC($D7*F7) -> 0 | H7: =VLOOKUP(A7,Sheet1!$B$2:$G$761,5,0) -> 0 | I7: =TRUNC($D7*H7) -> 0 | J7: =VLOOKUP(A7,Sheet1!$B$2:$G$761,6,0) -> 0 | K7: =TRUNC($D7*J7) -> 0
A8: BCB01Z06 | B8: ===이하 신축이음설치 === | D8: 0 | F8: =VLOOKUP(A8,Sheet1!$B$2:$G$761,4,0) -> 0 | G8: =TRUNC($D8*F8) -> 0 | H8: =VLOOKUP(A8,Sheet1!$B$2:$G$761,5,0) -> 0 | I8: =TRUNC($D8*H8) -> 0 | J8: =VLOOKUP(A8,Sheet1!$B$2:$G$761,6,0) -> 0 | K8: =TRUNC($D8*J8) -> 0
A9: BCB01Z07 | B9: ===이하 주요자재 === | D9: 0 | F9: =VLOOKUP(A9,Sheet1!$B$2:$G$761,4,0) -> 0 | G9: =TRUNC($D9*F9) -> 0 | H9: =VLOOKUP(A9,Sheet1!$B$2:$G$761,5,0) -> 0 | I9: =TRUNC($D9*H9) -> 0 | J9: =VLOOKUP(A9,Sheet1!$B$2:$G$761,6,0) -> 0 | K9: =TRUNC($D9*J9) -> 0
A10: BCB01Z08 | B10: ===이하 외부반입토 === | C10: 광명역세권==>현장(성토,되메우기용) | D10: 30836 | E10: m3 | F10: =VLOOKUP(A10,Sheet1!$B$2:$G$761,4,0) -> 0 | G10: =TRUNC($D10*F10) -> 0 | H10: =VLOOKUP(A10,Sheet1!$B$2:$G$761,5,0) -> 0 | I10: =TRUNC($D10*H10) -> 0 | J10: =VLOOKUP(A10,Sheet1!$B$2:$G$761,6,0) -> 0 | K10: =TRUNC($D10*J10) -> 0
A11: BCB01Z09 | B11: ===이하 외부반출토=== | C11: 되메우기, 성토량 포함 | D11: 158637 | E11: m3 | F11: =VLOOKUP(A11,Sheet1!$B$2:$G$761,4,0) -> 0 | G11: =TRUNC($D11*F11) -> 0 | H11: =VLOOKUP(A11,Sheet1!$B$2:$G$761,5,0) -> 0 | I11: =TRUNC($D11*H11) -> 0 | J11: =VLOOKUP(A11,Sheet1!$B$2:$G$761,6,0) -> 0 | K11: =TRUNC($D11*J11) -> 0
A12: BCB01Z11 | B12: ===이하 토목구조물 철거공사=== | D12: 0 | F12: =VLOOKUP(A12,Sheet1!$B$2:$G$761,4,0) -> 0 | G12: =TRUNC($D12*F12) -> 0 | H12: =VLOOKUP(A12,Sheet1!$B$2:$G$761,5,0) -> 0 | I12: =TRUNC($D12*H12) -> 0 | J12: =VLOOKUP(A12,Sheet1!$B$2:$G$761,6,0) -> 0 | K12: =TRUNC($D12*J12) -> 0
A13: BCB01Z12 | B13: ===이하 공사중발생 폐기물처리=== | D13: 0 | F13: =VLOOKUP(A13,Sheet1!$B$2:$G$761,4,0) -> 0 | G13: =TRUNC($D13*F13) -> 0 | H13: =VLOOKUP(A13,Sheet1!$B$2:$G$761,5,0) -> 0 | I13: =TRUNC($D13*H13) -> 0 | J13: =VLOOKUP(A13,Sheet1!$B$2:$G$761,6,0) -> 0 | K13: =TRUNC($D13*J13) -> 0
A14: BCB01Z14 | B14: ==== 이하 강재손료 ==== | D14: 0 | F14: =VLOOKUP(A14,Sheet1!$B$2:$G$761,4,0) -> 0 | G14: =TRUNC($D14*F14) -> 0 | H14: =VLOOKUP(A14,Sheet1!$B$2:$G$761,5,0) -> 0 | I14: =TRUNC($D14*H14) -> 0 | J14: =VLOOKUP(A14,Sheet1!$B$2:$G$761,6,0) -> 0 | K14: =TRUNC($D14*J14) -> 0
A15: BCB01Z15 | B15: ==== 이하 지장수목 폐기물처리공사 ==== | D15: 0 | F15: =VLOOKUP(A15,Sheet1!$B$2:$G$761,4,0) -> 0 | G15: =TRUNC($D15*F15) -> 0 | H15: =VLOOKUP(A15,Sheet1!$B$2:$G$761,5,0) -> 0 | I15: =TRUNC($D15*H15) -> 0 | J15: =VLOOKUP(A15,Sheet1!$B$2:$G$761,6,0) -> 0 | K15: =TRUNC($D15*J15) -> 0
A16: BCB01Z16 | B16: ==== 이하 관보호 공사 ==== | D16: 0 | F16: =VLOOKUP(A16,Sheet1!$B$2:$G$761,4,0) -> 0 | G16: =TRUNC($D16*F16) -> 0 | H16: =VLOOKUP(A16,Sheet1!$B$2:$G$761,5,0) -> 0 | I16: =TRUNC($D16*H16) -> 0 | J16: =VLOOKUP(A16,Sheet1!$B$2:$G$761,6,0) -> 0 | K16: =TRUNC($D16*J16) -> 0
A17: BCB01Z17 | B17: ==== 이하 가설방음벽 공사 ==== | D17: 0 | F17: =VLOOKUP(A17,Sheet1!$B$2:$G$761,4,0) -> 0 | G17: =TRUNC($D17*F17) -> 0 | H17: =VLOOKUP(A17,Sheet1!$B$2:$G$761,5,0) -> 0 | I17: =TRUNC($D17*H17) -> 0 | J17: =VLOOKUP(A17,Sheet1!$B$2:$G$761,6,0) -> 0 | K17: =TRUNC($D17*J17) -> 0
A18: BCB01Z18 | B18: ==== 이하 TIE-CABLE 설치공사 ==== | D18: 0 | F18: =VLOOKUP(A18,Sheet1!$B$2:$G$761,4,0) -> 0 | G18: =TRUNC($D18*F18) -> 0 | H18: =VLOOKUP(A18,Sheet1!$B$2:$G$761,5,0) -> 0 | I18: =TRUNC($D18*H18) -> 0 | J18: =VLOOKUP(A18,Sheet1!$B$2:$G$761,6,0) -> 0 | K18: =TRUNC($D18*J18) -> 0
A19: BCB01Z19 | B19: ===이하 외부반입토 === | C19: 광명역세권==>현장(되메우기용) | D19: 23949 | E19: m3 | F19: =VLOOKUP(A19,Sheet1!$B$2:$G$761,4,0) -> 0 | G19: =TRUNC($D19*F19) -> 0 | H19: =VLOOKUP(A19,Sheet1!$B$2:$G$761,5,0) -> 0 | I19: =TRUNC($D19*H19) -> 0 | J19: =VLOOKUP(A19,Sheet1!$B$2:$G$761,6,0) -> 0 | K19: =TRUNC($D19*J19) -> 0
A20: BCB01Z23 | B20: ===이하 기계설비공사=== | D20: 0 | F20: =VLOOKUP(A20,Sheet1!$B$2:$G$761,4,0) -> 0 | G20: =TRUNC($D20*F20) -> 0 | H20: =VLOOKUP(A20,Sheet1!$B$2:$G$761,5,0) -> 0 | I20: =TRUNC($D20*H20) -> 0 | J20: =VLOOKUP(A20,Sheet1!$B$2:$G$761,6,0) -> 0 | K20: =TRUNC($D20*J20) -> 0
A21: BCB01Z36 | B21: 구조물잔토 외부반출 | C21: 별 산 | D21: 68637 | E21: m3 | F21: =VLOOKUP(A21,Sheet1!$B$2:$G$761,4,0) -> 0 | G21: =TRUNC($D21*F21) -> 0 | H21: =VLOOKUP(A21,Sheet1!$B$2:$G$761,5,0) -> 0 | I21: =TRUNC($D21*H21) -> 0 | J21: =VLOOKUP(A21,Sheet1!$B$2:$G$761,6,0) -> 0 | K21: =TRUNC($D21*J21) -> 0
A22: BCB01Z43 | B22: === 이하 부력방지 앵커공사=== | D22: 0 | F22: =VLOOKUP(A22,Sheet1!$B$2:$G$761,4,0) -> 0 | G22: =TRUNC($D22*F22) -> 0 | H22: =VLOOKUP(A22,Sheet1!$B$2:$G$761,5,0) -> 0 | I22: =TRUNC($D22*H22) -> 0 | J22: =VLOOKUP(A22,Sheet1!$B$2:$G$761,6,0) -> 0 | K22: =TRUNC($D22*J22) -> 0
A23: BCB01Z50 | B23: ===이하 H-PILE+토류공사=== | D23: 0 | F23: =VLOOKUP(A23,Sheet1!$B$2:$G$761,4,0) -> 0 | G23: =TRUNC($D23*F23) -> 0 | H23: =VLOOKUP(A23,Sheet1!$B$2:$G$761,5,0) -> 0 | I23: =TRUNC($D23*H23) -> 0 | J23: =VLOOKUP(A23,Sheet1!$B$2:$G$761,6,0) -> 0 | K23: =TRUNC($D23*J23) -> 0
A24: BCB01Z51 | B24: ===이하 어스앵카 공사=== | D24: 0 | F24: =VLOOKUP(A24,Sheet1!$B$2:$G$761,4,0) -> 0 | G24: =TRUNC($D24*F24) -> 0 | H24: =VLOOKUP(A24,Sheet1!$B$2:$G$761,5,0) -> 0 | I24: =TRUNC($D24*H24) -> 0 | J24: =VLOOKUP(A24,Sheet1!$B$2:$G$761,6,0) -> 0 | K24: =TRUNC($D24*J24) -> 0
A25: BCB01Z53 | B25: ===이하 차수공사(S.Q.J)=== | D25: 0 | F25: =VLOOKUP(A25,Sheet1!$B$2:$G$761,4,0) -> 0 | G25: =TRUNC($D25*F25) -> 0 | H25: =VLOOKUP(A25,Sheet1!$B$2:$G$761,5,0) -> 0 | I25: =TRUNC($D25*H25) -> 0 | J25: =VLOOKUP(A25,Sheet1!$B$2:$G$761,6,0) -> 0 | K25: =TRUNC($D25*J25) -> 0
A26: BCB01Z54 | B26: ===이하 계측관리=== | D26: 0 | F26: =VLOOKUP(A26,Sheet1!$B$2:$G$761,4,0) -> 0 | G26: =TRUNC($D26*F26) -> 0 | H26: =VLOOKUP(A26,Sheet1!$B$2:$G$761,5,0) -> 0 | I26: =TRUNC($D26*H26) -> 0 | J26: =VLOOKUP(A26,Sheet1!$B$2:$G$761,6,0) -> 0 | K26: =TRUNC($D26*J26) -> 0
A27: BCB01Z59 | B27: ===이하 공사중 안내표지판 === | D27: 0 | F27: =VLOOKUP(A27,Sheet1!$B$2:$G$761,4,0) -> 0 | G27: =TRUNC($D27*F27) -> 0 | H27: =VLOOKUP(A27,Sheet1!$B$2:$G$761,5,0) -> 0 | I27: =TRUNC($D27*H27) -> 0 | J27: =VLOOKUP(A27,Sheet1!$B$2:$G$761,6,0) -> 0 | K27: =TRUNC($D27*J27) -> 0
A28: BCB01Z77 | B28: ===이하 방음벽설치공사=== | D28: 0 | F28: =VLOOKUP(A28,Sheet1!$B$2:$G$761,4,0) -> 0 | G28: =TRUNC($D28*F28) -> 0 | H28: =VLOOKUP(A28,Sheet1!$B$2:$G$761,5,0) -> 0 | I28: =TRUNC($D28*H28) -> 0 | J28: =VLOOKUP(A28,Sheet1!$B$2:$G$761,6,0) -> 0 | K28: =TRUNC($D28*J28) -> 0
A29: BCB01Z78 | B29: ===이하 수목이식공사 === | C29: 현장이식 | D29: 0 | F29: =VLOOKUP(A29,Sheet1!$B$2:$G$761,4,0) -> 0 | G29: =TRUNC($D29*F29) -> 0 | H29: =VLOOKUP(A29,Sheet1!$B$2:$G$761,5,0) -> 0 | I29: =TRUNC($D29*H29) -> 0 | J29: =VLOOKUP(A29,Sheet1!$B$2:$G$761,6,0) -> 0 | K29: =TRUNC($D29*J29) -> 0
A30: BCB01Z79 | B30: ===이하 수목이식공사 === | C30: 현장-->가식장 | D30: 0 | F30: =VLOOKUP(A30,Sheet1!$B$2:$G$761,4,0) -> 0 | G30: =TRUNC($D30*F30) -> 0 | H30: =VLOOKUP(A30,Sheet1!$B$2:$G$761,5,0) -> 0 | I30: =TRUNC($D30*H30) -> 0 | J30: =VLOOKUP(A30,Sheet1!$B$2:$G$761,6,0) -> 0 | K30: =TRUNC($D30*J30) -> 0
A31: BCB01Z81 | B31: ===이하 수목이식공사 === | C31: 가식장-->현장 | D31: 0 | F31: =VLOOKUP(A31,Sheet1!$B$2:$G$761,4,0) -> 0 | G31: =TRUNC($D31*F31) -> 0 | H31: =VLOOKUP(A31,Sheet1!$B$2:$G$761,5,0) -> 0 | I31: =TRUNC($D31*H31) -> 0 | J31: =VLOOKUP(A31,Sheet1!$B$2:$G$761,6,0) -> 0 | K31: =TRUNC($D31*J31) -> 0
A32: BCB01Z87 | B32: 외부반입토 (사질토,되메우기토) | C32: 별 산 | D32: 23949 | E32: m3 | F32: =VLOOKUP(A32,Sheet1!$B$2:$G$761,4,0) -> 0 | G32: =TRUNC($D32*F32) -> 0 | H32: =VLOOKUP(A32,Sheet1!$B$2:$G$761,5,0) -> 0 | I32: =TRUNC($D32*H32) -> 0 | J32: =VLOOKUP(A32,Sheet1!$B$2:$G$761,6,0) -> 0 | K32: =TRUNC($D32*J32) -> 0
A33: BCB01Z93 | B33: ===이하 방음벽 기초공사=== | D33: 0 | F33: =VLOOKUP(A33,Sheet1!$B$2:$G$761,4,0) -> 0 | G33: =TRUNC($D33*F33) -> 0 | H33: =VLOOKUP(A33,Sheet1!$B$2:$G$761,5,0) -> 0 | I33: =TRUNC($D33*H33) -> 0 | J33: =VLOOKUP(A33,Sheet1!$B$2:$G$761,6,0) -> 0 | K33: =TRUNC($D33*J33) -> 0
A34: BCB01Z96 | B34: ===이하 준공도서=== | D34: 0 | F34: =VLOOKUP(A34,Sheet1!$B$2:$G$761,4,0) -> 0 | G34: =TRUNC($D34*F34) -> 0 | H34: =VLOOKUP(A34,Sheet1!$B$2:$G$761,5,0) -> 0 | I34: =TRUNC($D34*H34) -> 0 | J34: =VLOOKUP(A34,Sheet1!$B$2:$G$761,6,0) -> 0 | K34: =TRUNC($D34*J34) -> 0
A35: BCB01ZA2 | B35: ===이하 신축이음=== | D35: 0 | F35: =VLOOKUP(A35,Sheet1!$B$2:$G$761,4,0) -> 0 | G35: =TRUNC($D35*F35) -> 0 | H35: =VLOOKUP(A35,Sheet1!$B$2:$G$761,5,0) -> 0 | I35: =TRUNC($D35*H35) -> 0 | J35: =VLOOKUP(A35,Sheet1!$B$2:$G$761,6,0) -> 0 | K35: =TRUNC($D35*J35) -> 0
A36: BCB01ZC3 | B36: ===이하 하수관준설공사=== | D36: 0 | F36: =VLOOKUP(A36,Sheet1!$B$2:$G$761,4,0) -> 0 | G36: =TRUNC($D36*F36) -> 0 | H36: =VLOOKUP(A36,Sheet1!$B$2:$G$761,5,0) -> 0 | I36: =TRUNC($D36*H36) -> 0 | J36: =VLOOKUP(A36,Sheet1!$B$2:$G$761,6,0) -> 0 | K36: =TRUNC($D36*J36) -> 0
A37: BCB01ZF1 | B37: 1. 배수펌프설치공사 | D37: 0 | F37: =VLOOKUP(A37,Sheet1!$B$2:$G$761,4,0) -> 0 | G37: =TRUNC($D37*F37) -> 0 | H37: =VLOOKUP(A37,Sheet1!$B$2:$G$761,5,0) -> 0 | I37: =TRUNC($D37*H37) -> 0 | J37: =VLOOKUP(A37,Sheet1!$B$2:$G$761,6,0) -> 0 | K37: =TRUNC($D37*J37) -> 0
A38: BCB01ZF2 | B38: 1). 환기설비공사 | D38: 0 | F38: =VLOOKUP(A38,Sheet1!$B$2:$G$761,4,0) -> 0 | G38: =TRUNC($D38*F38) -> 0 | H38: =VLOOKUP(A38,Sheet1!$B$2:$G$761,5,0) -> 0 | I38: =TRUNC($D38*H38) -> 0 | J38: =VLOOKUP(A38,Sheet1!$B$2:$G$761,6,0) -> 0 | K38: =TRUNC($D38*J38) -> 0
A39: BCB01ZF3 | B39: 2). 배수설비공사 | D39: 0 | F39: =VLOOKUP(A39,Sheet1!$B$2:$G$761,4,0) -> 0 | G39: =TRUNC($D39*F39) -> 0 | H39: =VLOOKUP(A39,Sheet1!$B$2:$G$761,5,0) -> 0 | I39: =TRUNC($D39*H39) -> 0 | J39: =VLOOKUP(A39,Sheet1!$B$2:$G$761,6,0) -> 0 | K39: =TRUNC($D39*J39) -> 0
A40: BCB01ZF4 | B40: 3). 자동제어설치공사 | D40: 0 | F40: =VLOOKUP(A40,Sheet1!$B$2:$G$761,4,0) -> 0 | G40: =TRUNC($D40*F40) -> 0 | H40: =VLOOKUP(A40,Sheet1!$B$2:$G$761,5,0) -> 0 | I40: =TRUNC($D40*H40) -> 0 | J40: =VLOOKUP(A40,Sheet1!$B$2:$G$761,6,0) -> 0 | K40: =TRUNC($D40*J40) -> 0
A41: BCB01ZF5 | B41: 4). 소화설비공사 | D41: 0 | F41: =VLOOKUP(A41,Sheet1!$B$2:$G$761,4,0) -> 0 | G41: =TRUNC($D41*F41) -> 0 | H41: =VLOOKUP(A41,Sheet1!$B$2:$G$761,5,0) -> 0 | I41: =TRUNC($D41*H41) -> 0 | J41: =VLOOKUP(A41,Sheet1!$B$2:$G$761,6,0) -> 0 | K41: =TRUNC($D41*J41) -> 0
A42: BCB01ZF6 | B42: ①. 주자재비 | D42: 0 | F42: =VLOOKUP(A42,Sheet1!$B$2:$G$761,4,0) -> 0 | G42: =TRUNC($D42*F42) -> 0 | H42: =VLOOKUP(A42,Sheet1!$B$2:$G$761,5,0) -> 0 | I42: =TRUNC($D42*H42) -> 0 | J42: =VLOOKUP(A42,Sheet1!$B$2:$G$761,6,0) -> 0 | K42: =TRUNC($D42*J42) -> 0
A43: BCB01ZF7 | B43: ②. 공사자재비 | D43: 0 | F43: =VLOOKUP(A43,Sheet1!$B$2:$G$761,4,0) -> 0 | G43: =TRUNC($D43*F43) -> 0 | H43: =VLOOKUP(A43,Sheet1!$B$2:$G$761,5,0) -> 0 | I43: =TRUNC($D43*H43) -> 0 | J43: =VLOOKUP(A43,Sheet1!$B$2:$G$761,6,0) -> 0 | K43: =TRUNC($D43*J43) -> 0
A44: BCB01ZF8 | B44: ③. 설 치 비 | D44: 0 | F44: =VLOOKUP(A44,Sheet1!$B$2:$G$761,4,0) -> 0 | G44: =TRUNC($D44*F44) -> 0 | H44: =VLOOKUP(A44,Sheet1!$B$2:$G$761,5,0) -> 0 | I44: =TRUNC($D44*H44) -> 0 | J44: =VLOOKUP(A44,Sheet1!$B$2:$G$761,6,0) -> 0 | K44: =TRUNC($D44*J44) -> 0
A45: BCB01ZS0 | B45: 1. 소모자재비 | D45: 0 | F45: =VLOOKUP(A45,Sheet1!$B$2:$G$761,4,0) -> 0 | G45: =TRUNC($D45*F45) -> 0 | H45: =VLOOKUP(A45,Sheet1!$B$2:$G$761,5,0) -> 0 | I45: =TRUNC($D45*H45) -> 0 | J45: =VLOOKUP(A45,Sheet1!$B$2:$G$761,6,0) -> 0 | K45: =TRUNC($D45*J45) -> 0
A46: BCB01ZS1 | B46: 1). 지중경사계 | C46: 10개소 | D46: 0 | F46: =VLOOKUP(A46,Sheet1!$B$2:$G$761,4,0) -> 0 | G46: =TRUNC($D46*F46) -> 0 | H46: =VLOOKUP(A46,Sheet1!$B$2:$G$761,5,0) -> 0 | I46: =TRUNC($D46*H46) -> 0 | J46: =VLOOKUP(A46,Sheet1!$B$2:$G$761,6,0) -> 0 | K46: =TRUNC($D46*J46) -> 0
A47: BCB01ZS2 | B47: 2). 지하수위계 | C47: 10개소 | D47: 0 | F47: =VLOOKUP(A47,Sheet1!$B$2:$G$761,4,0) -> 0 | G47: =TRUNC($D47*F47) -> 0 | H47: =VLOOKUP(A47,Sheet1!$B$2:$G$761,5,0) -> 0 | I47: =TRUNC($D47*H47) -> 0 | J47: =VLOOKUP(A47,Sheet1!$B$2:$G$761,6,0) -> 0 | K47: =TRUNC($D47*J47) -> 0
A48: BCB01ZS3 | B48: 3). 변형률계 | C48: 10개소 | D48: 0 | F48: =VLOOKUP(A48,Sheet1!$B$2:$G$761,4,0) -> 0 | G48: =TRUNC($D48*F48) -> 0 | H48: =VLOOKUP(A48,Sheet1!$B$2:$G$761,5,0) -> 0 | I48: =TRUNC($D48*H48) -> 0 | J48: =VLOOKUP(A48,Sheet1!$B$2:$G$761,6,0) -> 0 | K48: =TRUNC($D48*J48) -> 0
A49: BCB01ZS4 | B49: 4). 하 중 계 | C49: 10개소 | D49: 0 | F49: =VLOOKUP(A49,Sheet1!$B$2:$G$761,4,0) -> 0 | G49: =TRUNC($D49*F49) -> 0 | H49: =VLOOKUP(A49,Sheet1!$B$2:$G$761,5,0) -> 0 | I49: =TRUNC($D49*H49) -> 0 | J49: =VLOOKUP(A49,Sheet1!$B$2:$G$761,6,0) -> 0 | K49: =TRUNC($D49*J49) -> 0
A50: BCB01ZS5 | B50: 5). 기울기계 | C50: 16개소 | D50: 0 | F50: =VLOOKUP(A50,Sheet1!$B$2:$G$761,4,0) -> 0 | G50: =TRUNC($D50*F50) -> 0 | H50: =VLOOKUP(A50,Sheet1!$B$2:$G$761,5,0) -> 0 | I50: =TRUNC($D50*H50) -> 0 | J50: =VLOOKUP(A50,Sheet1!$B$2:$G$761,6,0) -> 0 | K50: =TRUNC($D50*J50) -> 0
A51: BCB01ZS6 | B51: 6). 변형률계(오수관용) | C51: 3개소 | D51: 0 | F51: =VLOOKUP(A51,Sheet1!$B$2:$G$761,4,0) -> 0 | G51: =TRUNC($D51*F51) -> 0 | H51: =VLOOKUP(A51,Sheet1!$B$2:$G$761,5,0) -> 0 | I51: =TRUNC($D51*H51) -> 0 | J51: =VLOOKUP(A51,Sheet1!$B$2:$G$761,6,0) -> 0 | K51: =TRUNC($D51*J51) -> 0
A52: BCB01ZS7 | B52: 2. 설 치 비 | D52: 0 | F52: =VLOOKUP(A52,Sheet1!$B$2:$G$761,4,0) -> 0 | G52: =TRUNC($D52*F52) -> 0 | H52: =VLOOKUP(A52,Sheet1!$B$2:$G$761,5,0) -> 0 | I52: =TRUNC($D52*H52) -> 0 | J52: =VLOOKUP(A52,Sheet1!$B$2:$G$761,6,0) -> 0 | K52: =TRUNC($D52*J52) -> 0
A53: BCB01ZS8 | B53: 3. 자동화 계측시스템 | D53: 0 | F53: =VLOOKUP(A53,Sheet1!$B$2:$G$761,4,0) -> 0 | G53: =TRUNC($D53*F53) -> 0 | H53: =VLOOKUP(A53,Sheet1!$B$2:$G$761,5,0) -> 0 | I53: =TRUNC($D53*H53) -> 0 | J53: =VLOOKUP(A53,Sheet1!$B$2:$G$761,6,0) -> 0 | K53: =TRUNC($D53*J53) -> 0
A54: BCB01ZS9 | B54: 4. 천공 및 그라우팅 | D54: 0 | F54: =VLOOKUP(A54,Sheet1!$B$2:$G$761,4,0) -> 0 | G54: =TRUNC($D54*F54) -> 0 | H54: =VLOOKUP(A54,Sheet1!$B$2:$G$761,5,0) -> 0 | I54: =TRUNC($D54*H54) -> 0 | J54: =VLOOKUP(A54,Sheet1!$B$2:$G$761,6,0) -> 0 | K54: =TRUNC($D54*J54) -> 0
A55: BCB01ZT0 | B55: 5. 계측관리비 | D55: 0 | F55: =VLOOKUP(A55,Sheet1!$B$2:$G$761,4,0) -> 0 | G55: =TRUNC($D55*F55) -> 0 | H55: =VLOOKUP(A55,Sheet1!$B$2:$G$761,5,0) -> 0 | I55: =TRUNC($D55*H55) -> 0 | J55: =VLOOKUP(A55,Sheet1!$B$2:$G$761,6,0) -> 0 | K55: =TRUNC($D55*J55) -> 0
A56: BCB01ZY7 | B56: ===이하 구체공사=== | D56: 0 | F56: =VLOOKUP(A56,Sheet1!$B$2:$G$761,4,0) -> 0 | G56: =TRUNC($D56*F56) -> 0 | H56: =VLOOKUP(A56,Sheet1!$B$2:$G$761,5,0) -> 0 | I56: =TRUNC($D56*H56) -> 0 | J56: =VLOOKUP(A56,Sheet1!$B$2:$G$761,6,0) -> 0 | K56: =TRUNC($D56*J56) -> 0
A57: BGB10101 | B57: 흙의 물리시험 | C57: 함수비 | D57: 5 | E57: 회 | F57: =VLOOKUP(A57,Sheet1!$B$2:$G$761,4,0) -> 0 | G57: =TRUNC($D57*F57) -> 0 | H57: =VLOOKUP(A57,Sheet1!$B$2:$G$761,5,0) -> 0 | I57: =TRUNC($D57*H57) -> 0 | J57: =VLOOKUP(A57,Sheet1!$B$2:$G$761,6,0) -> 42 | K57: =TRUNC($D57*J57) -> 210
A58: BGB10121 | B58: 흙의 역학시험 | C58: 다짐 | D58: 1 | E58: 회 | F58: =VLOOKUP(A58,Sheet1!$B$2:$G$761,4,0) -> 0 | G58: =TRUNC($D58*F58) -> 0 | H58: =VLOOKUP(A58,Sheet1!$B$2:$G$761,5,0) -> 0 | I58: =TRUNC($D58*H58) -> 0 | J58: =VLOOKUP(A58,Sheet1!$B$2:$G$761,6,0) -> 2422 | K58: =TRUNC($D58*J58) -> 2422
A59: BGB10123 | B59: 흙의 역학시험 | C59: 현장밀도 | D59: 5 | E59: 회 | F59: =VLOOKUP(A59,Sheet1!$B$2:$G$761,4,0) -> 0 | G59: =TRUNC($D59*F59) -> 0 | H59: =VLOOKUP(A59,Sheet1!$B$2:$G$761,5,0) -> 0 | I59: =TRUNC($D59*H59) -> 0 | J59: =VLOOKUP(A59,Sheet1!$B$2:$G$761,6,0) -> 20 | K59: =TRUNC($D59*J59) -> 100
A60: BGB10161 | B60: 골재(부순골재 포함) 시험 | C60: 체가름 | D60: 7 | E60: 회 | F60: =VLOOKUP(A60,Sheet1!$B$2:$G$761,4,0) -> 0 | G60: =TRUNC($D60*F60) -> 0 | H60: =VLOOKUP(A60,Sheet1!$B$2:$G$761,5,0) -> 0 | I60: =TRUNC($D60*H60) -> 0 | J60: =VLOOKUP(A60,Sheet1!$B$2:$G$761,6,0) -> 619 | K60: =TRUNC($D60*J60) -> 4333
A61: BGB10166 | B61: 골재(부순골재 포함) 시험 | C61: 안정성(굵은골재) | D61: 1 | E61: 회 | F61: =VLOOKUP(A61,Sheet1!$B$2:$G$761,4,0) -> 0 | G61: =TRUNC($D61*F61) -> 0 | H61: =VLOOKUP(A61,Sheet1!$B$2:$G$761,5,0) -> 0 | I61: =TRUNC($D61*H61) -> 0 | J61: =VLOOKUP(A61,Sheet1!$B$2:$G$761,6,0) -> 73000 | K61: =TRUNC($D61*J61) -> 73000
A62: BGB10167 | B62: 골재(부순골재 포함) 시험 | C62: 마모율(굵은골재) | D62: 2 | E62: 회 | F62: =VLOOKUP(A62,Sheet1!$B$2:$G$761,4,0) -> 0 | G62: =TRUNC($D62*F62) -> 0 | H62: =VLOOKUP(A62,Sheet1!$B$2:$G$761,5,0) -> 0 | I62: =TRUNC($D62*H62) -> 0 | J62: =VLOOKUP(A62,Sheet1!$B$2:$G$761,6,0) -> 36000 | K62: =TRUNC($D62*J62) -> 72000
A63: BGB10173 | B63: 골재(부순골재 포함) 시험 | C63: 함수량 | D63: 13 | E63: 회 | F63: =VLOOKUP(A63,Sheet1!$B$2:$G$761,4,0) -> 0 | G63: =TRUNC($D63*F63) -> 0 | H63: =VLOOKUP(A63,Sheet1!$B$2:$G$761,5,0) -> 0 | I63: =TRUNC($D63*H63) -> 0 | J63: =VLOOKUP(A63,Sheet1!$B$2:$G$761,6,0) -> 42 | K63: =TRUNC($D63*J63) -> 546
A64: BGB10174 | B64: 골재(부순골재 포함) 시험 | C64: 다짐 | D64: 2 | E64: 회 | F64: =VLOOKUP(A64,Sheet1!$B$2:$G$761,4,0) -> 0 | G64: =TRUNC($D64*F64) -> 0 | H64: =VLOOKUP(A64,Sheet1!$B$2:$G$761,5,0) -> 0 | I64: =TRUNC($D64*H64) -> 0 | J64: =VLOOKUP(A64,Sheet1!$B$2:$G$761,6,0) -> 2422 | K64: =TRUNC($D64*J64) -> 4844
A65: BGB10175 | B65: 골재(부순골재 포함) 시험 | C65: 실내C.B.R | D65: 1 | E65: 회 | F65: =VLOOKUP(A65,Sheet1!$B$2:$G$761,4,0) -> 0 | G65: =TRUNC($D65*F65) -> 0 | H65: =VLOOKUP(A65,Sheet1!$B$2:$G$761,5,0) -> 0 | I65: =TRUNC($D65*H65) -> 0 | J65: =VLOOKUP(A65,Sheet1!$B$2:$G$761,6,0) -> 283000 | K65: =TRUNC($D65*J65) -> 283000
A66: BGB10176 | B66: 골재(부순골재 포함) 시험 | C66: 현장밀도 | D66: 13 | E66: 회 | F66: =VLOOKUP(A66,Sheet1!$B$2:$G$761,4,0) -> 0 | G66: =TRUNC($D66*F66) -> 0 | H66: =VLOOKUP(A66,Sheet1!$B$2:$G$761,5,0) -> 0 | I66: =TRUNC($D66*H66) -> 0 | J66: =VLOOKUP(A66,Sheet1!$B$2:$G$761,6,0) -> 20 | K66: =TRUNC($D66*J66) -> 260
A67: BGB10285 | B67: 화강석경계블럭(가공석) 시험 | C67: 휨강도 | D67: 1 | E67: 회 | F67: =VLOOKUP(A67,Sheet1!$B$2:$G$761,4,0) -> 0 | G67: =TRUNC($D67*F67) -> 0 | H67: =VLOOKUP(A67,Sheet1!$B$2:$G$761,5,0) -> 0 | I67: =TRUNC($D67*H67) -> 0 | J67: =VLOOKUP(A67,Sheet1!$B$2:$G$761,6,0) -> 32000 | K67: =TRUNC($D67*J67) -> 32000
A68: BGB10320 | B68: 수팽창지수재 시험 | C68: 경도, 수팽창율, 팽창후성상 | D68: 1 | E68: 조 | F68: =VLOOKUP(A68,Sheet1!$B$2:$G$761,4,0) -> 0 | G68: =TRUNC($D68*F68) -> 0 | H68: =VLOOKUP(A68,Sheet1!$B$2:$G$761,5,0) -> 0 | I68: =TRUNC($D68*H68) -> 0 | J68: =VLOOKUP(A68,Sheet1!$B$2:$G$761,6,0) -> 38000 | K68: =TRUNC($D68*J68) -> 38000
... A82: BGZ01003 | B82: 시멘트 하차 입고비 | C82: (보통인부/250포) | D82: 93084 | E82: 포 | F82: =VLOOKUP(A82,Sheet1!$B$2:$G$761,4,0) -> 0 | G82: =TRUNC($D82*F82) -> 0 | H82: =VLOOKUP(A82,Sheet1!$B$2:$G$761,5,0) -> 0 | I82: =TRUNC($D82*H82) -> 0 | J82: =VLOOKUP(A82,Sheet1!$B$2:$G$761,6,0) -> 210.34 | K82: =TRUNC($D82*J82) -> 19579288
A83: BGZ05000 | B83: 인력 하역료 | D83: 3414.4 | E83: t | F83: =VLOOKUP(A83,Sheet1!$B$2:$G$761,4,0) -> 0 | G83: =TRUNC($D83*F83) -> 0 | H83: =VLOOKUP(A83,Sheet1!$B$2:$G$761,5,0) -> 0 | I83: =TRUNC($D83*H83) -> 0 | J83: =VLOOKUP(A83,Sheet1!$B$2:$G$761,6,0) -> 1737 | K83: =TRUNC($D83*J83) -> 5930812
A84: LGA00068 | B84: 내선전공 | D84: 126 | E84: 인 | F84: =VLOOKUP(A84,Sheet1!$B$2:$G$761,4,0) -> 0 | G84: =TRUNC($D84*F84) -> 0 | H84: =VLOOKUP(A84,Sheet1!$B$2:$G$761,5,0) -> 88317 | I84: =TRUNC($D84*H84) -> 11127942 | J84: =VLOOKUP(A84,Sheet1!$B$2:$G$761,6,0) -> 0 | K84: =TRUNC($D84*J84) -> 0
A85: LGA00071 | B85: 저압케이블 전공 | D85: 24 | E85: 인 | F85: =VLOOKUP(A85,Sheet1!$B$2:$G$761,4,0) -> 0 | G85: =TRUNC($D85*F85) -> 0 | H85: =VLOOKUP(A85,Sheet1!$B$2:$G$761,5,0) -> 114656 | I85: =TRUNC($D85*H85) -> 2751744 | J85: =VLOOKUP(A85,Sheet1!$B$2:$G$761,6,0) -> 0 | K85: =TRUNC($D85*J85) -> 0
A86: LGA00073 | B86: 계장공 | D86: 8 | E86: 인 | F86: =VLOOKUP(A86,Sheet1!$B$2:$G$761,4,0) -> 0 | G86: =TRUNC($D86*F86) -> 0 | H86: =VLOOKUP(A86,Sheet1!$B$2:$G$761,5,0) -> 100234 | I86: =TRUNC($D86*H86) -> 801872 | J86: =VLOOKUP(A86,Sheet1!$B$2:$G$761,6,0) -> 0 | K86: =TRUNC($D86*J86) -> 0
A87: MAE50325 | B87: 코킹 | D87: 16.65 | E87: l | F87: =VLOOKUP(A87,Sheet1!$B$2:$G$761,4,0) -> 3130 | G87: =TRUNC($D87*F87) -> 52114 | H87: =VLOOKUP(A87,Sheet1!$B$2:$G$761,5,0) -> 0 | I87: =TRUNC($D87*H87) -> 0 | J87: =VLOOKUP(A87,Sheet1!$B$2:$G$761,6,0) -> 0 | K87: =TRUNC($D87*J87) -> 0
A88: MAE60001 | B88: 신축 이음재(BACK UP) | C88: D-20M/M | D88: 325.5 | E88: m | F88: =VLOOKUP(A88,Sheet1!$B$2:$G$761,4,0) -> 50 | G88: =TRUNC($D88*F88) -> 16275 | H88: =VLOOKUP(A88,Sheet1!$B$2:$G$761,5,0) -> 0 | I88: =TRUNC($D88*H88) -> 0 | J88: =VLOOKUP(A88,Sheet1!$B$2:$G$761,6,0) -> 0 | K88: =TRUNC($D88*J88) -> 0
A89: MAE60002 | B89: 신축 이음재(BACK UP) | C89: D-25M/M | D89: 79.47 | E89: m | F89: =VLOOKUP(A89,Sheet1!$B$2:$G$761,4,0) -> 77 | G89: =TRUNC($D89*F89) -> 6119 | H89: =VLOOKUP(A89,Sheet1!$B$2:$G$761,5,0) -> 0 | I89: =TRUNC($D89*H89) -> 0 | J89: =VLOOKUP(A89,Sheet1!$B$2:$G$761,6,0) -> 0 | K89: =TRUNC($D89*J89) -> 0
A90: MAO80007 | B90: 우레탄수지 | C90: 칩바닥재용 | D90: 378.9 | E90: kg | F90: =VLOOKUP(A90,Sheet1!$B$2:$G$761,4,0) -> 3200 | G90: =TRUNC($D90*F90) -> 1212480 | H90: =VLOOKUP(A90,Sheet1!$B$2:$G$761,5,0) -> 0 | I90: =TRUNC($D90*H90) -> 0 | J90: =VLOOKUP(A90,Sheet1!$B$2:$G$761,6,0) -> 0 | K90: =TRUNC($D90*J90) -> 0
A91: MAZ30005 | B91: 준공도서CD-ROM복제 | C91: 문서35000, 도면3000면당 | D91: 3 | E91: 장 | F91: =VLOOKUP(A91,Sheet1!$B$2:$G$761,4,0) -> 7000 | G91: =TRUNC($D91*F91) -> 21000 | H91: =VLOOKUP(A91,Sheet1!$B$2:$G$761,5,0) -> 0 | I91: =TRUNC($D91*H91) -> 0 | J91: =VLOOKUP(A91,Sheet1!$B$2:$G$761,6,0) -> 0 | K91: =TRUNC($D91*J91) -> 0
A92: MAZ30007 | B92: 준공도서(문서) 제작 | C92: SCANNING 및 INDEX | D92: 2235 | E92: 매 | F92: =VLOOKUP(A92,Sheet1!$B$2:$G$761,4,0) -> 200 | G92: =TRUNC($D92*F92) -> 447000 | H92: =VLOOKUP(A92,Sheet1!$B$2:$G$761,5,0) -> 0 | I92: =TRUNC($D92*H92) -> 0 | J92: =VLOOKUP(A92,Sheet1!$B$2:$G$761,6,0) -> 0 | K92: =TRUNC($D92*J92) -> 0
A93: MAZ30008 | B93: 준공도서(도면) 제작 | C93: SCANNING 및 INDEX | D93: 309 | E93: 매 | F93: =VLOOKUP(A93,Sheet1!$B$2:$G$761,4,0) -> 900 | G93: =TRUNC($D93*F93) -> 278100 | H93: =VLOOKUP(A93,Sheet1!$B$2:$G$761,5,0) -> 0 | I93: =TRUNC($D93*H93) -> 0 | J93: =VLOOKUP(A93,Sheet1!$B$2:$G$761,6,0) -> 0 | K93: =TRUNC($D93*J93) -> 0
A94: MAZ30009 | B94: 준공도서(문서) 제작 | C94: INDEX (출력자료,이미지파일 제공시) | D94: 2235 | E94: 매 | F94: =VLOOKUP(A94,Sheet1!$B$2:$G$761,4,0) -> 110 | G94: =TRUNC($D94*F94) -> 245850 | H94: =VLOOKUP(A94,Sheet1!$B$2:$G$761,5,0) -> 0 | I94: =TRUNC($D94*H94) -> 0 | J94: =VLOOKUP(A94,Sheet1!$B$2:$G$761,6,0) -> 0 | K94: =TRUNC($D94*J94) -> 0
A95: MCA50424 | B95: 수팽창고무지수판(구조물용) | C95: 20X20MM | D95: 3113.89 | E95: m | F95: =VLOOKUP(A95,Sheet1!$B$2:$G$761,4,0) -> 3800 | G95: =TRUNC($D95*F95) -> 11832782 | H95: =VLOOKUP(A95,Sheet1!$B$2:$G$761,5,0) -> 0 | I95: =TRUNC($D95*H95) -> 0 | J95: =VLOOKUP(A95,Sheet1!$B$2:$G$761,6,0) -> 0 | K95: =TRUNC($D95*J95) -> 0
A96: MCA50512 | B96: PVC 지수판 | C96: 200X5(CC형) | D96: 1524.44 | E96: m | F96: =VLOOKUP(A96,Sheet1!$B$2:$G$761,4,0) -> 2400 | G96: =TRUNC($D96*F96) -> 3658656 | H96: =VLOOKUP(A96,Sheet1!$B$2:$G$761,5,0) -> 0 | I96: =TRUNC($D96*H96) -> 0 | J96: =VLOOKUP(A96,Sheet1!$B$2:$G$761,6,0) -> 0 | K96: =TRUNC($D96*J96) -> 0
A97: MCD20918 | B97: 흄관용 고무링 | C97: D- 300 | D97: 143 | E97: 개 | F97: =VLOOKUP(A97,Sheet1!$B$2:$G$761,4,0) -> 1800 | G97: =TRUNC($D97*F97) -> 257400 | H97: =VLOOKUP(A97,Sheet1!$B$2:$G$761,5,0) -> 0 | I97: =TRUNC($D97*H97) -> 0 | J97: =VLOOKUP(A97,Sheet1!$B$2:$G$761,6,0) -> 0 | K97: =TRUNC($D97*J97) -> 0
A98: MCD20930 | B98: 흄관용 고무링 | C98: D- 600 | D98: 49 | E98: 개 | F98: =VLOOKUP(A98,Sheet1!$B$2:$G$761,4,0) -> 3100 | G98: =TRUNC($D98*F98) -> 151900 | H98: =VLOOKUP(A98,Sheet1!$B$2:$G$761,5,0) -> 0 | I98: =TRUNC($D98*H98) -> 0 | J98: =VLOOKUP(A98,Sheet1!$B$2:$G$761,6,0) -> 0 | K98: =TRUNC($D98*J98) -> 0
A99: MCF10313 | B99: 아스콘 | C99: # 78(표층용) | D99: 4385.2 | E99: t | F99: =VLOOKUP(A99,Sheet1!$B$2:$G$761,4,0) -> 39945 | G99: =TRUNC($D99*F99) -> 175166814 | H99: =VLOOKUP(A99,Sheet1!$B$2:$G$761,5,0) -> 0 | I99: =TRUNC($D99*H99) -> 0 | J99: =VLOOKUP(A99,Sheet1!$B$2:$G$761,6,0) -> 0 | K99: =TRUNC($D99*J99) -> 0
... A178: QAJ48671 | B178: 보조기층재운반 | C178: L = 15.2 KM | D178: 19607.88 | E178: m3 | F178: =VLOOKUP(A178,Sheet1!$B$2:$G$761,4,0) -> 3276 | G178: =TRUNC($D178*F178) -> 64235414 | H178: =VLOOKUP(A178,Sheet1!$B$2:$G$761,5,0) -> 1780 | I178: =TRUNC($D178*H178) -> 34902026 | J178: =VLOOKUP(A178,Sheet1!$B$2:$G$761,6,0) -> 2074 | K178: =TRUNC($D178*J178) -> 40666743
A179: QBG15042 | B179: 콤팩터 다짐4회 (보통) | D179: 1366.07 | E179: a | F179: =VLOOKUP(A179,Sheet1!$B$2:$G$761,4,0) -> 2464 | G179: =TRUNC($D179*F179) -> 3365996 | H179: =VLOOKUP(A179,Sheet1!$B$2:$G$761,5,0) -> 20116 | I179: =TRUNC($D179*H179) -> 27479864 | J179: =VLOOKUP(A179,Sheet1!$B$2:$G$761,6,0) -> 660 | K179: =TRUNC($D179*J179) -> 901606
A180: QCZZ0021 | B180: 집토(콘크리트,블럭류) | C180: 백호 | D180: 825.65 | E180: m3 | F180: =VLOOKUP(A180,Sheet1!$B$2:$G$761,4,0) -> 951 | G180: =TRUNC($D180*F180) -> 785193 | H180: =VLOOKUP(A180,Sheet1!$B$2:$G$761,5,0) -> 718 | I180: =TRUNC($D180*H180) -> 592816 | J180: =VLOOKUP(A180,Sheet1!$B$2:$G$761,6,0) -> 771 | K180: =TRUNC($D180*J180) -> 636576
A181: QCZZ0022 | B181: 집토 (아스콘) | C181: 백호 | D181: 4952.91 | E181: m3 | F181: =VLOOKUP(A181,Sheet1!$B$2:$G$761,4,0) -> 747 | G181: =TRUNC($D181*F181) -> 3699823 | H181: =VLOOKUP(A181,Sheet1!$B$2:$G$761,5,0) -> 564 | I181: =TRUNC($D181*H181) -> 2793441 | J181: =VLOOKUP(A181,Sheet1!$B$2:$G$761,6,0) -> 605 | K181: =TRUNC($D181*J181) -> 2996510
A182: QCZZ0050 | B182: 보도블럭철거 | C182: 백호우1.0M3 | D182: 348.18 | E182: m3 | F182: =VLOOKUP(A182,Sheet1!$B$2:$G$761,4,0) -> 676 | G182: =TRUNC($D182*F182) -> 235369 | H182: =VLOOKUP(A182,Sheet1!$B$2:$G$761,5,0) -> 510 | I182: =TRUNC($D182*H182) -> 177571 | J182: =VLOOKUP(A182,Sheet1!$B$2:$G$761,6,0) -> 548 | K182: =TRUNC($D182*J182) -> 190802
A183: QJC10010 | B183: 준설기 세정수 공급 | C183: 물탱크 5500 | D183: 46 | E183: m3 | F183: =VLOOKUP(A183,Sheet1!$B$2:$G$761,4,0) -> 690 | G183: =TRUNC($D183*F183) -> 31740 | H183: =VLOOKUP(A183,Sheet1!$B$2:$G$761,5,0) -> 2189 | I183: =TRUNC($D183*H183) -> 100694 | J183: =VLOOKUP(A183,Sheet1!$B$2:$G$761,6,0) -> 1158 | K183: =TRUNC($D183*J183) -> 53268
A184: QJZ10010 | B184: 하수관 준설 | C184: 흡입식 | D184: 23 | E184: m3 | F184: =VLOOKUP(A184,Sheet1!$B$2:$G$761,4,0) -> 5642 | G184: =TRUNC($D184*F184) -> 129766 | H184: =VLOOKUP(A184,Sheet1!$B$2:$G$761,5,0) -> 18490 | I184: =TRUNC($D184*H184) -> 425270 | J184: =VLOOKUP(A184,Sheet1!$B$2:$G$761,6,0) -> 40010 | K184: =TRUNC($D184*J184) -> 920230
A185: QMA00001 | B185: 중기 적재적하비 | D185: 14 | E185: 회 | F185: =VLOOKUP(A185,Sheet1!$B$2:$G$761,4,0) -> 5642 | G185: =TRUNC($D185*F185) -> 78988 | H185: =VLOOKUP(A185,Sheet1!$B$2:$G$761,5,0) -> 18490 | I185: =TRUNC($D185*H185) -> 258860 | J185: =VLOOKUP(A185,Sheet1!$B$2:$G$761,6,0) -> 40010 | K185: =TRUNC($D185*J185) -> 560140
A186: QMA00002 | B186: 트럭 트레일러 | C186: L = 26.7 KM | D186: 14 | E186: 회 | F186: =VLOOKUP(A186,Sheet1!$B$2:$G$761,4,0) -> 59878 | G186: =TRUNC($D186*F186) -> 838292 | H186: =VLOOKUP(A186,Sheet1!$B$2:$G$761,5,0) -> 60246 | I186: =TRUNC($D186*H186) -> 843444 | J186: =VLOOKUP(A186,Sheet1!$B$2:$G$761,6,0) -> 39223 | K186: =TRUNC($D186*J186) -> 549122
A187: QMA00003 | B187: 덤프트럭 | C187: L = 26.7 KM | D187: 1 | E187: 회 | F187: =VLOOKUP(A187,Sheet1!$B$2:$G$761,4,0) -> 33505 | G187: =TRUNC($D187*F187) -> 33505 | H187: =VLOOKUP(A187,Sheet1!$B$2:$G$761,5,0) -> 49260 | I187: =TRUNC($D187*H187) -> 49260 | J187: =VLOOKUP(A187,Sheet1!$B$2:$G$761,6,0) -> 25810 | K187: =TRUNC($D187*J187) -> 25810
A188: QMA00004 | B188: 크레인(트럭) | C188: L = 26.7 KM | D188: 4 | E188: 회 | F188: =VLOOKUP(A188,Sheet1!$B$2:$G$761,4,0) -> 16279 | G188: =TRUNC($D188*F188) -> 65116 | H188: =VLOOKUP(A188,Sheet1!$B$2:$G$761,5,0) -> 38977 | I188: =TRUNC($D188*H188) -> 155908 | J188: =VLOOKUP(A188,Sheet1!$B$2:$G$761,6,0) -> 79849 | K188: =TRUNC($D188*J188) -> 319396
A189: QMA00005 | B189: 페이로더 (타이어) | C189: L = 26.7 KM | D189: 1 | E189: 회 | F189: =VLOOKUP(A189,Sheet1!$B$2:$G$761,4,0) -> 40386 | G189: =TRUNC($D189*F189) -> 40386 | H189: =VLOOKUP(A189,Sheet1!$B$2:$G$761,5,0) -> 38977 | I189: =TRUNC($D189*H189) -> 38977 | J189: =VLOOKUP(A189,Sheet1!$B$2:$G$761,6,0) -> 44476 | K189: =TRUNC($D189*J189) -> 44476
A190: QMA00006 | B190: MOTOR GRADER | C190: L = 26.7 KM | D190: 1 | E190: 회 | F190: =VLOOKUP(A190,Sheet1!$B$2:$G$761,4,0) -> 48841 | G190: =TRUNC($D190*F190) -> 48841 | H190: =VLOOKUP(A190,Sheet1!$B$2:$G$761,5,0) -> 38977 | I190: =TRUNC($D190*H190) -> 38977 | J190: =VLOOKUP(A190,Sheet1!$B$2:$G$761,6,0) -> 38583 | K190: =TRUNC($D190*J190) -> 38583
A191: SCZ00001 | B191: 고속도로 통행료 | C191: 능해IC<->광명IC | D191: 565.23 | E191: 회 | F191: =VLOOKUP(A191,Sheet1!$B$2:$G$761,4,0) -> 909 | G191: =TRUNC($D191*F191) -> 513794 | H191: =VLOOKUP(A191,Sheet1!$B$2:$G$761,5,0) -> 0 | I191: =TRUNC($D191*H191) -> 0 | J191: =VLOOKUP(A191,Sheet1!$B$2:$G$761,6,0) -> 0 | K191: =TRUNC($D191*J191) -> 0
...

Sheet Sheet1
A1: gs_nm | B1: ilwi_cd | C1: v_nm | D1: v_gyukuk | E1: jajaebi | F1: ingunbi | G1: kyoungbi | H1: sul_cd | I1: unban_cd | J1: gs_nm | K1: compute_0015 | L1: nm | M1: gun_gubun
A2: 토공사 | B2: BCB01010 | C2: ( 절 토 ) ---- | H2: 00000 | I2: 00 | J2: 대지조성공사 | L2: 도시기반시설공사(택지개발) | M2: H | N2: =+E2+F2+G2 -> 0
A3: 토공사 | B3: QAD31212 | C3: 절취 및 상차(사질토) | D3: 90도, 양호 | E3: 247 | F3: 186 | G3: 200 | H3: 00000 | I3: 00 | J3: 대지조성공사 | L3: 도시기반시설공사(택지개발) | M3: H | N3: =+E3+F3+G3 -> 633
A4: 토공사 | B4: SCZ00095 | C4: 줄파기 | D4: 보통토사 | E4: 0 | F4: 12756 | G4: 0 | H4: 00000 | I4: 00 | J4: 대지조성공사 | L4: 도시기반시설공사(택지개발) | M4: H | N4: =+E4+F4+G4 -> 12756
A5: 토공사 | B5: QAA22210 | C5: 집토 (사질토 ) | D5: 양호 | E5: 251 | F5: 155 | G5: 179 | H5: 00000 | I5: 00 | J5: 대지조성공사 | L5: 도시기반시설공사(택지개발) | M5: H | N5: =+E5+F5+G5 -> 585
A6: 토공사 | B6: QAH42210 | C6: 상차(산적사질토) | D6: 양호 | E6: 130 | F6: 125 | G6: 143 | H6: 00000 | I6: 00 | J6: 대지조성공사 | L6: 도시기반시설공사(택지개발) | M6: H | N6: =+E6+F6+G6 -> 398
A7: 토공사 | B7: BCB01020 | C7: ( 성 토 ) ---- | H7: 00000 | I7: 00 | J7: 대지조성공사 | L7: 도시기반시설공사(택지개발) | M7: H | N7: =+E7+F7+G7 -> 0
A8: 토공사 | B8: SCZT0002 | C8: 노반준비공 | D8: 중기,보통 | E8: 53 | F8: 59 | G8: 43 | H8: 00000 | I8: 00 | J8: 대지조성공사 | L8: 도시기반시설공사(택지개발) | M8: H | N8: =+E8+F8+G8 -> 155
A9: 토공사 | B9: SCZT0003 | C9: 노상 ( 다짐) | E9: 176 | F9: 226 | G9: 147 | H9: 00000 | I9: 00 | J9: 대지조성공사 | L9: 도시기반시설공사(택지개발) | M9: H | N9: =+E9+F9+G9 -> 549
A10: 토공사 | B10: QAI99990 | C10: 부설 | D10: 노상 (모터그레이더 3.6M) | E10: 76 | F10: 60 | G10: 60 | H10: 00000 | I10: 00 | J10: 대지조성공사 | L10: 도시기반시설공사(택지개발) | M10: H | N10: =+E10+F10+G10 -> 196
A11: 토공사 | B11: SCZT0004 | C11: 노체 (다짐) | E11: 117 | F11: 151 | G11: 98 | H11: 00000 | I11: 00 | J11: 대지조성공사 | L11: 도시기반시설공사(택지개발) | M11: H | N11: =+E11+F11+G11 -> 366
A12: 토공사 | B12: QAI99980 | C12: 부설 | D12: 노체 (모터그레이더 3.6M) | E12: 76 | F12: 60 | G12: 60 | H12: 00000 | I12: 00 | J12: 대지조성공사 | L12: 도시기반시설공사(택지개발) | M12: H | N12: =+E12+F12+G12 -> 196
A13: 토공사 | B13: BCB01Z09 | C13: ===이하 외부반출토=== | D13: 되메우기, 성토량 포함 | H13: 00000 | I13: 00 | J13: 대지조성공사 | L13: 도시기반시설공사(택지개발) | M13: H | N13: =+E13+F13+G13 -> 0
A14: 토공사 | B14: QAJ22671 | C14: 외부반출토 (성토부,현장==>역세권) | D14: L = 7.0 KM | E14: 1807 | F14: 982 | G14: 1144 | H14: 00000 | I14: 00 | J14: 대지조성공사 | L14: 도시기반시설공사(택지개발) | M14: H | N14: =+E14+F14+G14 -> 3933
A15: 토공사 | B15: QAJ12625 | C15: 절취반출토 (성토부, 현장==>역세권) | D15: L = 7.0 KM | E15: 1910 | F15: 1038 | G15: 1209 | H15: 00000 | I15: 00 | J15: 대지조성공사 | L15: 도시기반시설공사(택지개발) | M15: H | N15: =+E15+F15+G15 -> 4157
A16: 토공사 | B16: QAA26210 | C16: 운반토의 정지 (사질토 ) | D16: 양호 | E16: 68 | F16: 42 | G16: 48 | H16: 00000 | I16: 00 | J16: 대지조성공사 | L16: 도시기반시설공사(택지개발) | M16: H | N16: =+E16+F16+G16 -> 158
A17: 토공사 | B17: QAJ12621 | C17: 외부반출토 (절취토, 현장==>서창2지구) | D17: L = 17.2 KM | E17: 3849 | F17: 2091 | G17: 2436 | H17: 00000 | I17: 00 | J17: 대지조성공사 | L17: 도시기반시설공사(택지개발) | M17: H | N17: =+E17+F17+G17 -> 8376
A18: 토공사 | B18: BCB01Z36 | C18: 구조물잔토 외부반출 | D18: 별 산 | H18: 00000 | I18: 00 | J18: 대지조성공사 | L18: 도시기반시설공사(택지개발) | M18: H | N18: =+E18+F18+G18 -> 0
A19: 토공사 | B19: BCB01Z08 | C19: ===이하 외부반입토 === | D19: 광명역세권==>현장(성토,되메우기용) | H19: 00000 | I19: 00 | J19: 대지조성공사 | L19: 도시기반시설공사(택지개발) | M19: H | N19: =+E19+F19+G19 -> 0
A20: 토공사 | B20: QAH42210 | C20: 상차(산적사질토) | D20: 양호 | E20: 130 | F20: 125 | G20: 143 | H20: 00000 | I20: 00 | J20: 대지조성공사 | L20: 도시기반시설공사(택지개발) | M20: H | N20: =+E20+F20+G20 -> 398
A21: 토공사 | B21: QAJ22672 | C21: 외부반입토 (역세권==>현장) | D21: L = 7.0 KM | E21: 1807 | F21: 982 | G21: 1144 | H21: 00000 | I21: 00 | J21: 대지조성공사 | L21: 도시기반시설공사(택지개발) | M21: H | N21: =+E21+F21+G21 -> 3933
A22: 토공사 | B22: BCB01Z05 | C22: ===이하 토공사부대시설 === | H22: 00000 | I22: 00 | J22: 대지조성공사 | L22: 도시기반시설공사(택지개발) | M22: H | N22: =+E22+F22+G22 -> 0
A23: 토공사 | B23: UCA60410 | C23: 토공비탈규준틀 | D23: 성토고3.0M이상 | E23: 1664 | F23: 31447 | G23: 0 | H23: 00000 | I23: 00 | J23: 대지조성공사 | L23: 도시기반시설공사(택지개발) | M23: H | N23: =+E23+F23+G23 -> 33111
A24: 토공사 | B24: UCA60420 | C24: 토공수평규준틀 | E24: 736 | F24: 31447 | G24: 0 | H24: 00000 | I24: 00 | J24: 대지조성공사 | L24: 도시기반시설공사(택지개발) | M24: H | N24: =+E24+F24+G24 -> 32183
A25: 토공사 | B25: ULB60504 | C25: 잔디(줄떼) 식재 | D25: 0.3X0.15X0.03 | E25: 1925 | F25: 3984 | G25: 0 | H25: 00000 | I25: 00 | J25: 대지조성공사 | L25: 도시기반시설공사(택지개발) | M25: H | N25: =+E25+F25+G25 -> 5909
A26: 토공사 | B26: ULB60502 | C26: 잔디(평떼) 식재 | D26: 0.3X0.3X0.03 | E26: 3850 | F26: 3984 | G26: 0 | H26: 00000 | I26: 00 | J26: 대지조성공사 | L26: 도시기반시설공사(택지개발) | M26: H | N26: =+E26+F26+G26 -> 7834
A27: 토공사 | B27: BCB01Z15 | C27: ==== 이하 지장수목 폐기물처리공사 ==== | H27: 00000 | I27: 00 | J27: 대지조성공사 | L27: 도시기반시설공사(택지개발) | M27: H | N27: =+E27+F27+G27 -> 0
A28: 토공사 | B28: SCZJK440 | C28: 뿌리뽑기 | D28: 수경10CM이하 잡목100% | E28: 0 | F28: 76536 | G28: 0 | H28: 00000 | I28: 00 | J28: 대지조성공사 | L28: 도시기반시설공사(택지개발) | M28: H | N28: =+E28+F28+G28 -> 76536
A29: 토공사 | B29: SCZJK600 | C29: 집목(나무뿌리) | D29: 백호(0.7m3)+ 부착용집계 | E29: 891 | F29: 1132 | G29: 1234 | H29: 00000 | I29: 00 | J29: 대지조성공사 | L29: 도시기반시설공사(택지개발) | M29: H | N29: =+E29+F29+G29 -> 3257
A30: 지장물 철거공사 | B30: BCB01Z11 | C30: ===이하 토목구조물 철거공사=== | H30: 00000 | I30: 00 | J30: 대지조성공사 | L30: 도시기반시설공사(택지개발) | M30: H | N30: =+E30+F30+G30 -> 0
A31: 지장물 철거공사 | B31: SCZGJ212 | C31: 구조물헐기(소형브레이커+공기압축기) | D31: 철근구조물 | E31: 14580 | F31: 100452 | G31: 3827 | H31: 00000 | I31: 00 | J31: 대지조성공사 | L31: 도시기반시설공사(택지개발) | M31: H | N31: =+E31+F31+G31 -> 118859
A32: 지장물 철거공사 | B32: UCA12535 | C32: 구조물헐기(BREAKER) | D32: 철근구조물 30CM이상 | E32: 11384 | F32: 25981 | G32: 14029 | H32: 00000 | I32: 00 | J32: 대지조성공사 | L32: 도시기반시설공사(택지개발) | M32: H | N32: =+E32+F32+G32 -> 51394
A33: 지장물 철거공사 | B33: UCA12530 | C33: 구조물헐기(BREAKER) | D33: 철근구조물 30CM미만 | E33: 9865 | F33: 23650 | G33: 11737 | H33: 00000 | I33: 00 | J33: 대지조성공사 | L33: 도시기반시설공사(택지개발) | M33: H | N33: =+E33+F33+G33 -> 45252
A34: 지장물 철거공사 | B34: UCA12430 | C34: 구조물헐기(BREAKER) | D34: 무근구조물 30CM미만 | E34: 4145 | F34: 6352 | G34: 6249 | H34: 00000 | I34: 00 | J34: 대지조성공사 | L34: 도시기반시설공사(택지개발) | M34: H | N34: =+E34+F34+G34 -> 16746
A35: 지장물 철거공사 | B35: SCZJK190 | C35: 구조물헐기시 철근절단 | E35: 2092 | F35: 11725 | G35: 117 | H35: 00000 | I35: 00 | J35: 대지조성공사 | L35: 도시기반시설공사(택지개발) | M35: H | N35: =+E35+F35+G35 -> 13934
A36: 지장물 철거공사 | B36: QCZZ0021 | C36: 집토(콘크리트,블럭류) | D36: 백호 | E36: 951 | F36: 718 | G36: 771 | H36: 00000 | I36: 00 | J36: 대지조성공사 | L36: 도시기반시설공사(택지개발) | M36: H | N36: =+E36+F36+G36 -> 2440
A37: 지장물 철거공사 | B37: SCZJ0010 | C37: 절단용천공 | D37: D50, L=0.2m | E37: 2704 | F37: 5117 | G37: 780 | H37: 00000 | I37: 00 | J37: 대지조성공사 | L37: 도시기반시설공사(택지개발) | M37: H | N37: =+E37+F37+G37 -> 8601
A38: 지장물 철거공사 | B38: SCZJ0012 | C38: 절단용천공 | D38: D50, L=0.3m | E38: 4056 | F38: 7676 | G38: 1170 | H38: 00000 | I38: 00 | J38: 대지조성공사 | L38: 도시기반시설공사(택지개발) | M38: H | N38: =+E38+F38+G38 -> 12902
A39: 지장물 철거공사 | B39: SCZJ0014 | C39: 절단용천공 | D39: D50, L=0.35m | E39: 4732 | F39: 8955 | G39: 1365 | H39: 00000 | I39: 00 | J39: 대지조성공사 | L39: 도시기반시설공사(택지개발) | M39: H | N39: =+E39+F39+G39 -> 15052
A40: 지장물 철거공사 | B40: SCZGJ542 | C40: WHEEL SAW절단 | E40: 30375 | F40: 20250 | G40: 16875 | H40: 00000 | I40: 00 | J40: 대지조성공사 | L40: 도시기반시설공사(택지개발) | M40: H | N40: =+E40+F40+G40 -> 67500
A41: 지장물 철거공사 | B41: SCZGJ540 | C41: D.W.S 절단 | E41: 246456 | F41: 135434 | G41: 60526 | H41: 00000 | I41: 00 | J41: 대지조성공사 | L41: 도시기반시설공사(택지개발) | M41: H | N41: =+E41+F41+G41 -> 442416
A42: 지장물 철거공사 | B42: SCZJK502 | C42: 운반 및 적재 | D42: PL 1.72 (TRACK), 하수BOX철거, 불량 | E42: 1768 | F42: 1798 | G42: 2042 | H42: 00000 | I42: 00 | J42: 대지조성공사 | L42: 도시기반시설공사(택지개발) | M42: H | N42: =+E42+F42+G42 -> 5608
A43: 지장물 철거공사 | B43: SCZJK512 | C43: 지하차도부 폐콘크리트 상차 | D43: 무한궤도 크레인30TON+1.15M3 크램쉘 | E43: 574 | F43: 818 | G43: 1184 | H43: 00000 | I43: 00 | J43: 대지조성공사 | L43: 도시기반시설공사(택지개발) | M43: H | N43: =+E43+F43+G43 -> 2576
A44: 지장물 철거공사 | B44: UCL02020 | C44: 아스콘포장 절단 | D44: 포장카타기 | E44: 844 | F44: 915 | G44: 48 | H44: 00000 | I44: 00 | J44: 대지조성공사 | L44: 도시기반시설공사(택지개발) | M44: H | N44: =+E44+F44+G44 -> 1807
A45: 지장물 철거공사 | B45: SCZZ0031 | C45: 아스콘굴삭(BREAKER) | D45: 파쇄 | E45: 3650 | F45: 4330 | G45: 5752 | H45: 00000 | I45: 00 | J45: 대지조성공사 | L45: 도시기반시설공사(택지개발) | M45: H | N45: =+E45+F45+G45 -> 13732
A46: 지장물 철거공사 | B46: QCZZ0022 | C46: 집토 (아스콘) | D46: 백호 | E46: 747 | F46: 564 | G46: 605 | H46: 00000 | I46: 00 | J46: 대지조성공사 | L46: 도시기반시설공사(택지개발) | M46: H | N46: =+E46+F46+G46 -> 1916
A47: 지장물 철거공사 | B47: QCZZ0050 | C47: 보도블럭철거 | D47: 백호우1.0M3 | E47: 676 | F47: 510 | G47: 548 | H47: 00000 | I47: 00 | J47: 대지조성공사 | L47: 도시기반시설공사(택지개발) | M47: H | N47: =+E47+F47+G47 -> 1734
A48: 지장물 철거공사 | B48: SCZGJ400 | C48: 흄관철거(설치품의 50%) | D48: D-300MM | E48: 0 | F48: 11503 | G48: 0 | H48: 00000 | I48: 00 | J48: 대지조성공사 | L48: 도시기반시설공사(택지개발) | M48: H | N48: =+E48+F48+G48 -> 11503
A49: 지장물 철거공사 | B49: SCZGJ401 | C49: 흄관철거(설치품의 50%) | D49: D-450MM | E49: 636 | F49: 7796 | G49: 2343 | H49: 00000 | I49: 00 | J49: 대지조성공사 | L49: 도시기반시설공사(택지개발) | M49: H | N49: =+E49+F49+G49 -> 10775
A50: 지장물 철거공사 | B50: SCZGJ510 | C50: 방음벽철거 | D50: H=4.0m, B=2.0m | E50: 2976 | F50: 40935 | G50: 4734 | H50: 00000 | I50: 00 | J50: 대지조성공사 | L50: 도시기반시설공사(택지개발) | M50: H | N50: =+E50+F50+G50 -> 48645
A51: 지장물 철거공사 | B51: SCZGJ601 | C51: 난간 철거 | D51: H=1.1M | E51: 650 | F51: 4376 | G51: 0 | H51: 00000 | I51: 00 | J51: 대지조성공사 | L51: 도시기반시설공사(택지개발) | M51: H | N51: =+E51+F51+G51 -> 5026
A52: 지장물 철거공사 | B52: MGM60105 | C52: 고 자 재 | D52: 철(중량) | E52: 350000 | F52: 0 | G52: 0 | H52: 00000 | I52: 00 | J52: 대지조성공사 | L52: 도시기반시설공사(택지개발) | M52: H | N52: =+E52+F52+G52 -> 350000
A53: 지장물 철거공사 | B53: SCZJK322 | C53: 고 자 재 | D53: 스테인리스 | E53: 2000000 | F53: 0 | G53: 0 | H53: 00000 | I53: 00 | J53: 대지조성공사 | L53: 도시기반시설공사(택지개발) | M53: H | N53: =+E53+F53+G53 -> 2000000
A54: 지장물 철거공사 | B54: BCB01Z12 | C54: ===이하 공사중발생 폐기물처리=== | H54: 00000 | I54: 00 | J54: 대지조성공사 | L54: 도시기반시설공사(택지개발) | M54: H | N54: =+E54+F54+G54 -> 0
A55: 지장물 철거공사 | B55: UCA12530 | C55: 구조물헐기(BREAKER) | D55: 철근구조물 30CM미만 | E55: 9865 | F55: 23650 | G55: 11737 | H55: 00000 | I55: 00 | J55: 대지조성공사 | L55: 도시기반시설공사(택지개발) | M55: H | N55: =+E55+F55+G55 -> 45252
A56: 지장물 철거공사 | B56: UCA12430 | C56: 구조물헐기(BREAKER) | D56: 무근구조물 30CM미만 | E56: 4145 | F56: 6352 | G56: 6249 | H56: 00000 | I56: 00 | J56: 대지조성공사 | L56: 도시기반시설공사(택지개발) | M56: H | N56: =+E56+F56+G56 -> 16746
A57: 지장물 철거공사 | B57: QCZZ0021 | C57: 집토(콘크리트,블럭류) | D57: 백호 | E57: 951 | F57: 718 | G57: 771 | H57: 00000 | I57: 00 | J57: 대지조성공사 | L57: 도시기반시설공사(택지개발) | M57: H | N57: =+E57+F57+G57 -> 2440
A58: 지장물 철거공사 | B58: BCB01Z01 | C58: ===이하 폐기물반출 관리요원 === | H58: 00000 | I58: 00 | J58: 대지조성공사 | L58: 도시기반시설공사(택지개발) | M58: H | N58: =+E58+F58+G58 -> 0
A59: 지장물 철거공사 | B59: SCZ00055 | C59: 폐기물 반출감시 및 계근 관리 | D59: 인부 2인/일 | E59: 0 | F59: 121094 | G59: 0 | H59: 00000 | I59: 00 | J59: 대지조성공사 | L59: 도시기반시설공사(택지개발) | M59: H | N59: =+E59+F59+G59 -> 121094
A60: 배수공사 | B60: UCB04060 | C60: 흄관매설,소켓식 | D60: D-600MM,콘크리트기초(90도),보통토 | E60: 29854 | F60: 46774 | G60: 6327 | H60: 00000 | I60: 00 | J60: 대지조성공사 | L60: 도시기반시설공사(택지개발) | M60: H | N60: =+E60+F60+G60 -> 82955
A61: 배수공사 | B61: UCB05060 | C61: 접속흄관매설,소켓식 | D61: D-600MM,콘크리트기초(90도),보통토 | E61: 40127 | F61: 46774 | G61: 6327 | H61: 00000 | I61: 00 | J61: 대지조성공사 | L61: 도시기반시설공사(택지개발) | M61: H | N61: =+E61+F61+G61 -> 93228
A62: 배수공사 | B62: SCZBS000 | C62: 연락관 설치 | D62: D-300MM | E62: 13022 | F62: 28974 | G62: 0 | H62: 00000 | I62: 00 | J62: 대지조성공사 | L62: 도시기반시설공사(택지개발) | M62: H | N62: =+E62+F62+G62 -> 41996
A63: 배수공사 | B63: SCZBS120 | C63: 원형맨홀(pe거푸집),주철제뚜껑 | D63: D1200 (h=2.94m) | E63: 312658 | F63: 608676 | G63: 0 | H63: 00000 | I63: 00 | J63: 대지조성공사 | L63: 도시기반시설공사(택지개발) | M63: H | N63: =+E63+F63+G63 -> 921334
A64: 배수공사 | B64: SCZBS122 | C64: 원형맨홀(pe거푸집),칼라콘크리트뚜껑 | D64: D1200 (h=2.94m) | E64: 347658 | F64: 605649 | G64: 0 | H64: 00000 | I64: 00 | J64: 대지조성공사 | L64: 도시기반시설공사(택지개발) | M64: H | N64: =+E64+F64+G64 -> 953307
A65: 배수공사 | B65: SCZBS150 | C65: 원형맨홀(pe거푸집),주철제뚜껑 | D65: D1500 (h=2.67m) | E65: 333650 | F65: 753039 | G65: 0 | H65: 00000 | I65: 00 | J65: 대지조성공사 | L65: 도시기반시설공사(택지개발) | M65: H | N65: =+E65+F65+G65 -> 1086689
A66: 배수공사 | B66: SCZBS151 | C66: 원형맨홀(pe거푸집),칼라콘크리트뚜껑 | D66: D1500 (h=2.67m) | E66: 368650 | F66: 750012 | G66: 0 | H66: 00000 | I66: 00 | J66: 대지조성공사 | L66: 도시기반시설공사(택지개발) | M66: H | N66: =+E66+F66+G66 -> 1118662
A67: 배수공사 | B67: UCA64320 | C67: 잡석부설 | D67: 인력 | E67: 0 | F67: 36328 | G67: 0 | H67: 00000 | I67: 00 | J67: 대지조성공사 | L67: 도시기반시설공사(택지개발) | M67: H | N67: =+E67+F67+G67 -> 36328
A68: 배수공사 | B68: UCB52410 | C68: 콘크리트 빗물받이(일반용) | D68: 0.3X0.4X1.08 | E68: 38956 | F68: 102604 | G68: 0 | H68: 00000 | I68: 00 | J68: 대지조성공사 | L68: 도시기반시설공사(택지개발) | M68: H | N68: =+E68+F68+G68 -> 141560
A69: 배수공사 | B69: MCD20918 | C69: 흄관용 고무링 | D69: D- 300 | E69: 1800 | F69: 0 | G69: 0 | H69: 00000 | I69: 00 | J69: 대지조성공사 | L69: 도시기반시설공사(택지개발) | M69: H | N69: =+E69+F69+G69 -> 1800
A70: 배수공사 | B70: MCD20930 | C70: 흄관용 고무링 | D70: D- 600 | E70: 3100 | F70: 0 | G70: 0 | H70: 00000 | I70: 00 | J70: 대지조성공사 | L70: 도시기반시설공사(택지개발) | M70: H | N70: =+E70+F70+G70 -> 3100
A71: 배수공사 | B71: UAJ14481 | C71: 접속부몰탈바르기 (토목,조경) | E71: 0 | F71: 116825 | G71: 0 | H71: 00000 | I71: 00 | J71: 대지조성공사 | L71: 도시기반시설공사(택지개발) | M71: H | N71: =+E71+F71+G71 -> 116825
A72: 포장공사 | B72: UCP10210 | C72: 일반아스팔트포장 표층 | D72: 기계시공, T=7CM이하 | E72: 110 | F72: 245 | G72: 108 | H72: 00000 | I72: 00 | J72: 대지조성공사 | L72: 도시기반시설공사(택지개발) | M72: H | N72: =+E72+F72+G72 -> 463
A73: 포장공사 | B73: SCZPJ800 | C73: 일반아스팔트포장 표층 | D73: 기계시공, T=7CM이상 | E73: 221 | F73: 490 | G73: 217 | H73: 00000 | I73: 00 | J73: 대지조성공사 | L73: 도시기반시설공사(택지개발) | M73: H | N73: =+E73+F73+G73 -> 928
A74: 포장공사 | B74: SCZPJ900 | C74: 일반아스팔트포장 표층 덧씌우기 | D74: 기계시공, T=7CM이하 | E74: 110 | F74: 245 | G74: 108 | H74: 00000 | I74: 00 | J74: 대지조성공사 | L74: 도시기반시설공사(택지개발) | M74: H | N74: =+E74+F74+G74 -> 463
A75: 포장공사 | B75: UCP08110 | C75: ASPALT살포비(아스팔트디스트리뷰티 ) | D75: 택코팅 | E75: 116 | F75: 3 | G75: 1 | H75: 00000 | I75: 00 | J75: 대지조성공사 | L75: 도시기반시설공사(택지개발) | M75: H | N75: =+E75+F75+G75 -> 120
A76: 포장공사 | B76: MCF10313 | C76: 아스콘 | D76: # 78(표층용) | E76: 39945 | F76: 0 | G76: 0 | H76: 00000 | I76: 00 | J76: 대지조성공사 | L76: 도시기반시설공사(택지개발) | M76: H | N76: =+E76+F76+G76 -> 39945
A77: 포장공사 | B77: UCP10100 | C77: 일반아스팔트포장 중간층 | D77: 기계시공, T=7CM이하 | E77: 110 | F77: 245 | G77: 108 | H77: 00000 | I77: 00 | J77: 대지조성공사 | L77: 도시기반시설공사(택지개발) | M77: H | N77: =+E77+F77+G77 -> 463
A78: 포장공사 | B78: UCP08110 | C78: ASPALT살포비(아스팔트디스트리뷰티 ) | D78: 택코팅 | E78: 116 | F78: 3 | G78: 1 | H78: 00000 | I78: 00 | J78: 대지조성공사 | L78: 도시기반시설공사(택지개발) | M78: H | N78: =+E78+F78+G78 -> 120
A79: 포장공사 | B79: MCF10314 | C79: 아스콘 | D79: # 67(중간층용) | E79: 38500 | F79: 0 | G79: 0 | H79: 00000 | I79: 00 | J79: 대지조성공사 | L79: 도시기반시설공사(택지개발) | M79: H | N79: =+E79+F79+G79 -> 38500
A80: 포장공사 | B80: UCP10000 | C80: 포장하부 아스팔트 기층(BB층) | D80: T=10CM이상 | E80: 185 | F80: 338 | G80: 176 | H80: 00000 | I80: 00 | J80: 대지조성공사 | L80: 도시기반시설공사(택지개발) | M80: H | N80: =+E80+F80+G80 -> 699
A81: 포장공사 | B81: UCP08110 | C81: ASPALT살포비(아스팔트디스트리뷰티 ) | D81: 택코팅 | E81: 116 | F81: 3 | G81: 1 | H81: 00000 | I81: 00 | J81: 대지조성공사 | L81: 도시기반시설공사(택지개발) | M81: H | N81: =+E81+F81+G81 -> 120
A82: 포장공사 | B82: UCP08100 | C82: ASPALT살포비(아스팔트디스트리뷰티 ) | D82: 프라임코팅 | E82: 289 | F82: 3 | G82: 1 | H82: 00000 | I82: 00 | J82: 대지조성공사 | L82: 도시기반시설공사(택지개발) | M82: H | N82: =+E82+F82+G82 -> 293
A83: 포장공사 | B83: MCF10315 | C83: 아스콘 | D83: #467(기층용) | E83: 35772 | F83: 0 | G83: 0 | H83: 00000 | I83: 00 | J83: 대지조성공사 | L83: 도시기반시설공사(택지개발) | M83: H | N83: =+E83+F83+G83 -> 35772
... A104: 포장공사 | B104: UCP26110 | C104: 차선도색(실선,파선 일괄시공) | D104: 백색,상온기계식 | E104: 1082 | F104: 139 | G104: 27 | H104: 00000 | I104: 00 | J104: 대지조성공사 | L104: 도시기반시설공사(택지개발) | M104: H | N104: =+E104+F104+G104 -> 1248
A105: 지하 차도공사 | B105: BCB01ZY7 | C105: ===이하 구체공사=== | H105: 00000 | I105: 00 | J105: 대지조성공사 | L105: 도시기반시설공사(택지개발) | M105: H | N105: =+E105+F105+G105 -> 0
A106: 지하 차도공사 | B106: UAC31315 | C106: 펌프카타설(100M3이상, 철근구조물) (토목) | E106: 1274 | F106: 7311 | G106: 2719 | H106: 00000 | I106: 00 | J106: 대지조성공사 | L106: 도시기반시설공사(택지개발) | M106: H | N106: =+E106+F106+G106 -> 11304
A107: 지하 차도공사 | B107: UAC31305 | C107: 펌프카타설(100M3이상,무근구조물) (토목) | E107: 891 | F107: 6162 | G107: 2422 | H107: 00000 | I107: 00 | J107: 대지조성공사 | L107: 도시기반시설공사(택지개발) | M107: H | N107: =+E107+F107+G107 -> 9475
A108: 지하 차도공사 | B108: UAC31220 | C108: 레미콘타설(버림콘크리트) (토목,조경) | E108: 0 | F108: 30977 | G108: 0 | H108: 00000 | I108: 00 | J108: 대지조성공사 | L108: 도시기반시설공사(택지개발) | M108: H | N108: =+E108+F108+G108 -> 30977
A109: 지하 차도공사 | B109: UAC10351 | C109: 유로폼 (토목,조경) | D109: 바닥 | E109: 2621 | F109: 13228 | G109: 396 | H109: 00000 | I109: 00 | J109: 대지조성공사 | L109: 도시기반시설공사(택지개발) | M109: H | N109: =+E109+F109+G109 -> 16245
A110: 지하 차도공사 | B110: UAC10355 | C110: 유로폼 (토목,조경) | D110: 벽 | E110: 1766 | F110: 13228 | G110: 396 | H110: 00000 | I110: 00 | J110: 대지조성공사 | L110: 도시기반시설공사(택지개발) | M110: H | N110: =+E110+F110+G110 -> 15390
A111: 지하 차도공사 | B111: UAC10059 | C111: 거푸집 (토목,조경) | D111: 합판3회 | E111: 5398 | F111: 13722 | G111: 0 | H111: 00000 | I111: 00 | J111: 대지조성공사 | L111: 도시기반시설공사(택지개발) | M111: H | N111: =+E111+F111+G111 -> 19120
A112: 지하 차도공사 | B112: UAC10065 | C112: 거푸집 (토목,조경) | D112: 합판4회 | E112: 4704 | F112: 11657 | G112: 0 | H112: 00000 | I112: 00 | J112: 대지조성공사 | L112: 도시기반시설공사(택지개발) | M112: H | N112: =+E112+F112+G112 -> 16361
A113: 지하 차도공사 | B113: UAC10451 | C113: 문양거푸집 (토목,조경) | D113: 합판4회+문양스티로폴1회 | E113: 8265 | F113: 15816 | G113: 0 | H113: 00000 | I113: 00 | J113: 대지조성공사 | L113: 도시기반시설공사(택지개발) | M113: H | N113: =+E113+F113+G113 -> 24081
A114: 지하 차도공사 | B114: UAC10071 | C114: 거푸집 (토목,조경) | D114: 합판6회 | E114: 4066 | F114: 9325 | G114: 0 | H114: 00000 | I114: 00 | J114: 대지조성공사 | L114: 도시기반시설공사(택지개발) | M114: H | N114: =+E114+F114+G114 -> 13391
A115: 지하 차도공사 | B115: UAC20030 | C115: 철근가공 및 조립 (보통) | D115: 토목공사 | E115: 4485 | F115: 383228 | G115: 0 | H115: 00000 | I115: 00 | J115: 대지조성공사 | L115: 도시기반시설공사(택지개발) | M115: H | N115: =+E115+F115+G115 -> 387713
A116: 지하 차도공사 | B116: UAC20020 | C116: 철근가공 및 조립 (간단) | D116: 토목공사 | E116: 3450 | F116: 341273 | G116: 0 | H116: 00000 | I116: 00 | J116: 대지조성공사 | L116: 도시기반시설공사(택지개발) | M116: H | N116: =+E116+F116+G116 -> 344723
A117: 지하 차도공사 | B117: SCZLE105 | C117: 스페이셔 | D117: 슬래브 및 기초 | E117: 255 | F117: 12 | G117: 0 | H117: 00000 | I117: 00 | J117: 대지조성공사 | L117: 도시기반시설공사(택지개발) | M117: H | N117: =+E117+F117+G117 -> 267
A118: 지하 차도공사 | B118: SCZLE106 | C118: 스페이셔 | D118: 벽체 및 기둥 | E118: 33 | F118: 1 | G118: 0 | H118: 00000 | I118: 00 | J118: 대지조성공사 | L118: 도시기반시설공사(택지개발) | M118: H | N118: =+E118+F118+G118 -> 34
A119: 지하 차도공사 | B119: UAA20360 | C119: 강관틀 비계 (3개월) (토목,조경) | E119: 1032 | F119: 3249 | G119: 162 | H119: 00000 | I119: 00 | J119: 대지조성공사 | L119: 도시기반시설공사(택지개발) | M119: H | N119: =+E119+F119+G119 -> 4443
A120: 지하 차도공사 | B120: UAA25435 | C120: 강관동바리(교량구조물, H=4.2M)(토목) | E120: 7539 | F120: 244258 | G120: 0 | H120: 00000 | I120: 00 | J120: 대지조성공사 | L120: 도시기반시설공사(택지개발) | M120: H | N120: =+E120+F120+G120 -> 251797
...

Sheet Sheet2

Sheet Sheet3
